{"text_format":"1","workbook":"xlsx","n_sheets":23,"sheets":["HOME","Information & Refs.","Input & Summary","Linear Regression","Quadratic Regression","Broken Line","Broken Quadratic","Saturation Kinetics","Logistics, 3 Parameters","Logistics, 4 Parameters","RNB, Model 1","RNB, Model 2","Multiple Range Tests","Test Data Generator","BLL Graph","BLQ Graph","SK Graph","L3 Graph","L4 Graph","Com Graph","RNB1 Graph","RNB2 Graph","Sheet1"],"not_rendered":{"charts":33,"images":20,"macros":1,"external_links":0,"defined_names":313,"comments":0,"pivot_tables":0},"unopened":[{"sheet":"BLL Graph","index":14,"reason":"not_a_worksheet"},{"sheet":"BLQ Graph","index":15,"reason":"not_a_worksheet"},{"sheet":"SK Graph","index":16,"reason":"not_a_worksheet"},{"sheet":"L3 Graph","index":17,"reason":"not_a_worksheet"},{"sheet":"L4 Graph","index":18,"reason":"not_a_worksheet"},{"sheet":"Com Graph","index":19,"reason":"not_a_worksheet"},{"sheet":"RNB1 Graph","index":20,"reason":"not_a_worksheet"},{"sheet":"RNB2 Graph","index":21,"reason":"not_a_worksheet"}],"bounds":{"document_bytes":16777216,"sheet_cells":100000,"rows_first":2000,"rows_last":500,"rows_between":2000,"halvings":0,"cell_chars":16384,"cell_head_chars":4096},"cells_cut":0,"cells_raw":0,"read":"whole","date_system":"1900"}

{"sheet":"HOME","index":0,"n_rows":16,"n_cols":14,"rows_kept":16,"cut":false,"hidden":false,"merged":[]}
[]
[null,"NUTRITIONAL"]
[null,null,"RESPONSE",null,null,null,null,null,null,"Verson 1.3"]
[null,null,null,"MODELS"]
[]
[null,"A workbook to fit data from nutritional experiments to several models"]
[]
[]
[]
[null,"Dmitry Vedenov",null,null,"Department of Agricultural Economics",null,null,null,null,null,null,null,null,"vedenov@tamu.edu"]
[null,null,null,null,"Texas A&M University"]
[null,null,null,null,"College Station, TX 77843"]
[]
[null,"Gene Pesti",null,null,"Department of Poultry Science",null,null,null,null,null,null,null,null,"gpesti@uga.edu"]
[null,null,null,null,"The University of Georgia"]
[null,null,null,null,"Athens, Georgia 30602"]

{"sheet":"Information & Refs.","index":1,"n_rows":162,"n_cols":6,"rows_kept":162,"cut":false,"hidden":false,"merged":[[79,1,80,12],[84,1,85,12],[86,1,87,12],[98,1,99,12],[100,1,101,12],[96,1,97,12],[54,1,55,12],[56,1,57,12],[58,1,59,12],[66,1,67,12],[74,1,75,12],[7,5,14,9],[122,1,123,12],[124,1,125,12],[126,1,127,12],[114,1,115,12],[17,5,24,10],[102,1,103,12],[104,1,105,12],[88,1,89,12],[90,1,91,12],[92,1,93,12],[94,1,95,12],[116,1,117,12],[118,1,119,12],[50,1,51,12],[52,1,53,12],[161,1,162,12],[43,1,44,12],[151,1,152,12],[153,1,154,12],[155,1,156,12],[157,1,158,12],[143,1,144,12],[145,1,146,12],[147,1,148,12],[149,1,150,12],[135,1,136,12],[137,1,138,12],[139,1,140,12],[112,1,113,12],[131,1,132,12],[133,1,134,12],[141,1,142,12],[128,1,129,12],[120,1,121,12],[106,1,107,12],[159,1,160,12],[108,1,109,12],[110,1,111,12]]}
[]
[null,"The Nutritional Response Models workbook consists of 21 individual worksheets:"]
[]
[null,null,"Worksheets",null,null,"Content"]
[null,null,"HOME ",null,null,"Title Page"]
[null,null,"Information",null,null,"This Page"]
[null,null,"Input & Summary",null,null,"Main Data Input Page and Summary of Model Fits"]
[null,null,"Broken Line",null,null,"Individual Model Pages"]
[null,null,"Broken Quadratic"]
[null,null,"Saturation Kinetics"]
[null,null,"Logistics, 3 Parameters"]
[null,null,"Logistics, 4 Parameters"]
[null,null,"Compartmental"]
[null,null,"RNB, Model 1"]
[null,null,"RNB, Model 2"]
[null,null,"Multiple Range Tests",null,null,"Warning"]
[null,null,"Test Data Generator",null,null,"Random Data Generator for each of the models"]
[null,null,"BLL Graph",null,null,"Black and White Graphs of the Individual Models for Printing.  If the Axes are Set the Same, they serve nicely for comparing the models.  "]
[null,null,"BLQ Graph"]
[null,null,"SK Graph"]
[null,null,"L3 Graph"]
[null,null,"L4 Graph"]
[null,null,"Com Graph"]
[null,null,"RNB1 Graph"]
[null,null,"RNB2 Graph"]
[]
[null,"Up to 100 response points can be entered into the Input & Summary worksheet, where the data is automatically "]
[null,null,"transferred to the other worksheets by pressing the \"Copy Data\" button."]
[]
[null,"After the data has been copied to all the worksheets, you must go to each worksheet to fit the corresponding model"]
[null,null,"Excel's Solver module is used to minimize the sum of squared errors for each model"]
[null,null,"Follow the instructions on each page. Solver is run automatically by pressing a corresponding button on each worksheet"]
[]
[null,"A comparison of model fits is shown on the \"Input & Summary\" worksheet"]
[]
[null,"Feel free to use and modify this workbook."]
[]
[null,"Please don't forget to reference this workbook in all future modifications."]
[]
[null,null,"REFERENCES"]
[]
[null,"Broken Line with Linear Ascending Segment (Broken Line) Model"]
[]
[null,"ROBBINS, K.R. (1986) A Method, SAS Program, and Examples for Fitting the Broken Line to Growth Data. University of Tennessee Research Report. 86-09. University of Tennessee Agricultural Experiment Station, Knoxville, TN USA."]
[]
[null,"Broken Line with Quadratic Ascending Segment (Broken Quadratic) Model"]
[]
[null,"Pesti, G. M.; Vedenov, D.; Cason, J. A.  & L. Billard (2009). A comparison of methods to estimate nutritional requirements from experimental data"]
[null,"BRITISH POULTRY SCIENCE  Volume: 50   Issue: 1   Pages: 16-32  "]
[]
[null,"MORGAN, P.H., MERCER, L.P. & FLODIN (1975) General model for nutritional responses in higher animals.  Proceedings of the National Academy of Sciences, USA 72: 4327-4331."]
[]
[null,"MERCER, L.P. (1982) The quantitative nutrient-response relationship.  Journal of Nutrition, 112: 560-566."]
[]
[null,"MERCER, L.P. (1992) The determination of nutritional requirements:  mathematical modeling of nutrient-response curves. Journal of Nutrition, 122: 706-708."]
[]
[null,"MERCER, L.P., FLODIN, N.W. & MORGAN, P.H. (1978) New methods for comparing the biological efficiency of alternative nutrient sources. Journal of Nutrition, 108: 1244-1249."]
[]
[null,"MICHAELIS, L & MENTEN, M (1913). Die Kinetik der Invertinwirkung, Biochemische Zeitschrift 49:333-369."]
[]
[null,"Logistics Model, 3 Parameter"]
[]
[null,"SAS. 1990. User’s Guide. Release 6.08. SAS Institute Inc., Cary, NC. "]
[]
[null,"Logistics Model, 4 Parameter"]
[]
[null,"GAHL, M.J., FINKE, M.D., CRENSHAW, T.D. & BENEVENGA, N.J. (1991) Use of a four parameter logistic equation to evaluate the response of growing rats to ten levels of each indispensable amino acid.  Journal of Nutrition 121:  1720-1729."]
[]
[null,"Compartmental Model"]
[]
[null,"SAS. 1990. User’s Guide. Release 6.08. SAS Institute Inc., Cary, NC. "]
[]
[null,"RNB, Model 1"]
[]
[null,"ROBBINS, K.R., NORTON, H.W. & BAKER, D.H. (1979) Estimation of nutrient requirements from growth data. Journal of Nutrition, 109: 1710-1714."]
[]
[]
[null,"RNB, Model 2"]
[]
[null,"ROBBINS, K.R., NORTON, H.W. & BAKER, D.H. (1979) Estimation of nutrient requirements from growth data. Journal of Nutrition, 109: 1710-1714."]
[]
[]
[null,"Multiple Range Tests"]
[]
[null,"BAKER, R.J. (1980) Multiple comparison tests. Canadian Journal of Plant Science, 60: 325-327. "]
[]
[null,"CARMER, S.G. & WALKER, W.M. (1982) Baby bear’s dilemma: a statistical tale. Agronomy Journal, 74: 122-124."]
[]
[null,"CHEW, V. (1976) Comparing treatment means: a compendium.  HortScience, 11: 348-357."]
[]
[null,"COUSENS, R. (1988) Misinterpretations of results in weed research through inappropriate use of statistics. Weed Research, 28: 281-289."]
[]
[null,"DAWKINS, H.C. (1983) Multiple comparisons misused: why so frequently in response-curve studies?  Biometrics, 39: 789-790."]
[]
[null,"DUNCAN, D.B. (1955) Multiple range and multiple F tests. Biometrics, 11: 1-42."]
[]
[null,"GATES, C.E. (1991) A user’s guide to misanalyzing planned experiments. HortScience, 26: 1262-1265."]
[]
[null,"GILL, J.L. (1973) Current status of multiple comparisons of means in designed experiments.  Journal of Dairy Science, 56: 973-977."]
[]
[null,"GILLIGAN, C.A. (1986) Use and misuse of the analysis of variance in plant pathology, in: INGRAM, D.S., & WILLIAMS, P.H. (Eds.) Advances in Plant Pathology, Vol. 5, pp. 225-261 (New York: Academic Press)."]
[]
[null,"HAYTER, A.J. (1984), A Proof of the Conjecture that the Tukey-Kramer Method is Conservative, The Annals of Statistics, 12, 61 - 75."]
[]
[null,"JSFA (1988) Recommendations of the Editorial Board on the use of statistics in papers submitted to JSFA Ð Guidelines to Authors (as formulated by A.W.A. Murray). Journal of the Science of Food and Agriculture, 42: unnumbered."]
[]
[null,"LITTLE, T.M. (1978) If Galileo published in HortScience.  HortScience, 13: 504-506."]
[]
[null,"LOWRY, S.R. (1992) Use and misuse of multiple comparisons in animal experiments. Journal of Animal Science, 70: 1971-1977."]
[]
[null,"MAINDONALD, J.H., & COX, N.R. (1984) Use of statistical evidence in some recent issues of DSIR agricultural journals. New Zealand Journal of Agricultural Research, 27: 597-610."]
[]
[null,"MIHAIL, J.D., & NIBLACK, T.L. (1991) Comparison of treatment means: a statistical fantasy.  Journal of Nematology, 23(4S): 557-563."]
[]
[null,"NELSON, L.A. & RAWLINGS, J.O. (1983) Ten common misuses of statistics in agronomic research and reporting.  Journal of Agronomic Education, 12: 100-105."]
[]
[null,"PEARCE, S.C. (1993) Data analysis in agricultural experimentation. III. Multiple comparisons. Experimental Agriculture, 29: 1-8."]
[]
[null,"PERRY, J.N. (1986) Multiple-comparison procedures: a dissenting view. Journal of Economic Entomology, 79: 1149-1155."]
[]
[null,"PETERSEN, R.G.  (1977) Use and misuse of multiple comparison procedures. Agronomy Journal, 69: 205-208."]
[]
[null,"SWALLOW, W.H. (1984) Those overworked and oft-misused mean separation procedures--Duncan’s, LSD, etc.  Plant Disease, 68: 919-921."]
[]
[null,"SCHEFFÉ, H. (1953), A Method for Judging All Contrasts in the Analysis of Variance, Biometrika, 40, 87 - 104."]
[]
[null,"WALLER, R.A. & DUNCAN, D.B. (1969), \"A Bayes Rule for the Symmetric Multiple Comparison Problem,\" Journal of the American Statistical Association, 64, 1484 - 1499."]
[]
[null,"WELSCH, R.E. (1977), Stepwise Multiple Comparison Procedures, Journal of the American Statistical Association, 72, 359."]
[]
[null,"General"]
[null,"ALMQUIST, H.J. (1952) Amino acid requirements of chickens and turkeys - a review. Poultry Science 31: 966-981 "]
[]
[null,"ALMQUIST, H.J. (1953) Interpretation of amino acid requirement data according to the law of diminishing returns.  Archives of Biochemistry and Biophysics, 44: 245-247."]
[]
[null,"ALMQUIST, H.J. (1954a) Proportional requirements of amino acids.  Archives of Biochemistry and Biophysics, 48: 482-483."]
[]
[null,"ALMQUIST, H.J. (1954b) A fallacy in the analysis of nutritional requirement data. Archives of Biochemistry and Biophysics, 50: 503."]
[]
[null,"BAKER, D.H. (1986) Problems and pitfalls in animal experiments designed to establish dietary requirements for essential nutrients. Journal of Nutrition, 116: 2339-2349."]
[]
[null,"BAKER, D.H. & HAN, Y.M. (1994) Ideal amino-acid profile for chicks during the first 3 weeks posthatching.  Poultry Science 73: 1441-1447."]
[]
[null,"CURNOW, R.N. (1973) A smooth population response curve based on abrupt threshold and plateau model for individuals.  Biometrics, 29: 1-10."]
[]
[null,"FISHER, C., MORRIS, T.R. & JENNINGS, R.C. (1973) A model for the description and prediction of the response of laying hens to amino acid intake. British Poultry Science, 14:469-484."]
[]
[null,"FISHER, C. (1985) The prediction of responses to nutrients.  In: Proceedings of the Thirteenth International Congress of Nutrition, (Taylor, T.J. & Jenkins, N.K., eds.), Libbey, London, U.K."]
[]
[null,"LERMAN, P.M. & BIE, S.W. (1975). Problems in determining the best levels of essential nutrients in feedingstuffs.  Journal of Agricultural Science (Cambridge) 84:  459-468."]
[]
[null,"MAS-COLELL, A., WHINSTON, M., and GREEN, J.  Microeconomic Theory. Oxford University Press, 1995"]
[]
[null,"MILLER, R. G.J. (1981), Simultaneous Statistical Inference, New York: Springer-Verlag."]
[]
[null,"SHEARER, K.D. (2000) Experimental design, statistical analysis and modelling of dietary nutrient requirement studies for fish: a critical review. Aquaculture Nutrition, 6: 91-102."]
[]
[null,"STERLING KG, VEDENOV DV, PESTI GM, BAKALLI, R.I. (2005) Economically optimal dietary crude protein and lysine levels for starting broiler chicks Poultry Science 84: 29-36"]
[]
[null,"VARIAN, H. Microeconomic Analysis. 3rd ed. W.W. Norton Company, 1992"]
[]
[null,"WILSON, B.J. (1973) Growth curves: Their analysis and use.  pp. 89-115 Growth and Poultry Meat Production, K.N. Boorman & B.J. Wilson, eds. British Poultry Science Ltd, Edinburgh"]

{"sheet":"Input & Summary","index":2,"n_rows":111,"n_cols":12,"rows_kept":111,"cut":false,"hidden":false,"merged":[[8,5,9,5],[14,4,14,5],[13,4,13,11]]}
["Point","Input","Output",null,"INSTRUCTIONS"]
[1,0.95,9.5000000000000001E-2,null,"1.","Press the button below to clear the data range"]
[{"$f":"A2+1","v":2},1.03,0.107]
[{"$f":"A3+1","v":3},1.1100000000000001,0.11899999999999999]
[4,1.19,0.125,null,"2. Enter your data into columns B and C."]
[5,1.27,0.13100000000000001,null,null,"Column B, Input, should contain the nutrient levels fed."]
[6,1.35,0.13100000000000001,null,null,"Column C, Output, should contain the observed responses."]
[7,1.43,0.13200000000000001,null,"3. Press the button below to automatically copy data to all spreadsheets simultaneously."]
[8]
[9]
[10,null,null,null,"4. Go to each page and follow the instructions to solve for each of the models."]
[11,null,null,null,"5. Return to this page to compare the model fits. The best fit model is highlighted yellow."]
[12]
[13,null,null,null,"Model Fit Comparisons"]
[14,null,null,null,"Model",null,null,"Sum of Residuals",null,"R2","Qm","Critical Xi2"]
[15,null,null,null,null,"Linear Regression Model",null,{"$f":"'Linear Regression'!L8","v":1.6167858058097602E-4},null,{"$f":"'Linear Regression'!H16","v":0.86593815872224345},{"$f":"'Linear Regression'!F104","v":1.3716806109193372E-3},{"$f":"_xlfn.CHISQ.INV.RT(0.05,COUNT($C$3:$C$101)-3)","v":7.8147279032511792}]
[16,null,null,null,null,"Quadratic Regression Model",null,{"$f":"'Quadratic Regression'!L8","v":4.2415058039346034E-6},null,{"$f":"'Quadratic Regression'!I10","v":0.99648299684582542},{"$f":"'Quadratic Regression'!G104","v":3.4310681224434476E-5},{"$f":"_xlfn.CHISQ.INV.RT(0.05,COUNT($C$3:$C$101)-4)","v":5.9914645471079817}]
[17,null,null,null,null,"Broken-Line (Linear Ascending)",null,{"$f":"'Broken Line'!K8","v":1.1466668313527139E-5},null,{"$f":"'Broken Line'!H16","v":0.9904919831562794},{"$f":"'Broken Line'!F104","v":9.8382317252320695E-5},{"$f":"_xlfn.CHISQ.INV.RT(0.05,COUNT($C$3:$C$101)-4)","v":5.9914645471079817}]
[18,null,null,null,null,"Broken-Line (Quadratic Ascending)",null,{"$f":"'Broken Quadratic'!K8","v":3.2646401347689473E-6},null,{"$f":"'Broken Quadratic'!H16","v":0.99729300154662615},{"$f":"'Broken Quadratic'!F104","v":2.732890540450474E-5},{"$f":"_xlfn.CHISQ.INV.RT(0.05,COUNT($C$3:$C$101)-4)","v":5.9914645471079817}]
[19,null,null,null,null,"Saturation Kinetics",null,{"$f":"'Saturation Kinetics'!L8","v":3.0138518608492678E-6},null,{"$f":"'Saturation Kinetics'!H16","v":0.9975009520225131},{"$f":"'Saturation Kinetics'!F104","v":2.3542046656404908E-5},{"$f":"_xlfn.CHISQ.INV.RT(0.05,COUNT($C$3:$C$101)-5)","v":3.8414588206941236}]
[20,null,null,null,null,"Logistics, 3 Parameters",null,{"$f":"'Logistics, 3 Parameters'!K8","v":1.7626745634507473E-5},null,{"$f":"'Logistics, 3 Parameters'!H16","v":0.98538412468117142},{"$f":"'Logistics, 3 Parameters'!F104","v":1.6163418147699019E-4},{"$f":"_xlfn.CHISQ.INV.RT(0.05,COUNT($C$3:$C$101)-4)","v":5.9914645471079817}]
[21,null,null,null,null,"Logistics, 4 Parameters",null,{"$f":"'Logistics, 4 Parameters'!L8","v":1.1009394519604593E-5},null,{"$f":"'Logistics, 4 Parameters'!H16","v":0.99087114882288185},{"$f":"'Logistics, 3 Parameters'!F104","v":1.6163418147699019E-4},{"$f":"_xlfn.CHISQ.INV.RT(0.05,COUNT($C$3:$C$101)-5)","v":3.8414588206941236}]
[22,null,null,null,null,"RNB, Model 1",null,{"$f":"'RNB, Model 1'!L8","v":1.0921837321732548E-5},null,{"$f":"'RNB, Model 1'!H16","v":0.99094375014781722},{"$f":"'RNB, Model 1'!F104","v":9.0787560638607557E-5},{"$f":"_xlfn.CHISQ.INV.RT(0.05,COUNT($C$3:$C$101)-5)","v":3.8414588206941236}]
[23,null,null,null,null,"RNB, Model 2",null,{"$f":"'RNB, Model 2'!K8","v":1.1343420464536879E-5},null,{"$f":"'RNB, Model 2'!H16","v":0.99059417871928956},{"$f":"'RNB, Model 2'!F104","v":9.3264341711292339E-5},{"$f":"_xlfn.CHISQ.INV.RT(0.05,COUNT($C$3:$C$101)-4)","v":5.9914645471079817}]
[24,null,null,null,"Regression models with Qm>critical Xi2, indicating inadequate fits, are highlighted in red"]
[25]
[26]
[27]
[28]
[29]
[30]
[31]
[32]
[33]
[34]
[35]
[36]
[37]
[38]
[39]
[40]
[41]
[42]
[43]
[44]
[45]
[46]
[47]
[48]
[49]
[50]
[51]
[52]
[53]
[54]
[55]
[56]
[57]
[58]
[59]
[60]
[61]
[62]
[63]
[64]
[65]
[66]
[{"$f":"A67+1","v":67}]
[68]
[69]
[70]
[71]
[72]
[73]
[74]
[75]
[76]
[77]
[78]
[79]
[80]
[81]
[82]
[83]
[84]
[85]
[86]
[87]
[88]
[89]
[90]
[91]
[92]
[93]
[94]
[95]
[96]
[97]
[98]
[99]
[100]
[]
[]
[]
[]
[]
[]
[]
[]
[]
[null,null,null,null,null,null,null,null,null,null,{"$f":"MIN(K18:K24)","v":2.3542046656404908E-5}]

{"sheet":"Linear Regression","index":3,"n_rows":107,"n_cols":35,"rows_kept":107,"cut":false,"hidden":false,"merged":[[2,32,3,32],[2,33,3,33],[2,34,3,34],[4,18,4,20],[2,13,2,15],[2,27,2,29],[18,7,19,11],[17,7,17,11],[4,13,5,15],[15,7,15,10],[7,13,9,16],[8,27,8,29],[10,13,11,15],[5,7,5,11],[1,1,1,3],[1,7,1,10],[1,18,1,20],[1,23,1,25]]}
[null,"Fitting the Compartmental Model to Nutritional Response Data"]
[null,"Data",null,null,null,null,null,"Sample Statistics",null,null,null,null,null,null,null,null,null,null,"Plotting Parameters",null,null,null,null,"Error Analysis"]
["Point","Input","Output","Residuals","Expected","Qm",null,"Min Input",{"$f":"MIN(B4:B103)","v":0.95},"Min Output",{"$f":"MIN(C4:C103)","v":9.5000000000000001E-2},null,null,"Instructions",null,null,null,null,"Min Input","Max Input","# of Points",null,null,"a(X0)","b (X1)","c(X2)","d (X3)","Q0",null,null,null,null,"Number of Observations, T","Number of Regressors, K","sigma"]
[1,0.95,9.5000000000000001E-2,{"$f":"IF(ISBLANK(B4),\"\",C4-($H$8+$I$8*B4))","v":-6.6795215777981642E-3},{"$f":"IF(ISBLANK(B4),\"\",($H$8+$I$8*B4))","v":0.10167952157779817},{"$f":"IF(ISBLANK(B4),\"\",D4^2/E4)","v":4.3879050388857485E-4},null,"Max Input",{"$f":"MAX(B4:B103)","v":1.43},"Max Output",{"$f":"MAX(C4:C103)","v":0.13200000000000001},null,null,"1. Copy data in cells B4:C103",null,null,null,null,{"$f":"I3*0.75","v":0.71249999999999991},{"$f":"CEILING(I4,1)","v":2},101,null,null,{"$f":"IF(ISBLANK($B4),\"\",EXP(-$I$8*$B4)*(1-EXP(-$J$8*($B4-$K$8))))","v":0},{"$f":"IF(ISBLANK($B4),\"\",-$H$8*$B4*EXP(-$I$8*$B4)*(1-EXP(-$J$8*($B4-$K$8))))","v":0},{"$f":"IF(ISBLANK($B4),\"\",$H$8*EXP($J$8*$K$8-($I$8+$J$8)*$B4)*($B4-$K$8))","v":2.5767039064431164E-2},{"$f":"IF(ISBLANK($B4),\"\",-$H$8*EXP($J$8*$K$8-($I$8+$J$8)*$B4)*$J$8)","v":0},{"$f":"SUMPRODUCT(X$4:X$103,X$4:X$103)","v":0},{"$f":"SUMPRODUCT(X$4:X$103,Y$4:Y$103)","v":0},{"$f":"SUMPRODUCT(X$4:X$103,Z$4:Z$103)","v":0},{"$f":"SUMPRODUCT(X$4:X$103,AA$4:AA$103)","v":0}]
[{"$f":"A4+1","v":2},1.03,0.107,{"$f":"IF(ISBLANK(B5),\"\",C5-($H$8+$I$8*B5))","v":-7.861637301845581E-4},{"$f":"IF(ISBLANK(B5),\"\",($H$8+$I$8*B5))","v":0.10778616373018456},{"$f":"IF(ISBLANK(B5),\"\",D5^2/E5)","v":5.7340700259528611E-6},null,null,null,null,null,null,null,"2. View the data and estimate values for b0 and b1",null,null,null,null,"Prediction",null,null,null,null,{"$f":"IF(ISBLANK($B5),\"\",EXP(-$I$8*$B5)*(1-EXP(-$J$8*($B5-$K$8))))","v":0},{"$f":"IF(ISBLANK($B5),\"\",-$H$8*$B5*EXP(-$I$8*$B5)*(1-EXP(-$J$8*($B5-$K$8))))","v":0},{"$f":"IF(ISBLANK($B5),\"\",$H$8*EXP($J$8*$K$8-($I$8+$J$8)*$B5)*($B5-$K$8))","v":2.776681420489379E-2},{"$f":"IF(ISBLANK($B5),\"\",-$H$8*EXP($J$8*$K$8-($I$8+$J$8)*$B5)*$J$8)","v":0},{"$f":"SUMPRODUCT(Y$4:Y$103,X$4:X$103)","v":0},{"$f":"SUMPRODUCT(Y$4:Y$103,Y$4:Y$103)","v":0},{"$f":"SUMPRODUCT(Y$4:Y$103,Z$4:Z$103)","v":0},{"$f":"SUMPRODUCT(Y$4:Y$103,AA$4:AA$103)","v":0},null,{"$f":"COUNT(B4:B53)","v":7},4,{"$f":"SQRT(L8/(AG5-AH5))","v":7.3411756683557624E-3}]
[3,1.1100000000000001,0.11899999999999999,5.1071941174290481E-3,0.11389280588257095,{"$f":"IF(ISBLANK(B6),\"\",D6^2/E6)","v":2.2901737779640942E-4},null,"Regression",null,null,null,null,null,null,null,null,null,null,"Point","Input","Output",null,null,0,0,2.9741284911458395E-2,0,{"$f":"SUMPRODUCT(Z$4:Z$103,X$4:X$103)","v":0},{"$f":"SUMPRODUCT(Z$4:Z$103,Y$4:Y$103)","v":0},{"$f":"SUMPRODUCT(Z$4:Z$103,Z$4:Z$103)","v":7.1131641736986769E-3},{"$f":"SUMPRODUCT(Z$4:Z$103,AA$4:AA$103)","v":0}]
[4,1.19,0.125,5.0005519650426905E-3,0.11999944803495731,2.0838029144773981E-4,null,"b0","b1",null,null,"SSE",null,"4. Press the button below to run solver with current settings",null,null,null,null,1,{"$f":"$S$4+(S7-1)*($T$4-$S$4)/($U$4-1)","v":0.71249999999999991},{"$f":"$H$8+$I$8*T7","v":8.355042768790108E-2},null,null,0,0,3.1690685172664448E-2,0,{"$f":"SUMPRODUCT(AA$4:AA$103,X$4:X$103)","v":0},{"$f":"SUMPRODUCT(AA$4:AA$103,Y$4:Y$103)","v":0},{"$f":"SUMPRODUCT(AA$4:AA$103,Z$4:Z$103)","v":0},{"$f":"SUMPRODUCT(AA$4:AA$103,AA$4:AA$103)","v":0}]
[5,1.27,0.13100000000000001,4.8939098126563052E-3,0.1261060901873437,1.8992225687778388E-4,null,2.9163146018209862E-2,7.6333026904829793E-2,null,null,{"$f":"SUMPRODUCT(D4:D103,D4:D103)","v":1.6167858058097602E-4},null,"5. Solver will attempt to minimize SSE (red cell) by changing cells h8:I8",null,null,null,null,2,0.72537499999999988,{"$f":"$H$8+$I$8*T8","v":8.4533215409300769E-2},null,null,0,0,3.3615247065878512E-2,0]
[6,1.35,0.13100000000000001,-1.2127323397300716E-3,0.13221273233973008,1.1123888764722403E-5,null,null,null,null,null,null,null,null,null,null,null,null,3,0.73824999999999996,8.5516003130700458E-2,null,null,0,0,3.5515200771892227E-2,0,"inv(Q0)"]
[7,1.43,0.13200000000000001,-6.3193744921164474E-3,0.13831937449211645,2.8871222211815367E-4,null,null,null,null,null,null,null,null,null,null,null,null,4,0.75112499999999993,8.6498790852100133E-2,null,null,0,0,3.7390774589413346E-2,0,{"$f":"MINVERSE(AB4:AE7)","v":{"$error":"#NUM!"}},{"$error":"#NUM!"},{"$error":"#NUM!"},{"$error":"#NUM!"}]
[8,null,null,"","","",null,null,null,null,null,null,null,null,null,null,null,null,5,0.7639999999999999,8.7481578573499821E-2,null,null,"","","","",{"$error":"#NUM!"},{"$error":"#NUM!"},{"$error":"#NUM!"},{"$error":"#NUM!"}]
[9,null,null,"","","",null,null,null,null,null,null,null,null,null,null,null,null,6,0.77687499999999987,8.8464366294899496E-2,null,null,"","","","",{"$error":"#NUM!"},{"$error":"#NUM!"},{"$error":"#NUM!"},{"$error":"#NUM!"}]
[10,null,null,"","","",null,null,null,null,null,null,null,null,null,null,null,null,7,0.78974999999999995,8.9447154016299185E-2,null,null,"","","","",{"$error":"#NUM!"},{"$error":"#NUM!"},{"$error":"#NUM!"},{"$error":"#NUM!"}]
[11,null,null,"","","",null,null,null,null,null,null,null,null,null,null,null,null,8,0.80262499999999992,9.0429941737698874E-2,null,null,"","","",""]
[12,null,null,"","","",null,null,null,null,null,null,null,null,null,null,null,null,9,0.81549999999999989,9.1412729459098549E-2,null,null,"","","",""]
[13,null,null,{"$f":"IF(ISBLANK(B16),\"\",C16-($H$8+$I$8*B16))","v":""},{"$f":"IF(ISBLANK(B16),\"\",($H$8+$I$8*B16))","v":""},{"$f":"IF(ISBLANK(B16),\"\",D16^2/E16)","v":""},null,{"$f":"1-L8/(SUMPRODUCT(C4:C103,C4:C103)-COUNT(C4:C103)*AVERAGE(C4:C103)^2)","v":0.86593815872224345},null,null,null,"Goodness of Fit (R2)",null,null,null,null,null,null,10,0.82837499999999986,9.2395517180498238E-2,null,null,"","","",""]
[14,null,null,"","","",null,null,null,null,null,null,null,null,null,null,null,null,11,0.84124999999999994,9.3378304901897927E-2,null,null,"","","",""]
[15,null,null,"","","",null,"Functional Form",null,null,null,null,null,null,null,null,null,null,12,0.85412499999999991,9.4361092623297602E-2,null,null,"","","",""]
[16,null,null,"","","",null,"y = b0 + b1 x X",null,null,null,null,null,null,null,null,null,null,13,0.86699999999999988,9.534388034469729E-2,null,null,"","","",""]
[17,null,null,"","","",null,null,null,null,null,null,null,null,null,null,null,null,14,0.87987499999999996,9.6326668066096979E-2,null,null,"","","",""]
[18,null,null,"","","",null,null,null,null,null,null,null,null,null,null,null,null,15,0.89274999999999993,9.7309455787496654E-2,null,null,"","","",""]
[19,null,null,"","","",null,null,null,null,null,null,null,null,null,null,null,null,16,0.9056249999999999,9.8292243508896343E-2,null,null,"","","",""]
[20,null,null,"","","",null,null,null,null,null,null,null,null,null,null,null,null,17,0.91849999999999987,9.9275031230296018E-2,null,null,"","","",""]
[21,null,null,"","","",null,null,null,null,null,null,null,null,null,null,null,null,18,0.93137499999999995,0.10025781895169571,null,null,"","","",""]
[22,null,null,"","","",null,null,null,null,null,null,null,null,null,null,null,null,19,0.94424999999999992,0.1012406066730954,null,null,"","","",""]
[23,null,null,"","","",null,null,null,null,null,null,null,null,null,null,null,null,20,0.95712499999999989,0.10222339439449507,null,null,"","","",""]
[24,null,null,"","","",null,null,null,null,null,null,null,null,null,null,null,null,21,0.97,0.10320618211589476,null,null,"","","",""]
[25,null,null,"","","",null,null,null,null,null,null,null,null,null,null,null,null,22,0.98287499999999994,0.10418896983729445,null,null,"","","",""]
[26,null,null,"","","",null,null,null,null,null,null,null,null,null,null,null,null,23,0.99574999999999991,0.10517175755869412,null,null,"","","",""]
[27,null,null,"","","",null,null,null,null,null,null,null,null,null,null,null,null,24,1.0086249999999999,0.10615454528009381,null,null,"","","",""]
[28,null,null,"","","",null,null,null,null,null,null,null,null,null,null,null,null,25,1.0214999999999999,0.10713733300149349,null,null,"","","",""]
[29,null,null,"","","",null,null,null,null,null,null,null,null,null,null,null,null,26,1.0343749999999998,0.10812012072289316,null,null,"","","",""]
[30,null,null,"","","",null,null,null,null,null,null,null,null,null,null,null,null,27,1.04725,0.10910290844429286,null,null,"","","",""]
[31,null,null,"","","",null,null,null,null,null,null,null,null,null,null,null,null,28,1.060125,0.11008569616569255,null,null,"","","",""]
[32,null,null,"","","",null,null,null,null,null,null,null,null,null,null,null,null,29,1.073,0.11106848388709223,null,null,"","","",""]
[33,null,null,"","","",null,null,null,null,null,null,null,null,null,null,null,null,30,1.0858749999999999,0.1120512716084919,null,null,"","","",""]
[{"$f":"A36+1","v":34},null,null,"","","",null,null,null,null,null,null,null,null,null,null,null,null,31,1.0987499999999999,0.11303405932989159,null,null,"","","",""]
[35,null,null,"","","",null,null,null,null,null,null,null,null,null,null,null,null,32,1.1116249999999999,0.11401684705129127,null,null,"","","",""]
[36,null,null,"","","",null,null,null,null,null,null,null,null,null,null,null,null,33,{"$f":"$S$4+(S39-1)*($T$4-$S$4)/($U$4-1)","v":1.1244999999999998},0.11499963477269096,null,null,"","","",""]
[37,null,null,"","","",null,null,null,null,null,null,null,null,null,null,null,null,34,1.137375,0.11598242249409066,null,null,"","","",""]
[38,null,null,"","","",null,null,null,null,null,null,null,null,null,null,null,null,35,1.15025,0.11696521021549033,null,null,"","","",""]
[39,null,null,"","","",null,null,null,null,null,null,null,null,null,null,null,null,36,1.163125,0.11794799793689001,null,null,"","","",""]
[40,null,null,"","","",null,null,null,null,null,null,null,null,null,null,null,null,37,1.1759999999999999,0.1189307856582897,null,null,"","","",""]
[41,null,null,"","","",null,null,null,null,null,null,null,null,null,null,null,null,38,1.1888749999999999,0.11991357337968937,null,null,"","","",""]
[42,null,null,"","","",null,null,null,null,null,null,null,null,null,null,null,null,39,1.2017499999999999,0.12089636110108906,null,null,"","","",""]
[43,null,null,"","","",null,null,null,null,null,null,null,null,null,null,null,null,40,1.2146249999999998,0.12187914882248874,null,null,"","","",""]
[44,null,null,"","","",null,null,null,null,null,null,null,null,null,null,null,null,41,1.2275,0.12286193654388844,null,null,"","","",""]
[45,null,null,"","","",null,null,null,null,null,null,null,null,null,null,null,null,42,1.2403749999999998,0.1238447242652881,null,null,"","","",""]
[46,null,null,"","","",null,null,null,null,null,null,null,null,null,null,null,null,43,1.25325,0.1248275119866878,null,null,"","","",""]
[47,null,null,"","","",null,null,null,null,null,null,null,null,null,null,null,null,44,1.2661249999999999,0.12581029970808746,null,null,"","","",""]
[48,null,null,"","","",null,null,null,null,null,null,null,null,null,null,null,null,45,1.2789999999999999,0.12679308742948717,null,null,"","","",""]
[49,null,null,"","","",null,null,null,null,null,null,null,null,null,null,null,null,46,1.2918750000000001,0.12777587515088684,null,null,"","","",""]
[50,null,null,"","","",null,null,null,null,null,null,null,null,null,null,null,null,47,1.3047499999999999,0.12875866287228652,null,null,"","","",""]
[51,null,null,"","","",null,null,null,null,null,null,null,null,null,null,null,null,48,1.317625,0.12974145059368622,null,null,"","","",""]
[52,null,null,"","","",null,null,null,null,null,null,null,null,null,null,null,null,49,1.3304999999999998,0.13072423831508589,null,null,"","","",""]
[53,null,null,"","","",null,null,null,null,null,null,null,null,null,null,null,null,50,1.343375,0.13170702603648557,null,null,"","","",""]
[54,null,null,"","","",null,null,null,null,null,null,null,null,null,null,null,null,51,1.35625,0.13268981375788527,null,null,"","","",""]
[55,null,null,"","","",null,null,null,null,null,null,null,null,null,null,null,null,52,1.3691249999999999,0.13367260147928495,null,null,"","","",""]
[56,null,null,"","","",null,null,null,null,null,null,null,null,null,null,null,null,53,1.3819999999999999,0.13465538920068462,null,null,"","","",""]
[57,null,null,"","","",null,null,null,null,null,null,null,null,null,null,null,null,54,1.3948749999999999,0.1356381769220843,null,null,"","","",""]
[58,null,null,"","","",null,null,null,null,null,null,null,null,null,null,null,null,55,1.4077500000000001,0.136620964643484,null,null,"","","",""]
[59,null,null,"","","",null,null,null,null,null,null,null,null,null,null,null,null,56,1.4206249999999998,0.13760375236488367,null,null,"","","",""]
[60,null,null,"","","",null,null,null,null,null,null,null,null,null,null,null,null,57,1.4335,0.13858654008628338,null,null,"","","",""]
[61,null,null,"","","",null,null,null,null,null,null,null,null,null,null,null,null,58,1.446375,0.13956932780768305,null,null,"","","",""]
[62,null,null,"","","",null,null,null,null,null,null,null,null,null,null,null,null,59,1.4592499999999999,0.14055211552908273,null,null,"","","",""]
[63,null,null,"","","",null,null,null,null,null,null,null,null,null,null,null,null,60,1.4721250000000001,0.14153490325048243,null,null,"","","",""]
[64,null,null,"","","",null,null,null,null,null,null,null,null,null,null,null,null,61,1.4849999999999999,0.14251769097188208,null,null,"","","",""]
[65,null,null,"","","",null,null,null,null,null,null,null,null,null,null,null,null,62,1.4978750000000001,0.14350047869328178,null,null,"","","",""]
[{"$f":"A68+1","v":66},null,null,"","","",null,null,null,null,null,null,null,null,null,null,null,null,63,1.5107499999999998,0.14448326641468145,null,null,{"$f":"IF(ISBLANK($B69),\"\",EXP(-$I$8*$B69)*(1-EXP(-$J$8*($B69-$K$8))))","v":""},{"$f":"IF(ISBLANK($B69),\"\",-$H$8*$B69*EXP(-$I$8*$B69)*(1-EXP(-$J$8*($B69-$K$8))))","v":""},{"$f":"IF(ISBLANK($B69),\"\",$H$8*EXP($J$8*$K$8-($I$8+$J$8)*$B69)*($B69-$K$8))","v":""},{"$f":"IF(ISBLANK($B69),\"\",-$H$8*EXP($J$8*$K$8-($I$8+$J$8)*$B69)*$J$8)","v":""}]
[67,null,null,"","","",null,null,null,null,null,null,null,null,null,null,null,null,64,1.523625,0.14546605413608116,null,null,"","","",""]
[68,null,null,"","","",null,null,null,null,null,null,null,null,null,null,null,null,65,{"$f":"$S$4+(S71-1)*($T$4-$S$4)/($U$4-1)","v":1.5365},0.14644884185748083,null,null,"","","",""]
[69,null,null,"","","",null,null,null,null,null,null,null,null,null,null,null,null,66,1.5493749999999999,{"$f":"$H$8+$I$8*T72","v":0.14743162957888051},null,null,"","","",""]
[70,null,null,"","","",null,null,null,null,null,null,null,null,null,null,null,null,67,1.5622500000000001,0.14841441730028021,null,null,"","","",""]
[71,null,null,"","","",null,null,null,null,null,null,null,null,null,null,null,null,68,1.5751249999999999,0.14939720502167989,null,null,"","","",""]
[72,null,null,"","","",null,null,null,null,null,null,null,null,null,null,null,null,69,1.5880000000000001,0.15037999274307959,null,null,"","","",""]
[73,null,null,"","","",null,null,null,null,null,null,null,null,null,null,null,null,70,1.6008749999999998,0.15136278046447924,null,null,"","","",""]
[74,null,null,"","","",null,null,null,null,null,null,null,null,null,null,null,null,71,1.61375,0.15234556818587894,null,null,"","","",""]
[75,null,null,"","","",null,null,null,null,null,null,null,null,null,null,null,null,72,1.626625,0.15332835590727861,null,null,"","","",""]
[76,null,null,"","","",null,null,null,null,null,null,null,null,null,null,null,null,73,1.6395,0.15431114362867829,null,null,"","","",""]
[77,null,null,{"$f":"IF(ISBLANK(B80),\"\",C80-($H$8+$I$8*B80))","v":""},{"$f":"IF(ISBLANK(B80),\"\",($H$8+$I$8*B80))","v":""},{"$f":"IF(ISBLANK(B80),\"\",D80^2/E80)","v":""},null,null,null,null,null,null,null,null,null,null,null,null,74,1.6523750000000001,0.15529393135007799,null,null,"","","",""]
[78,null,null,"","","",null,null,null,null,null,null,null,null,null,null,null,null,75,1.6652499999999999,0.15627671907147767,null,null,"","","",""]
[79,null,null,"","","",null,null,null,null,null,null,null,null,null,null,null,null,76,1.6781249999999999,0.15725950679287734,null,null,"","","",""]
[80,null,null,"","","",null,null,null,null,null,null,null,null,null,null,null,null,77,1.6909999999999998,0.15824229451427702,null,null,"","","",""]
[81,null,null,"","","",null,null,null,null,null,null,null,null,null,null,null,null,78,1.703875,0.15922508223567672,null,null,"","","",""]
[82,null,null,"","","",null,null,null,null,null,null,null,null,null,null,null,null,79,1.71675,0.16020786995707639,null,null,"","","",""]
[83,null,null,"","","",null,null,null,null,null,null,null,null,null,null,null,null,80,1.729625,0.16119065767847607,null,null,"","","",""]
[84,null,null,"","","",null,null,null,null,null,null,null,null,null,null,null,null,81,1.7424999999999999,0.16217344539987577,null,null,"","","",""]
[85,null,null,"","","",null,null,null,null,null,null,null,null,null,null,null,null,82,1.7553749999999999,0.16315623312127545,null,null,"","","",""]
[86,null,null,"","","",null,null,null,null,null,null,null,null,null,null,null,null,83,1.7682499999999999,0.16413902084267512,null,null,"","","",""]
[87,null,null,"","","",null,null,null,null,null,null,null,null,null,null,null,null,84,1.7811250000000001,0.16512180856407482,null,null,"","","",""]
[88,null,null,"","","",null,null,null,null,null,null,null,null,null,null,null,null,85,1.794,0.1661045962854745,null,null,"","","",""]
[89,null,null,"","","",null,null,null,null,null,null,null,null,null,null,null,null,86,1.806875,0.16708738400687417,null,null,"","","",""]
[90,null,null,"","","",null,null,null,null,null,null,null,null,null,null,null,null,87,1.81975,0.16807017172827388,null,null,"","","",""]
[91,null,null,"","","",null,null,null,null,null,null,null,null,null,null,null,null,88,1.8326249999999999,0.16905295944967355,null,null,"","","",""]
[92,null,null,"","","",null,null,null,null,null,null,null,null,null,null,null,null,89,1.8454999999999999,0.17003574717107323,null,null,"","","",""]
[93,null,null,"","","",null,null,null,null,null,null,null,null,null,null,null,null,90,1.8583749999999999,0.1710185348924729,null,null,"","","",""]
[94,null,null,"","","",null,null,null,null,null,null,null,null,null,null,null,null,91,1.8712500000000001,0.1720013226138726,null,null,"","","",""]
[95,null,null,"","","",null,null,null,null,null,null,null,null,null,null,null,null,92,1.884125,0.17298411033527228,null,null,"","","",""]
[96,null,null,"","","",null,null,null,null,null,null,null,null,null,null,null,null,93,1.897,0.17396689805667198,null,null,"","","",""]
[97,null,null,"","","",null,null,null,null,null,null,null,null,null,null,null,null,94,1.909875,0.17494968577807166,null,null,"","","",""]
[98,null,null,"","","",null,null,null,null,null,null,null,null,null,null,null,null,95,1.92275,0.17593247349947133,null,null,"","","",""]
[99,null,null,"","","",null,null,null,null,null,null,null,null,null,null,null,null,96,1.9356250000000002,0.17691526122087103,null,null,"","","",""]
[100,null,null,"","","",null,null,null,null,null,null,null,null,null,null,null,null,97,{"$f":"$S$4+(S103-1)*($T$4-$S$4)/($U$4-1)","v":1.9484999999999999},0.17789804894227068,null,null,"","","",""]
[null,null,null,{"$f":"SUM(D4:D103)","v":3.8637552988024515E-6},0.83999613624470126,{"$f":"SUM(F4:F103)","v":1.3716806109193372E-3},null,null,null,null,null,null,null,null,null,null,null,null,98,{"$f":"$S$4+(S104-1)*($T$4-$S$4)/($U$4-1)","v":1.9613749999999999},0.17888083666367038]
[null,null,null,null,null,null,null,null,null,null,null,null,null,null,null,null,null,null,99,{"$f":"$S$4+(S105-1)*($T$4-$S$4)/($U$4-1)","v":1.9742500000000001},0.17986362438507009]
[null,null,null,null,null,null,null,null,null,null,null,null,null,null,null,null,null,null,100,{"$f":"$S$4+(S106-1)*($T$4-$S$4)/($U$4-1)","v":1.987125},0.18084641210646976]
[null,null,null,null,null,null,null,null,null,null,null,null,null,null,null,null,null,null,101,{"$f":"$S$4+(S107-1)*($T$4-$S$4)/($U$4-1)","v":2},0.18182919982786944]

{"sheet":"Quadratic Regression","index":4,"n_rows":107,"n_cols":35,"rows_kept":107,"cut":false,"hidden":false,"merged":[[1,1,1,3],[1,8,1,11],[1,20,1,22],[1,25,1,27],[2,28,2,30],[2,33,3,33],[2,34,3,34],[4,20,4,22],[5,8,5,11],[6,28,6,30],[18,8,19,8],[18,9,18,11],[19,9,19,11],[13,9,13,11],[2,32,3,32],[7,13,9,15],[2,13,2,15],[4,13,6,15],[14,13,15,15],[9,8,9,10],[11,8,11,12]]}
[null,"Fitting the Quadratic Polynomial Model to Nutritional Response Data"]
[null,"Data",null,null,null,null,null,null,"Sample Statistics",null,null,null,null,null,null,null,null,null,null,null,"Plotting Parameters",null,null,null,null,"Error Analysis"]
["Point","Input","Output","Residuals","Expected",null,"Qm",null,"Min Input",{"$f":"MIN(B4:B103)","v":0.95},"Min Output",{"$f":"MIN(C4:C103)","v":9.5000000000000001E-2},null,"Instructions",null,null,null,null,null,null,"Min Input","Max Input","# of Points",null,null,"Maximum(X0)","Rate Constant (X1)","Requirement(X2)","Q0",null,null,null,"Number of Observations, T","Number of Regressors, K","sigma"]
[1,0.95,9.5000000000000001E-2,{"$f":"IF(ISBLANK(B4),\"\",(C4-($I$8+$J$8*B4+$K$8*B4^2)))","v":1.3293137367242913E-4},{"$f":"IF(ISBLANK(B4),\"\",(ABS(D4)))","v":1.3293137367242913E-4},{"$f":"IF(ISBLANK(B4),\"\",($I$8+$J$8*B4+$K$8*B4^2))","v":9.4867068626327572E-2},{"$f":"IF(ISBLANK(B4),\"\",D4^2/F4)","v":1.8626853725229353E-7},null,"Max Input",{"$f":"MAX(B4:B103)","v":1.43},"Max Output",{"$f":"MAX(C4:C103)","v":0.13200000000000001},null,"1. Copy data in cells B4:C103",null,null,null,null,null,null,{"$f":"FLOOR(J3,1)","v":0},{"$f":"CEILING(J4,1)","v":2},101,null,null,{"$f":"IF(ISBLANK(B4),\"\",1)","v":1},{"$f":"IF(ISBLANK(B4),\"\",($K$8-B4)^2*IF(B4<$K$8,1,0))","v":0},{"$f":"IF(ISBLANK(B4),\"\",2*$J$8*($K$8-B4)*IF(B4<$K$8,1,0))","v":0},{"$f":"SUMPRODUCT(Z$4:Z$103,Z$4:Z$103)","v":7},{"$f":"SUMPRODUCT(Z$4:Z$103,AA$4:AA$103)","v":0},{"$f":"SUMPRODUCT(Z$4:Z$103,AB$4:AB$103)","v":0}]
[{"$f":"A4+1","v":2},1.03,0.107,{"$f":"IF(ISBLANK(B5),\"\",(C5-($I$8+$J$8*B5+$K$8*B5^2)))","v":-7.8680018299641385E-4},{"$f":"IF(ISBLANK(B5),\"\",(ABS(D5)))","v":7.8680018299641385E-4},{"$f":"IF(ISBLANK(B5),\"\",($I$8+$J$8*B5+$K$8*B5^2))","v":0.10778680018299641},{"$f":"IF(ISBLANK(B5),\"\",D5^2/F5)","v":5.7433241075176422E-6},null,null,null,null,null,null,"2. View the data and estimate values for b0, b1 and b2",null,null,null,null,null,null,"Prediction",null,null,null,null,1,0,0,{"$f":"SUMPRODUCT(AA$4:AA$103,Z$4:Z$103)","v":0},{"$f":"SUMPRODUCT(AA$4:AA$103,AA$4:AA$103)","v":0},{"$f":"SUMPRODUCT(AA$4:AA$103,AB$4:AB$103)","v":0},null,{"$f":"COUNT(B4:B53)","v":7},3,{"$f":"SQRT(L8/(AG5-AH5))","v":1.0297458186288744E-3}]
[3,1.1100000000000001,0.11899999999999999,1.0188711980211873E-3,1.0188711980211873E-3,0.11798112880197881,8.7988522291517366E-6,null,"Regression",null,null,null,null,null,null,null,null,null,null,null,"Point","Input","Output",null,null,1,0,0,{"$f":"SUMPRODUCT(AB$4:AB$103,Z$4:Z$103)","v":0},{"$f":"SUMPRODUCT(AB$4:AB$103,AA$4:AA$103)","v":0},{"$f":"SUMPRODUCT(AB$4:AB$103,AB$4:AB$103)","v":0}]
[4,1.19,0.125,-4.5005448327478659E-4,4.5005448327478659E-4,0.12545005448327479,1.6145791147722406E-6,null,"b0","b1","b2","SSE",null,null,null,null,null,null,null,null,1,{"$f":"$U$4+(U7-1)*($V$4-$U$4)/($W$4-1)","v":0},{"$f":"($I$8+$J$8*V7+$K$8*V7^2)","v":-0.26689902286896949},null,null,1,0,0,"inv(Q0)"]
[5,1.27,0.13100000000000001,8.064227731156004E-4,8.064227731156004E-4,0.1301935772268844,4.9950059200398664E-6,null,-0.26689902286896949,0.58308241138172545,-0.21292210450675025,{"$f":"SUMPRODUCT(D4:D103,D4:D103)","v":4.2415058039346034E-6},null,"3. Press the button below to run solver with current settings",null,null,null,null,null,null,null,-0.02,{"$f":"($I$8+$J$8*V8+$K$8*V8^2)","v":-0.27864583993840669},null,null,1,0,0,{"$f":"MINVERSE(AC4:AE6)","v":{"$error":"#NUM!"}},{"$error":"#NUM!"},{"$error":"#NUM!"}]
[6,1.35,0.13100000000000001,-1.211697032807546E-3,1.211697032807546E-3,0.13221169703280755,1.110499095212645E-5,null,null,null,null,null,null,null,null,null,null,null,null,null,null,-0.02,-0.27864583993840669,null,null,1,0,0,{"$error":"#NUM!"},{"$error":"#NUM!"},{"$error":"#NUM!"}]
[7,1.43,0.13200000000000001,4.9558609895561379E-4,4.9558609895561379E-4,0.13150441390104439,1.8676603635742515E-6,null,{"$f":"1-L8/(SUMPRODUCT(C4:C103,C4:C103)-COUNT(C4:C103)*AVERAGE(C4:C103)^2)","v":0.99648299684582542},null,null,"Goodness of Fit (R2)",null,null,null,null,null,null,null,null,null,-0.02,-0.27864583993840669,null,null,1,0,0,{"$error":"#NUM!"},{"$error":"#NUM!"},{"$error":"#NUM!"}]
[8,null,null,"","","","",null,null,null,null,null,null,null,null,null,null,null,null,null,null,-0.02,-0.27864583993840669,null,null,"","",""]
[9,null,null,"","","","",null,"Functional Form",null,null,null,null,null,null,null,null,null,null,null,null,-0.02,-0.27864583993840669,null,null,"","",""]
[10,null,null,"","","","",null,null,null,null,null,null,null,null,null,null,null,null,null,null,-0.02,-0.27864583993840669,null,null,"","",""]
[11,null,null,"","","","",null,null,"y=b0 + b1x + b2x2",null,null,null,null,null,null,null,null,null,null,null,-0.02,-0.27864583993840669,null,null,"","",""]
[12,null,null,"","","","",null,null,null,null,null,null,"5. Solver will attempt to minimize SSE (red cell) by changing cells F8:H8",null,null,null,null,null,null,null,-0.02,-0.27864583993840669,null,null,"","",""]
[13,null,null,"","","","",null,null,null,null,null,null,null,null,null,null,null,null,null,null,-0.02,-0.27864583993840669,null,null,"","",""]
[14,null,null,"","","","",null,null,null,null,null,null,null,null,null,null,null,null,null,null,-0.02,-0.27864583993840669,null,null,"","",""]
[15,null,null,"","","","",null,null,null,null,null,null,null,null,null,null,null,null,null,null,-0.02,-0.27864583993840669,null,null,"","",""]
[16,null,null,"","","","",null,null,null,null,null,null,null,null,null,null,null,null,null,null,-0.02,-0.27864583993840669,null,null,"","",""]
[17,null,null,"","","","",null,null,null,null,null,null,null,null,null,null,null,null,null,14,0.26,-0.12969113017437717,null,null,"","",""]
[18,null,null,"","","","",null,null,null,null,null,null,null,null,null,null,null,null,null,15,0.28000000000000003,-0.12032904067541556,null,null,"","",""]
[19,null,null,"","","","",null,null,null,null,null,null,null,null,null,null,null,null,null,16,0.3,-0.1111372888600594,null,null,"","",""]
[20,null,null,"","","","",null,null,null,null,null,null,null,null,null,null,null,null,null,17,0.32,-0.10211587472830858,null,null,"","",""]
[21,null,null,"","","","",null,null,null,null,null,null,null,null,null,null,null,null,null,18,0.34,-9.3264798280163166E-2,null,null,"","",""]
[22,null,null,"","","","",null,null,null,null,null,null,null,null,null,null,null,null,null,19,0.36,-8.4584059515623172E-2,null,null,"","",""]
[23,null,null,"","","","",null,null,null,null,null,null,null,null,null,null,null,null,null,20,0.38,-7.6073658434688565E-2,null,null,"","",""]
[24,null,null,"","","","",null,null,null,null,null,null,null,null,null,null,null,null,null,21,0.4,-6.7733595037359345E-2,null,null,"","",""]
[25,null,null,"","","","",null,null,null,null,null,null,null,null,null,null,null,null,null,22,0.42,-5.9563869323635554E-2,null,null,"","",""]
[26,null,null,"","","","",null,null,null,null,null,null,null,null,null,null,null,null,null,23,0.44,-5.1564481293517143E-2,null,null,"","",""]
[27,null,null,"","","","",null,null,null,null,null,null,null,null,null,null,null,null,null,24,0.46,-4.3735430947004106E-2,null,null,"","",""]
[28,null,null,"","","","",null,null,null,null,null,null,null,null,null,null,null,null,null,25,0.48,-3.6076718284096573E-2,null,null,"","",""]
[29,null,null,"","","","",null,null,null,null,null,null,null,null,null,null,null,null,null,26,0.5,-2.8588343304794331E-2,null,null,"","",""]
[30,null,null,"","","","",null,null,null,null,null,null,null,null,null,null,null,null,null,27,0.52,-2.1270306009097496E-2,null,null,"","",""]
[31,null,null,"","","","",null,null,null,null,null,null,null,null,null,null,null,null,null,28,0.54,-1.4122606397006111E-2,null,null,"","",""]
[32,null,null,"","","","",null,null,null,null,null,null,null,null,null,null,null,null,null,29,0.56000000000000005,-7.145244468520065E-3,null,null,"","",""]
[33,null,null,"","","","",null,null,null,null,null,null,null,null,null,null,null,null,null,30,0.57999999999999996,-3.3822022363952375E-4,null,null,{"$f":"IF(ISBLANK(B36),\"\",1)","v":""},{"$f":"IF(ISBLANK(B36),\"\",($K$8-B36)^2*IF(B36<$K$8,1,0))","v":""},{"$f":"IF(ISBLANK(B36),\"\",2*$J$8*($K$8-B36)*IF(B36<$K$8,1,0))","v":""}]
[34,null,null,"","","","",null,null,null,null,null,null,null,null,null,null,null,null,null,31,0.6,6.2984663376356581E-3,null,null,"","",""]
[35,null,null,"","","","",null,null,null,null,null,null,null,null,null,null,null,null,null,32,0.62,1.2764815215305494E-2,null,null,"","",""]
[36,null,null,"","","","",null,null,null,null,null,null,null,null,null,null,null,null,null,33,0.64,1.9060826409369874E-2,null,null,"","",""]
[37,null,null,"","","","",null,null,null,null,null,null,null,null,null,null,null,null,null,34,0.66,2.5186499919828909E-2,null,null,"","",""]
[38,null,null,"","","","",null,null,null,null,null,null,null,null,null,null,null,null,null,35,0.68,3.1141835746682486E-2,null,null,"","",""]
[39,null,null,"","","","",null,null,null,null,null,null,null,null,null,null,null,null,null,36,0.7,3.6926833889930705E-2,null,null,"","",""]
[40,null,null,"","","","",null,null,null,null,null,null,null,null,null,null,null,null,null,37,0.72,4.254149434957348E-2,null,null,"","",""]
[41,null,null,"","","","",null,null,null,null,null,null,null,null,null,null,null,null,null,38,0.74,4.7985817125610911E-2,null,null,"","",""]
[42,null,null,"","","","",null,null,null,null,null,null,null,null,null,null,null,null,null,39,0.76,5.3259802218042898E-2,null,null,"","",""]
[43,null,null,"","","","",null,null,null,null,null,null,null,null,null,null,null,null,null,40,0.78,5.8363449626869512E-2,null,null,"","",""]
[44,null,null,"","","","",null,null,null,null,null,null,null,null,null,null,null,null,null,41,0.8,6.3296759352090698E-2,null,null,"","",""]
[45,null,null,"","","","",null,null,null,null,null,null,null,null,null,null,null,null,null,42,0.82,6.8059731393706524E-2,null,null,"","",""]
[46,null,null,"","","","",null,null,null,null,null,null,null,null,null,null,null,null,null,43,0.84,7.2652365751716907E-2,null,null,"","",""]
[47,null,null,"","","","",null,null,null,null,null,null,null,null,null,null,null,null,null,44,0.86,7.7074662426121932E-2,null,null,"","",""]
[48,null,null,"","","","",null,null,null,null,null,null,null,null,null,null,null,null,null,45,0.88,8.1326621416921513E-2,null,null,"","",""]
[49,null,null,"","","","",null,null,null,null,null,null,null,null,null,null,null,null,null,46,0.9,8.5408242724115679E-2,null,null,"","",""]
[50,null,null,"","","","",null,null,null,null,null,null,null,null,null,null,null,null,null,47,0.92,8.931952634770457E-2,null,null,"","",""]
[51,null,null,"","","","",null,null,null,null,null,null,null,null,null,null,null,null,null,48,0.94,9.3060472287687851E-2,null,null,"","",""]
[52,null,null,"","","","",null,null,null,null,null,null,null,null,null,null,null,null,null,49,0.96,9.6631080544065828E-2,null,null,"","",""]
[53,null,null,"","","","",null,null,null,null,null,null,null,null,null,null,null,null,null,50,0.98,0.10003135111683853,null,null,"","",""]
[54,null,null,"","","","",null,null,null,null,null,null,null,null,null,null,null,null,null,51,1,0.1032612840060057,null,null,"","",""]
[55,null,null,"","","","",null,null,null,null,null,null,null,null,null,null,null,null,null,52,1.02,0.10632087921156749,null,null,"","",""]
[56,null,null,"","","","",null,null,null,null,null,null,null,null,null,null,null,null,null,53,1.04,0.10921013673352395,null,null,"","",""]
[57,null,null,"","","","",null,null,null,null,null,null,null,null,null,null,null,null,null,54,1.06,0.11192905657187494,null,null,"","",""]
[58,null,null,"","","","",null,null,null,null,null,null,null,null,null,null,null,null,null,55,1.08,0.11447763872662051,null,null,"","",""]
[59,null,null,"","","","",null,null,null,null,null,null,null,null,null,null,null,null,null,56,1.1000000000000001,0.11685588319776069,null,null,"","",""]
[60,null,null,"","","","",null,null,null,null,null,null,null,null,null,null,null,null,null,57,1.1200000000000001,0.1190637899852956,null,null,"","",""]
[61,null,null,"","","","",null,null,null,null,null,null,null,null,null,null,null,null,null,58,1.1399999999999999,0.12110135908922492,null,null,"","",""]
[62,null,null,"","","","",null,null,null,null,null,null,null,null,null,null,null,null,null,59,1.1599999999999999,0.12296859050954889,null,null,"","",""]
[63,null,null,"","","","",null,null,null,null,null,null,null,null,null,null,null,null,null,60,1.18,0.12466548424626744,null,null,"","",""]
[64,null,null,"","","","",null,null,null,null,null,null,null,null,null,null,null,null,null,61,1.2,0.12619204029938064,null,null,"","",""]
[65,null,null,"","","","",null,null,null,null,null,null,null,null,null,null,null,null,null,62,1.22,0.12754825866888853,null,null,{"$f":"IF(ISBLANK(B68),\"\",1)","v":""},{"$f":"IF(ISBLANK(B68),\"\",($K$8-B68)^2*IF(B68<$K$8,1,0))","v":""},{"$f":"IF(ISBLANK(B68),\"\",2*$J$8*($K$8-B68)*IF(B68<$K$8,1,0))","v":""}]
[{"$f":"A68+1","v":66},null,null,{"$f":"IF(ISBLANK(B69),\"\",(C69-($I$8+$J$8*B69+$K$8*B69^2)))","v":""},{"$f":"IF(ISBLANK(B69),\"\",(ABS(D69)))","v":""},{"$f":"IF(ISBLANK(B69),\"\",($I$8+$J$8*B69+$K$8*B69^2))","v":""},{"$f":"IF(ISBLANK(B69),\"\",D69^2/F69)","v":""},null,null,null,null,null,null,null,null,null,null,null,null,null,63,1.24,0.12873413935479089,null,null,"","",""]
[67,null,null,"","","","",null,null,null,null,null,null,null,null,null,null,null,null,null,64,1.26,0.12974968235708784,null,null,"","",""]
[68,null,null,"","","","",null,null,null,null,null,null,null,null,null,null,null,null,null,65,{"$f":"$U$4+(U71-1)*($V$4-$U$4)/($W$4-1)","v":1.28},0.13059488767577943,null,null,"","",""]
[69,null,null,"","","","",null,null,null,null,null,null,null,null,null,null,null,null,null,66,1.3,{"$f":"($I$8+$J$8*V72+$K$8*V72^2)","v":0.13126975531086571},null,null,"","",""]
[70,null,null,"","","","",null,null,null,null,null,null,null,null,null,null,null,null,null,67,1.32,0.13177428526234647,null,null,"","",""]
[71,null,null,"","","","",null,null,null,null,null,null,null,null,null,null,null,null,null,68,1.34,0.13210847753022181,null,null,"","",""]
[72,null,null,"","","","",null,null,null,null,null,null,null,null,null,null,null,null,null,69,1.36,0.1322723321144918,null,null,"","",""]
[73,null,null,"","","","",null,null,null,null,null,null,null,null,null,null,null,null,null,70,1.38,0.13226584901515642,null,null,"","",""]
[74,null,null,"","","","",null,null,null,null,null,null,null,null,null,null,null,null,null,71,1.4,0.13208902823221569,null,null,"","",""]
[75,null,null,"","","","",null,null,null,null,null,null,null,null,null,null,null,null,null,72,1.42,0.13174186976566943,null,null,"","",""]
[76,null,null,"","","","",null,null,null,null,null,null,null,null,null,null,null,null,null,73,1.44,0.13122437361551781,null,null,"","",""]
[77,null,null,"","","","",null,null,null,null,null,null,null,null,null,null,null,null,null,74,1.46,0.13053653978176083,null,null,"","",""]
[78,null,null,"","","","",null,null,null,null,null,null,null,null,null,null,null,null,null,75,1.48,0.12967836826439844,null,null,"","",""]
[79,null,null,"","","","",null,null,null,null,null,null,null,null,null,null,null,null,null,76,1.5,0.12864985906343063,null,null,"","",""]
[80,null,null,"","","","",null,null,null,null,null,null,null,null,null,null,null,null,null,77,1.52,0.1274510121788574,null,null,"","",""]
[81,null,null,"","","","",null,null,null,null,null,null,null,null,null,null,null,null,null,78,1.54,0.12608182761067888,null,null,"","",""]
[82,null,null,"","","","",null,null,null,null,null,null,null,null,null,null,null,null,null,79,1.56,0.12454230535889477,null,null,"","",""]
[83,null,null,"","","","",null,null,null,null,null,null,null,null,null,null,null,null,null,80,1.58,0.12283244542350535,null,null,"","",""]
[84,null,null,"","","","",null,null,null,null,null,null,null,null,null,null,null,null,null,81,1.6,0.12095224780451053,null,null,"","",""]
[85,null,null,"","","","",null,null,null,null,null,null,null,null,null,null,null,null,null,82,1.62,0.11890171250191039,null,null,"","",""]
[86,null,null,"","","","",null,null,null,null,null,null,null,null,null,null,null,null,null,83,1.64,0.11668083951570485,null,null,"","",""]
[87,null,null,"","","","",null,null,null,null,null,null,null,null,null,null,null,null,null,84,1.66,0.11428962884589378,null,null,"","",""]
[88,null,null,"","","","",null,null,null,null,null,null,null,null,null,null,null,null,null,85,1.68,0.1117280804924774,null,null,"","",""]
[89,null,null,"","","","",null,null,null,null,null,null,null,null,null,null,null,null,null,86,1.7,0.1089961944554555,null,null,"","",""]
[90,null,null,"","","","",null,null,null,null,null,null,null,null,null,null,null,null,null,87,1.72,0.1060939707348284,null,null,"","",""]
[91,null,null,"","","","",null,null,null,null,null,null,null,null,null,null,null,null,null,88,1.74,0.10302140933059556,null,null,"","",""]
[92,null,null,"","","","",null,null,null,null,null,null,null,null,null,null,null,null,null,89,1.76,9.9778510242757745E-2,null,null,"","",""]
[93,null,null,"","","","",null,null,null,null,null,null,null,null,null,null,null,null,null,90,1.78,9.6365273471314405E-2,null,null,"","",""]
[94,null,null,"","","","",null,null,null,null,null,null,null,null,null,null,null,null,null,91,1.8,9.2781699016265429E-2,null,null,"","",""]
[95,null,null,"","","","",null,null,null,null,null,null,null,null,null,null,null,null,null,92,1.82,8.9027786877611259E-2,null,null,"","",""]
[96,null,null,"","","","",null,null,null,null,null,null,null,null,null,null,null,null,null,93,1.84,8.5103537055351786E-2,null,null,"","",""]
[97,null,null,"","","","",null,null,null,null,null,null,null,null,null,null,null,null,null,94,1.86,8.1008949549486564E-2,null,null,"","",""]
[98,null,null,"","","","",null,null,null,null,null,null,null,null,null,null,null,null,null,95,1.88,7.674402436001615E-2,null,null,"","",""]
[99,null,null,"","","","",null,null,null,null,null,null,null,null,null,null,null,null,null,96,1.9,7.2308761486940432E-2,null,null,"","",""]
[100,null,null,"","","","",null,null,null,null,null,null,null,null,null,null,null,null,null,97,{"$f":"$U$4+(U103-1)*($V$4-$U$4)/($W$4-1)","v":1.92},6.7703160930259076E-2,null,null,"","",""]
[null,null,null,{"$f":"SUM(D4:D103)","v":5.2597446860841446E-6},4.9023631428435771E-3,{"$f":"SUM(F4:F103)","v":0.83999474025531384},{"$f":"SUM(G4:G103)","v":3.4310681224434476E-5},null,null,null,null,null,null,null,null,null,null,null,null,null,98,{"$f":"$U$4+(U104-1)*($V$4-$U$4)/($W$4-1)","v":1.94},6.2927222689972639E-2]
[null,null,null,null,null,null,null,null,null,null,null,null,null,null,null,null,null,null,null,null,99,{"$f":"$U$4+(U105-1)*($V$4-$U$4)/($W$4-1)","v":1.96},5.7980946766080677E-2]
[null,null,null,null,null,null,null,null,null,null,null,null,null,null,null,null,null,null,null,null,100,{"$f":"$U$4+(U106-1)*($V$4-$U$4)/($W$4-1)","v":1.98},5.2864333158583188E-2]
[null,null,null,null,null,null,null,null,null,null,null,null,null,null,null,null,null,null,null,null,101,{"$f":"$U$4+(U107-1)*($V$4-$U$4)/($W$4-1)","v":2},4.7577381867480395E-2]

{"sheet":"Broken Line","index":5,"n_rows":107,"n_cols":33,"rows_kept":107,"cut":false,"hidden":false,"merged":[[2,31,3,31],[2,32,3,32],[4,13,6,15],[4,18,4,20],[2,13,2,15],[2,30,3,30],[1,1,1,3],[5,7,5,10],[1,7,1,10],[1,18,1,20],[19,11,19,12],[18,11,18,12],[18,7,19,7],[18,8,18,10],[19,8,19,10],[1,23,1,25],[2,26,2,28],[6,26,6,28],[17,7,17,12],[7,13,9,15],[15,7,15,9],[13,13,14,15]]}
[null,"Fitting the Broken-Line (Ascending Linear) Model to Nutritional Response Data"]
[null,"Data",null,null,null,null,null,"Sample Statistics",null,null,null,null,null,null,null,null,null,null,"Plotting Parameters",null,null,null,null,"Error Analysis"]
["Point","Input","Output","Residuals","Expected","Qm",null,"Min Input",{"$f":"MIN(B4:B103)","v":0.95},"Min Output",{"$f":"MIN(C4:C103)","v":9.5000000000000001E-2},null,null,"Instructions",null,null,null,null,"Min Input","Max Input","# of Points",null,null,"Maximum(X0)","Rate Constant (X1)","Requirement(X2)","Q0",null,null,null,"Number of Observations, T","Number of Regressors, K","sigma"]
[1,0.95,9.5000000000000001E-2,{"$f":"IF(ISBLANK(B4),\"\",IF(B4<$J$8,C4-($H$8+$I$8*($J$8-B4)),C4-$H$8))","v":-1.2008049136470883E-3},{"$f":"IF(ISBLANK(B4),\"\",IF(B4<$J$8,($H$8+$I$8*($J$8-B4)),$H$8))","v":9.6200804913647089E-2},{"$f":"IF(ISBLANK(B4),\"\",D4^2/E4)","v":1.4988777296960412E-5},null,"Max Input",{"$f":"MAX(B4:B103)","v":1.43},"Max Output",{"$f":"MAX(C4:C103)","v":0.13200000000000001},null,null,"1. Copy data in cells B4:C103",null,null,null,null,{"$f":"FLOOR(I3,1)","v":0},{"$f":"CEILING(I4,1)","v":2},101,null,null,{"$f":"IF(ISBLANK(B4),\"\",1)","v":1},{"$f":"IF(ISBLANK(B4),\"\",($J$8-B4)*IF(B4<$J$8,1,0))","v":0.27555184444026648},{"$f":"IF(ISBLANK(B4),\"\",$I$8*IF(B4<$J$8,1,0))","v":-0.1274973570370517},{"$f":"SUMPRODUCT(X$4:X$103,X$4:X$103)","v":7},{"$f":"SUMPRODUCT(X$4:X$103,Y$4:Y$103)","v":0.62220737776106572},{"$f":"SUMPRODUCT(X$4:X$103,Z$4:Z$103)","v":-0.5099894281482068}]
[{"$f":"A4+1","v":2},1.03,0.107,{"$f":"IF(ISBLANK(B5),\"\",IF(B5<$J$8,C5-($H$8+$I$8*($J$8-B5)),C5-$H$8))","v":5.9940652338875966E-4},{"$f":"IF(ISBLANK(B5),\"\",IF(B5<$J$8,($H$8+$I$8*($J$8-B5)),$H$8))","v":0.10640059347661124},{"$f":"IF(ISBLANK(B5),\"\",D5^2/E5)","v":3.3767497768701607E-6},null,null,null,null,null,null,null,"2. View the data and estimate values for the Maximum and Requirement in cells H8 and J8",null,null,null,null,"Prediction",null,null,null,null,1,{"$f":"IF(ISBLANK(B5),\"\",($J$8-B5)*IF(B5<$J$8,1,0))","v":0.19555184444026641},{"$f":"IF(ISBLANK(B5),\"\",$I$8*IF(B5<$J$8,1,0))","v":-0.1274973570370517},{"$f":"SUMPRODUCT(Y$4:Y$103,X$4:X$103)","v":0.62220737776106572},{"$f":"SUMPRODUCT(Y$4:Y$103,Y$4:Y$103)","v":0.12878550523507537},{"$f":"SUMPRODUCT(Y$4:Y$103,Z$4:Z$103)","v":-7.9329796193490301E-2},null,{"$f":"COUNT(B4:B53)","v":7},3,{"$f":"SQRT(K8/(AE5-AF5))","v":1.693123468144537E-3}]
[3,1.1100000000000001,0.11899999999999999,2.3996179604246076E-3,0.11660038203957539,4.9383769206158964E-5,null,"Regression",null,null,null,null,null,null,null,null,null,null,"Point","Input","Output",null,null,1,0.11555184444026634,-0.1274973570370517,{"$f":"SUMPRODUCT(Z$4:Z$103,X$4:X$103)","v":-0.5099894281482068},{"$f":"SUMPRODUCT(Z$4:Z$103,Y$4:Y$103)","v":-7.9329796193490301E-2},{"$f":"SUMPRODUCT(Z$4:Z$103,Z$4:Z$103)","v":6.5022304205733752E-2}]
[4,1.19,0.125,-1.8001706025395081E-3,0.12680017060253951,2.5556859922572955E-5,null,"Max or Min","Rate Constant","Requirement","SSE",null,null,null,null,null,null,null,1,{"$f":"$S$4+(S7-1)*($T$4-$S$4)/($U$4-1)","v":0},{"$f":"IF(T7<$J$8,($H$8+$I$8*($J$8-T7)),$H$8)","v":-2.492168427155203E-2},null,null,1,3.5551844440266489E-2,-0.1274973570370517,"inv(Q0)"]
[5,1.27,0.13100000000000001,-3.329368064658722E-4,0.13133293680646588,8.4401460741747716E-7,null,0.13133293680646588,-0.1274973570370517,1.2255518444402664,{"$f":"SUMPRODUCT(D4:D103,D4:D103)","v":1.1466668313527139E-5},null,null,"3. Guess the Rate Constant values in cell I8 until the predicted line is close to the observed points",null,null,null,null,2,0.02,-2.2371737130810976E-2,null,null,1,0,0,{"$f":"MINVERSE(AA4:AC6)","v":0.33333333333333331},1.0150610510858574E-15,2.6144332798715513]
[6,1.35,0.13100000000000001,-3.329368064658722E-4,0.13133293680646588,8.4401460741747716E-7,null,null,null,null,null,null,null,null,null,null,null,null,3,0.04,-1.9821789990069949E-2,null,null,1,0,0,0,31.250000000000021,38.126242392190832]
[7,1.43,0.13200000000000001,6.6706319353412868E-4,0.13133293680646588,3.3881318349232493E-6,null,{"$f":"IF(ISNUMBER(H13),H$8-NORMSINV(0.975)*H$13,\"N/A\")","v":0.12941702244388395},{"$f":"IF(ISNUMBER(I13),I$8-NORMSINV(0.975)*I$13,\"N/A\")","v":-0.14604811808465024},{"$f":"IF(ISNUMBER(J13),J$8-NORMSINV(0.975)*J$13,\"N/A\")","v":1.1954285789808865},"Lower 95% Confidence Levels",null,null,null,null,null,null,null,4,0.06,-1.7271842849328922E-2,null,null,1,0,0,2.6144332798715513,38.126242392190832,82.400653704563382]
[8,null,null,"","","",null,{"$f":"IF(ISNUMBER(H14),H$8+NORMSINV(0.975)*H$13,\"N/A\")","v":0.13324885116904781},{"$f":"IF(ISNUMBER(I14),I$8+NORMSINV(0.975)*I$13,\"N/A\")","v":-0.10894659598945317},{"$f":"IF(ISNUMBER(J14),J$8+NORMSINV(0.975)*J$13,\"N/A\")","v":1.2556751098996464},"Upper 95% Confidence Levels",null,null,"4. Press the button below to run solver with current settings",null,null,null,null,5,0.08,-1.4721895708587868E-2,null,null,"","",""]
[9,null,null,"","","",null,null,null,null,null,null,null,null,null,null,null,null,6,0.1,-1.2171948567846841E-2,null,null,"","",""]
[10,null,null,"","","",null,{"$f":"IF(ISNUMBER(AA8),SQRT(AA8)*$AG$5,\"N/A\")","v":9.7752529010452106E-4},{"$f":"IF(ISNUMBER(AB9),SQRT(AB9)*$AG$5,\"N/A\")","v":9.4648479226784651E-3},{"$f":"IF(ISNUMBER(AC10),SQRT(AC10)*$AG$5,\"N/A\")","v":1.5369295403889207E-2},"Standard Errors",null,null,null,null,null,null,null,7,0.12,-9.6220014271057863E-3,null,null,"","",""]
[11,null,null,"","","",null,{"$f":"IF(ISNUMBER(H13),H8/H13,\"N/A\")","v":134.35246958410991},{"$f":"IF(ISNUMBER(I13),I8/I13,\"N/A\")","v":-13.470618659551702},{"$f":"IF(ISNUMBER(J13),J8/J13,\"N/A\")","v":79.740275154717892},"t-Statistics",null,null,"5. Solver will attempt to minimize SSE (red cell) by changing cells H8:J8",null,null,null,null,8,0.14000000000000001,-7.0720542863647595E-3,null,null,"","",""]
[12,null,null,"","","",null,{"$f":"IF(ISNUMBER(H14),2*TDIST(ABS(H14),$AE$5-$AF$5,1),\"N/A\")","v":1.8408069836035783E-8},{"$f":"IF(ISNUMBER(I14),2*TDIST(ABS(I14),$AE$5-$AF$5,1),\"N/A\")","v":1.7571605701579483E-4},{"$f":"IF(ISNUMBER(J14),2*TDIST(ABS(J14),$AE$5-$AF$5,1),\"N/A\")","v":1.4824673118422503E-7},"p-values",null,null,null,null,null,null,null,9,0.16,-4.5221071456237605E-3,null,null,{"$f":"IF(ISBLANK(B15),\"\",1)","v":""},"",""]
[13,null,null,"","","",null,{"$f":"1-K8/(SUMPRODUCT(C4:C103,C4:C103)-COUNT(C4:C103)*AVERAGE(C4:C103)^2)","v":0.9904919831562794},null,null,"Goodness of Fit (R2)",null,null,null,null,null,null,null,10,0.18,-1.9721600048827059E-3,null,null,{"$f":"IF(ISBLANK(B16),\"\",1)","v":""},"",""]
[14,null,null,"","","",null,null,null,null,null,null,null,null,null,null,null,null,11,0.2,5.7778713585832087E-4,null,null,{"$f":"IF(ISBLANK(B17),\"\",1)","v":""},"",""]
[15,null,null,"","","",null,"Functional Form",null,null,null,null,null,null,null,null,null,null,12,0.22,3.1277342765993477E-3,null,null,{"$f":"IF(ISBLANK(B18),\"\",1)","v":""},"",""]
[16,null,null,"","","",null," y ={","Maximum, ",null,null,"if x > Requirement",null,null,null,null,null,null,13,0.24,5.6776814173404022E-3,null,null,"","",""]
[17,null,null,"","","",null,null,"Maximum + Rate Constant×(Requirement - x)",null,null,"if x £ Requirement",null,null,null,null,null,null,14,0.26,8.227628558081429E-3,null,null,"","",""]
[18,null,null,"","","",null,null,null,null,null,null,null,null,null,null,null,null,15,0.28000000000000003,1.0777575698822456E-2,null,null,"","",""]
[19,null,null,"","","",null,null,null,null,null,null,null,null,null,null,null,null,16,0.3,1.3327522839563496E-2,null,null,"","",""]
[20,null,null,"","","",null,null,null,null,null,null,null,null,null,null,null,null,17,0.32,1.5877469980304537E-2,null,null,"","",""]
[21,null,null,"","","",null,null,null,null,null,null,null,null,null," ",null,null,18,0.34,1.8427417121045578E-2,null,null,"","",""]
[22,null,null,"","","",null,null,null,null,null,null,null,null,null,null,null,null,19,0.36,2.0977364261786591E-2,null,null,"","",""]
[23,null,null,"","","",null,null,null,null,null,null,null,null,null,null,null,null,20,0.38,2.3527311402527631E-2,null,null,"","",""]
[24,null,null,"","","",null,null,null,null,null,null,null,null,null,null,null,null,21,0.4,2.6077258543268672E-2,null,null,"","",""]
[25,null,null,"","","",null,null,null,null,null,null,null,null,null,null,null,null,22,0.42,2.8627205684009685E-2,null,null,"","",""]
[26,null,null,"","","",null,null,null,null,null,null,null,null,null,null,null,null,23,0.44,3.1177152824750726E-2,null,null,"","",""]
[27,null,null,"","","",null,null,null,null,null,null,null,null,null,null,null,null,24,0.46,3.3727099965491766E-2,null,null,"","",""]
[28,null,null,"","","",null,null,null,null,null,null,null,null,null,null,null,null,25,0.48,3.6277047106232793E-2,null,null,"","",""]
[29,null,null,"","","",null,null,null,null,null,null,null,null,null,null,null,null,26,0.5,3.8826994246973834E-2,null,null,"","",""]
[30,null,null,"","","",null,null,null,null,null,null,null,null,null,null,null,null,27,0.52,4.1376941387714875E-2,null,null,"","",""]
[31,null,null,"","","",null,null,null,null,null,null,null,null,null,null,null,null,28,0.54,4.3926888528455901E-2,null,null,"","",""]
[32,null,null,"","","",null,null,null,null,null,null,null,null,null,null,null,null,29,0.56000000000000005,4.6476835669196942E-2,null,null,"","",""]
[33,null,null,"","","",null,null,null,null,null,null,null,null,null,null,null,null,30,0.57999999999999996,4.9026782809937969E-2,null,null,{"$f":"IF(ISBLANK(B36),\"\",1)","v":""},"",""]
[{"$f":"A36+1","v":34},null,null,"","","",null,null,null,null,null,null,null,null,null,null,null,null,31,0.6,5.1576729950678996E-2,null,null,"","",""]
[35,null,null,"","","",null,null,null,null,null,null,null,null,null,null,null,null,32,0.62,5.4126677091420036E-2,null,null,"","",""]
[36,null,null,"","","",null,null,null,null,null,null,null,null,null,null,null,null,33,{"$f":"$S$4+(S39-1)*($T$4-$S$4)/($U$4-1)","v":0.64},{"$f":"IF(T39<$J$8,($H$8+$I$8*($J$8-T39)),$H$8)","v":5.6676624232161077E-2},null,null,"","",""]
[37,null,null,"","","",null,null,null,null,null,null,null,null,null,null,null,null,34,0.66,5.9226571372902104E-2,null,null,"","",""]
[38,null,null,"","","",null,null,null,null,null,null,null,null,null,null,null,null,35,0.68,6.1776518513643144E-2,null,null,"","",""]
[39,null,null,"","","",null,null,null,null,null,null,null,null,null,null,null,null,36,0.7,6.4326465654384171E-2,null,null,"","",""]
[40,null,null,"","","",null,null,null,null,null,null,null,null,null,null,null,null,37,0.72,6.6876412795125198E-2,null,null,"","",""]
[41,null,null,"","","",null,null,null,null,null,null,null,null,null,null,null,null,38,0.74,6.9426359935866239E-2,null,null,"","",""]
[42,null,null,"","","",null,null,null,null,null,null,null,null,null,null,null,null,39,0.76,7.1976307076607279E-2,null,null,"","",""]
[43,null,null,"","","",null,null,null,null,null,null,null,null,null,null,null,null,40,0.78,7.452625421734832E-2,null,null,"","",""]
[44,null,null,"","","",null,null,null,null,null,null,null,null,null,null,null,null,41,0.8,7.7076201358089347E-2,null,null,"","",""]
[45,null,null,"","","",null,null,null,null,null,null,null,null,null,null,null,null,42,0.82,7.9626148498830374E-2,null,null,"","",""]
[46,null,null,"","","",null,null,null,null,null,null,null,null,null,null,null,null,43,0.84,8.21760956395714E-2,null,null,"","",""]
[47,null,null,"","","",null,null,null,null,null,null,null,null,null,null,null,null,44,0.86,8.4726042780312441E-2,null,null,"","",""]
[48,null,null,"","","",null,null,null,null,null,null,null,null,null,null,null,null,45,0.88,8.7275989921053482E-2,null,null,"","",""]
[49,null,null,"","","",null,null,null,null,null,null,null,null,null,null,null,null,46,0.9,8.9825937061794509E-2,null,null,"","",""]
[50,null,null,"","","",null,null,null,null,null,null,null,null,null,null,null,null,47,0.92,9.2375884202535549E-2,null,null,"","",""]
[51,null,null,"","","",null,null,null,null,null,null,null,null,null,null,null,null,48,0.94,9.4925831343276576E-2,null,null,{"$f":"IF(ISBLANK(B54),\"\",1)","v":""},"",""]
[52,null,null,"","","",null,null,null,null,null,null,null,null,null,null,null,null,49,0.96,9.7475778484017617E-2,null,null,"","",""]
[53,null,null,"","","",null,null,null,null,null,null,null,null,null,null,null,null,50,0.98,0.10002572562475864,null,null,"","",""]
[54,null,null,"","","",null,null,null,null,null,null,null,null,null,null,null,null,51,1,0.10257567276549968,null,null,"","",""]
[55,null,null,"","","",null,null,null,null,null,null,null,null,null,null,null,null,52,1.02,0.10512561990624072,null,null,"","",""]
[56,null,null,"","","",null,null,null,null,null,null,null,null,null,null,null,null,53,1.04,0.10767556704698175,null,null,"","",""]
[57,null,null,"","","",null,null,null,null,null,null,null,null,null,null,null,null,54,1.06,0.11022551418772279,null,null,"","",""]
[58,null,null,"","","",null,null,null,null,null,null,null,null,null,null,null,null,55,1.08,0.11277546132846383,null,null,"","",""]
[59,null,null,"","","",null,null,null,null,null,null,null,null,null,null,null,null,56,1.1000000000000001,0.11532540846920486,null,null,"","",""]
[60,null,null,"","","",null,null,null,null,null,null,null,null,null,null,null,null,57,1.1200000000000001,0.1178753556099459,null,null,"","",""]
[61,null,null,"","","",null,null,null,null,null,null,null,null,null,null,null,null,58,1.1399999999999999,0.12042530275068691,null,null,"","",""]
[62,null,null,"","","",null,null,null,null,null,null,null,null,null,null,null,null,59,1.1599999999999999,0.12297524989142794,null,null,"","",""]
[63,null,null,"","","",null,null,null,null,null,null,null,null,null,null,null,null,60,1.18,0.12552519703216899,null,null,"","",""]
[64,null,null,"","","",null,null,null,null,null,null,null,null,null,null,null,null,61,1.2,0.12807514417291002,null,null,"","",""]
[65,null,null,"","","",null,null,null,null,null,null,null,null,null,null,null,null,62,1.22,0.13062509131365105,null,null,"","",""]
[{"$f":"A68+1","v":66},null,null,{"$f":"IF(ISBLANK(B69),\"\",IF(B69<$J$8,C69-($H$8+$I$8*($J$8-B69)),C69-$H$8))","v":""},{"$f":"IF(ISBLANK(B69),\"\",IF(B69<$J$8,($H$8+$I$8*($J$8-B69)),$H$8))","v":""},{"$f":"IF(ISBLANK(B69),\"\",D69^2/E69)","v":""},null,null,null,null,null,null,null,null,null,null,null,null,63,1.24,0.13133293680646588,null,null,"",{"$f":"IF(ISBLANK(B69),\"\",($J$8-B69)*IF(B69<$J$8,1,0))","v":""},{"$f":"IF(ISBLANK(B69),\"\",$I$8*IF(B69<$J$8,1,0))","v":""}]
[67,null,null,"","","",null,null,null,null,null,null,null,null,null,null,null,null,64,1.26,0.13133293680646588,null,null,"","",""]
[68,null,null,"","","",null,null,null,null,null,null,null,null,null,null,null,null,65,{"$f":"$S$4+(S71-1)*($T$4-$S$4)/($U$4-1)","v":1.28},{"$f":"IF(T71<$J$8,($H$8+$I$8*($J$8-T71)),$H$8)","v":0.13133293680646588},null,null,"","",""]
[69,null,null,"","","",null,null,null,null,null,null,null,null,null,null,null,null,66,1.3,0.13133293680646588,null,null,"","",""]
[70,null,null,"","","",null,null,null,null,null,null,null,null,null,null,null,null,67,1.32,0.13133293680646588,null,null,"","",""]
[71,null,null,"","","",null,null,null,null,null,null,null,null,null,null,null,null,68,1.34,0.13133293680646588,null,null,"","",""]
[72,null,null,"","","",null,null,null,null,null,null,null,null,null,null,null,null,69,1.36,0.13133293680646588,null,null,"","",""]
[73,null,null,"","","",null,null,null,null,null,null,null,null,null,null,null,null,70,1.38,0.13133293680646588,null,null,"","",""]
[74,null,null,"","","",null,null,null,null,null,null,null,null,null,null,null,null,71,1.4,0.13133293680646588,null,null,"","",""]
[75,null,null,"","","",null,null,null,null,null,null,null,null,null,null,null,null,72,1.42,0.13133293680646588,null,null,"","",""]
[76,null,null,"","","",null,null,null,null,null,null,null,null,null,null,null,null,73,1.44,0.13133293680646588,null,null,"","",""]
[77,null,null,"","","",null,null,null,null,null,null,null,null,null,null,null,null,74,1.46,0.13133293680646588,null,null,"","",""]
[78,null,null,"","","",null,null,null,null,null,null,null,null,null,null,null,null,75,1.48,0.13133293680646588,null,null,"","",""]
[79,null,null,"","","",null,null,null,null,null,null,null,null,null,null,null,null,76,1.5,0.13133293680646588,null,null,"","",""]
[80,null,null,"","","",null,null,null,null,null,null,null,null,null,null,null,null,77,1.52,0.13133293680646588,null,null,"","",""]
[81,null,null,"","","",null,null,null,null,null,null,null,null,null,null,null,null,78,1.54,0.13133293680646588,null,null,"","",""]
[82,null,null,"","","",null,null,null,null,null,null,null,null,null,null,null,null,79,1.56,0.13133293680646588,null,null,"","",""]
[83,null,null,"","","",null,null,null,null,null,null,null,null,null,null,null,null,80,1.58,0.13133293680646588,null,null,"","",""]
[84,null,null,"","","",null,null,null,null,null,null,null,null,null,null,null,null,81,1.6,0.13133293680646588,null,null,"","",""]
[85,null,null,"","","",null,null,null,null,null,null,null,null,null,null,null,null,82,1.62,0.13133293680646588,null,null,"","",""]
[86,null,null,"","","",null,null,null,null,null,null,null,null,null,null,null,null,83,1.64,0.13133293680646588,null,null,"","",""]
[87,null,null,"","","",null,null,null,null,null,null,null,null,null,null,null,null,84,1.66,0.13133293680646588,null,null,"","",""]
[88,null,null,"","","",null,null,null,null,null,null,null,null,null,null,null,null,85,1.68,0.13133293680646588,null,null,"","",""]
[89,null,null,"","","",null,null,null,null,null,null,null,null,null,null,null,null,86,1.7,0.13133293680646588,null,null,"","",""]
[90,null,null,"","","",null,null,null,null,null,null,null,null,null,null,null,null,87,1.72,0.13133293680646588,null,null,"","",""]
[91,null,null,"","","",null,null,null,null,null,null,null,null,null,null,null,null,88,1.74,0.13133293680646588,null,null,"","",""]
[92,null,null,"","","",null,null,null,null,null,null,null,null,null,null,null,null,89,1.76,0.13133293680646588,null,null,"","",""]
[93,null,null,"","","",null,null,null,null,null,null,null,null,null,null,null,null,90,1.78,0.13133293680646588,null,null,"","",""]
[94,null,null,"","","",null,null,null,null,null,null,null,null,null,null,null,null,91,1.8,0.13133293680646588,null,null,"","",""]
[95,null,null,"","","",null,null,null,null,null,null,null,null,null,null,null,null,92,1.82,0.13133293680646588,null,null,"","",""]
[96,null,null,"","","",null,null,null,null,null,null,null,null,null,null,null,null,93,1.84,0.13133293680646588,null,null,"","",""]
[97,null,null,"","","",null,null,null,null,null,null,null,null,null,null,null,null,94,1.86,0.13133293680646588,null,null,"","",""]
[98,null,null,"","","",null,null,null,null,null,null,null,null,null,null,null,null,95,1.88,0.13133293680646588,null,null,{"$f":"IF(ISBLANK(B101),\"\",1)","v":""},"",""]
[99,null,null,"","","",null,null,null,null,null,null,null,null,null,null,null,null,96,1.9,0.13133293680646588,null,null,{"$f":"IF(ISBLANK(B102),\"\",1)","v":""},"",""]
[{"$f":"A102+1","v":100},null,null,"",{"$f":"IF(ISBLANK(B103),\"\",IF(B103<$J$8,($H$8+$I$8*($J$8-B103)),$H$8))","v":""},{"$f":"IF(ISBLANK(B103),\"\",D103^2/E103)","v":""},null,null,null,null,null,null,null,null,null,null,null,null,97,{"$f":"$S$4+(S103-1)*($T$4-$S$4)/($U$4-1)","v":1.92},{"$f":"IF(T103<$J$8,($H$8+$I$8*($J$8-T103)),$H$8)","v":0.13133293680646588},null,null,{"$f":"IF(ISBLANK(B103),\"\",1)","v":""},"",""]
[null,null,null,{"$f":"SUM(D4:D103)","v":-7.6145177084485649E-7},0.84000076145177083,{"$f":"SUM(F4:F103)","v":9.8382317252320695E-5},null,null,null,null,null,null,null,null,null,null,null,null,98,{"$f":"$S$4+(S104-1)*($T$4-$S$4)/($U$4-1)","v":1.94},{"$f":"IF(T104<$J$8,($H$8+$I$8*($J$8-T104)),$H$8)","v":0.13133293680646588}]
[null,null,null,null,null,null,null,null,null,null,null,null,null,null,null,null,null,null,99,{"$f":"$S$4+(S105-1)*($T$4-$S$4)/($U$4-1)","v":1.96},{"$f":"IF(T105<$J$8,($H$8+$I$8*($J$8-T105)),$H$8)","v":0.13133293680646588}]
[null,null,null,null,null,null,null,null,null,null,null,null,null,null,null,null,null,null,100,{"$f":"$S$4+(S106-1)*($T$4-$S$4)/($U$4-1)","v":1.98},{"$f":"IF(T106<$J$8,($H$8+$I$8*($J$8-T106)),$H$8)","v":0.13133293680646588}]
[null,null,null,null,null,null,null,null,null,null,null,null,null,null,null,null,null,null,101,{"$f":"$S$4+(S107-1)*($T$4-$S$4)/($U$4-1)","v":2},{"$f":"IF(T107<$J$8,($H$8+$I$8*($J$8-T107)),$H$8)","v":0.13133293680646588}]

{"sheet":"Broken Quadratic","index":6,"n_rows":107,"n_cols":33,"rows_kept":107,"cut":false,"hidden":false,"merged":[[14,13,15,15],[1,23,1,25],[2,26,2,28],[6,26,6,28],[1,18,1,20],[7,13,9,15],[15,7,15,9],[1,1,1,3],[5,7,5,10],[1,7,1,10],[19,11,19,12],[17,7,17,12],[18,7,19,7],[18,8,18,10],[18,11,18,12],[19,8,19,10],[2,31,3,31],[2,32,3,32],[4,13,6,15],[4,18,4,20],[2,13,2,15],[2,30,3,30]]}
[null,"Fitting the Broken-Line (Ascending Quadratic) Model to Nutritional Response Data"]
[null,"Data",null,null,null,null,null,"Sample Statistics",null,null,null,null,null,null,null,null,null,null,"Plotting Parameters",null,null,null,null,"Error Analysis"]
["Point","Input","Output","Residuals","Expected","Qm",null,"Min Input",{"$f":"MIN(B4:B103)","v":0.95},"Min Output",{"$f":"MIN(C4:C103)","v":9.5000000000000001E-2},null,null,"Instructions",null,null,null,null,"Min Input","Max Input","# of Points",null,null,"Maximum(X0)","Rate Constant (X1)","Requirement(X2)","Q0",null,null,null,"Number of Observations, T","Number of Regressors, K","sigma"]
[1,0.95,9.5000000000000001E-2,{"$f":"IF(ISBLANK(B4),\"\",IF(B4<$J$8,C4-($H$8+$I$8*($J$8-B4)^2),C4-$H$8))","v":3.9432649511052242E-4},{"$f":"IF(ISBLANK(B4),\"\",IF(B4<$J$8,($H$8+$I$8*($J$8-B4)^2),$H$8))","v":9.4605673504889479E-2},{"$f":"IF(ISBLANK(B4),\"\",D4^2/E4)","v":1.6435947125106881E-6},null,"Max Input",{"$f":"MAX(B4:B103)","v":1.43},"Max Output",{"$f":"MAX(C4:C103)","v":0.13200000000000001},null,null,"1. Copy data in cells B4:C103",null,null,null,null,{"$f":"FLOOR(I3,1)","v":0},{"$f":"CEILING(I4,1)","v":2},101,null,null,{"$f":"IF(ISBLANK(B4),\"\",1)","v":1},{"$f":"IF(ISBLANK(B4),\"\",($J$8-B4)^2*IF(B4<$J$8,1,0))","v":0.16127257937251277},{"$f":"IF(ISBLANK(B4),\"\",2*$I$8*($J$8-B4)*IF(B4<$J$8,1,0))","v":-0.18467223201237751},{"$f":"SUMPRODUCT(X$4:X$103,X$4:X$103)","v":7},{"$f":"SUMPRODUCT(X$4:X$103,Y$4:Y$103)","v":0.35582529928856105},{"$f":"SUMPRODUCT(X$4:X$103,Z$4:Z$103)","v":-0.55620685930134794}]
[{"$f":"A4+1","v":2},1.03,0.107,{"$f":"IF(ISBLANK(B5),\"\",IF(B5<$J$8,C5-($H$8+$I$8*($J$8-B5)^2),C5-$H$8))","v":-9.0791464515191378E-4},{"$f":"IF(ISBLANK(B5),\"\",IF(B5<$J$8,($H$8+$I$8*($J$8-B5)^2),$H$8))","v":0.10790791464515191},{"$f":"IF(ISBLANK(B5),\"\",D5^2/E5)","v":7.6390041044904961E-6},null,null,null,null,null,null,null,"2. View the data and estimate values for the Maximum and Requirement in cells H8 and J8",null,null,null,null,"Prediction",null,null,null,null,1,{"$f":"IF(ISBLANK(B5),\"\",($J$8-B5)^2*IF(B5<$J$8,1,0))","v":0.10341856757607837},{"$f":"IF(ISBLANK(B5),\"\",2*$I$8*($J$8-B5)*IF(B5<$J$8,1,0))","v":-0.14788379649418301},{"$f":"SUMPRODUCT(Y$4:Y$103,X$4:X$103)","v":0.35582529928856105},{"$f":"SUMPRODUCT(Y$4:Y$103,Y$4:Y$103)","v":4.0836736282511568E-2},{"$f":"SUMPRODUCT(Y$4:Y$103,Z$4:Z$103)","v":-5.3750468110125772E-2},null,{"$f":"COUNT(B4:B53)","v":7},3,{"$f":"SQRT(K8/(AE5-AF5))","v":9.0341575904576556E-4}]
[3,1.1100000000000001,0.11899999999999999,7.3291905604121188E-4,0.11826708094395878,4.5420106628224036E-6,null,"Regression",null,null,null,null,null,null,null,null,null,null,"Point","Input","Output",null,null,1,5.8364555779643973E-2,-0.11109536097598852,{"$f":"SUMPRODUCT(Z$4:Z$103,X$4:X$103)","v":-0.55620685930134794},{"$f":"SUMPRODUCT(Z$4:Z$103,Y$4:Y$103)","v":-5.3750468110125772E-2},{"$f":"SUMPRODUCT(Z$4:Z$103,Z$4:Z$103)","v":7.5245319010147735E-2}]
[4,1.19,0.125,-6.8317240131007817E-4,0.12568317240131008,3.7135005505869419E-6,null,"Max or Min","Rate Constant","Requirement","SSE",null,null,null,null,null,null,null,1,{"$f":"$S$4+(S7-1)*($T$4-$S$4)/($U$4-1)","v":0},{"$f":"IF(T7<$J$8,($H$8+$I$8*($J$8-T7)^2),$H$8)","v":-0.28834271600168482},null,null,1,2.6110543983209673E-2,-7.4306925457794132E-2,"inv(Q0)"]
[5,1.27,0.13100000000000001,8.4381098279417976E-4,0.13015618901720583,5.4704811201098971E-6,null,0.13168671029925563,-0.22992772198871539,1.3515875737277148,{"$f":"SUMPRODUCT(D4:D53,D4:D53)","v":3.2646401347689473E-6},null,null,"3. Guess the Rate Constant values in cell I8 until the predicted line is close to the observed points",null,null,null,null,2,0.02,{"$f":"IF(T8<$J$8,($H$8+$I$8*($J$8-T8)^2),$H$8)","v":-0.2760039890146615},null,null,1,6.6565321867752894E-3,-3.7518489939599629E-2,{"$f":"MINVERSE(AA4:AC6)","v":0.45804615263990633},7.7866939140135809,8.9481560280527503]
[6,1.35,0.13100000000000001,-6.8613079164600577E-4,0.13168613079164601,3.5749813622334779E-6,null,null,null,null,null,null,null,null,null,null,null,null,3,0.04,-0.26384920420522928,null,null,1,2.5203903409298691E-6,-7.3005442140513675E-4,7.78669391401358,542.07030643100484,444.77910022558007]
[7,1.43,0.13200000000000001,3.1328970074437357E-4,0.13168671029925563,7.4533289175083867E-7,null,{"$f":"IF(ISNUMBER(H13),H$8-NORMSINV(0.975)*H$13,\"N/A\")","v":0.13048834183197966},{"$f":"IF(ISNUMBER(I13),I$8-NORMSINV(0.975)*I$13,\"N/A\")","v":-0.2711529970624143},{"$f":"IF(ISNUMBER(J13),J$8-NORMSINV(0.975)*J$13,\"N/A\")","v":1.3163004567832526},"Lower 95% Confidence Levels",null,null,null,null,null,null,null,4,0.06,-0.25187836157338794,null,null,1,0,0,8.9481560280527486,444.77910022558007,397.15574333065013]
[8,null,null,"","","",null,{"$f":"IF(ISNUMBER(H14),H$8+NORMSINV(0.975)*H$13,\"N/A\")","v":0.13288507876653161},{"$f":"IF(ISNUMBER(I14),I$8+NORMSINV(0.975)*I$13,\"N/A\")","v":-0.18870244691501648},{"$f":"IF(ISNUMBER(J14),J$8+NORMSINV(0.975)*J$13,\"N/A\")","v":1.3868746906721769},"Upper 95% Confidence Levels",null,null,"4. Press the button below to run solver with current settings",null,null,null,null,5,0.08,-0.24009146111913757,null,null,"","",""]
[9,null,null,"","","",null,null,null,null,null,null,null,null,null,null,null,null,6,0.1,-0.22848850284247821,null,null,"","",""]
[10,null,null,"","","",null,{"$f":"IF(ISNUMBER(AA8),SQRT(AA8)*$AG$5,\"N/A\")","v":6.1142371835837814E-4},{"$f":"IF(ISNUMBER(AB9),SQRT(AB9)*$AG$5,\"N/A\")","v":2.1033690108021703E-2},{"$f":"IF(ISNUMBER(AC10),SQRT(AC10)*$AG$5,\"N/A\")","v":1.8003961921138602E-2},"Standard Errors",null,null,null,null,null,null,null,7,0.12,-0.21706948674340995,null,null,"","",""]
[11,null,null,"","","",null,{"$f":"IF(ISNUMBER(H13),H8/H13,\"N/A\")","v":215.37717027534276},{"$f":"IF(ISNUMBER(I13),I8/I13,\"N/A\")","v":-10.931401994033701},{"$f":"IF(ISNUMBER(J13),J8/J13,\"N/A\")","v":75.071674759587466},"t-Statistics",null,null,null,null,null,null,null,8,0.14000000000000001,-0.20583441282193246,null,null,"","",""]
[12,null,null,"","","",null,{"$f":"IF(ISNUMBER(H14),2*TDIST(ABS(H14),$AE$5-$AF$5,1),\"N/A\")","v":2.7879833158031238E-9},{"$f":"IF(ISNUMBER(I14),2*TDIST(ABS(I14),$AE$5-$AF$5,1),\"N/A\")","v":3.9773956071402576E-4},{"$f":"IF(ISNUMBER(J14),2*TDIST(ABS(J14),$AE$5-$AF$5,1),\"N/A\")","v":1.8868321591820958E-7},"p-values",null,null,"5. Solver will attempt to minimize SSE (red cell) by changing cells H8:J8",null,null,null,null,9,0.16,-0.19478328107804607,null,null,"","",""]
[13,null,null,"","","",null,{"$f":"1-K8/(SUMPRODUCT(C4:C103,C4:C103)-COUNT(C4:C103)*AVERAGE(C4:C103)^2)","v":0.99729300154662615},null,null,"Goodness of Fit (R2)",null,null,null,null,null,null,null,10,0.18,-0.18391609151175056,null,null,"","",""]
[14,null,null,"","","",null,null,null,null,null,null,null,null,null,null,null,null,11,0.2,-0.17323284412304604,null,null,"","",""]
[15,null,null,"","","",null,"Functional Form",null,null,null,null,null,null,null,null,null,null,12,0.22,-0.16273353891193251,null,null,"","",""]
[16,null,null,"","","",null," y ={","Maximum, ",null,null,"if x > Requirement",null,null,null,null,null,null,13,0.24,-0.15241817587840997,null,null,"","",""]
[17,null,null,"","","",null,null,"Maximum + Rate Constant×(Requirement - x)2 ",null,null,"if x £ Requirement",null,null,null,null,null,null,14,0.26,-0.14228675502247837,null,null,"","",""]
[18,null,null,"","","",null,null,null,null,null,null,null,null,null,null,null,null,15,0.28000000000000003,-0.13233927634413775,null,null,"","",""]
[19,null,null,"","","",null,null,null,null,null,null,null,null,null,null,null,null,16,0.3,-0.12257573984338807,null,null,"","",""]
[20,null,null,"","","",null,null,null,null,null,null,null,null,null,null,null,null,17,0.32,-0.11299614552022944,null,null,"","",""]
[21,null,null,"","","",null,null,null,null,null,null,null,null,null,null,null,null,18,0.34,-0.10360049337466171,null,null,"","",""]
[22,null,null,"","","",null,null,null,null,null,null,null,null,null,null,null,null,19,0.36,-9.4388783406685051E-2,null,null,"","",""]
[23,null,null,"","","",null,null,null,null,null,null,null,null,null,null,null,null,20,0.38,-8.5361015616299302E-2,null,null,"","",""]
[24,null,null,"","","",null,null,null,null,null,null,null,null,null,null,null,null,21,0.4,-7.6517190003504515E-2,null,null,"","",""]
[25,null,null,"","","",null,null,null,null,null,null,null,null,null,null,null,null,22,0.42,-6.7857306568300774E-2,null,null,"","",""]
[26,null,null,"","","",null,null,null,null,null,null,null,null,null,null,null,null,23,0.44,-5.9381365310687939E-2,null,null,"","",""]
[27,null,null,"","","",null,null,null,null,null,null,null,null,null,null,null,null,24,0.46,-5.1089366230666067E-2,null,null,"","",""]
[28,null,null,"","","",null,null,null,null,null,null,null,null,null,null,null,null,25,0.48,-4.2981309328235157E-2,null,null,"","",""]
[29,null,null,"","","",null,null,null,null,null,null,null,null,null,null,null,null,26,0.5,-3.5057194603395236E-2,null,null,"","",""]
[30,null,null,"","","",null,null,null,null,null,null,null,null,null,null,null,null,27,0.52,-2.7317022056146306E-2,null,null,"","",""]
[31,null,null,"","","",null,null,null,null,null,null,null,null,null,null,null,null,28,0.54,-1.976079168648831E-2,null,null,"","",""]
[32,null,null,"","","",null,null,null,null,null,null,null,null,null,null,null,null,29,0.56000000000000005,-1.2388503494421332E-2,null,null,"","",""]
[33,null,null,"","","",null,null,null,null,null,null,null,null,null,null,null,null,30,0.57999999999999996,-5.2001574799453443E-3,null,null,{"$f":"IF(ISBLANK(B36),\"\",1)","v":""},"",""]
[{"$f":"A36+1","v":34},null,null,"","","",null,null,null,null,null,null,null,null,null,null,null,null,31,0.6,1.8042463569397094E-3,null,null,"","",""]
[35,null,null,"","","",null,null,null,null,null,null,null,null,null,null,null,null,32,0.62,8.6247080162338008E-3,null,null,"","",""]
[36,null,null,"","","",null,null,null,null,null,null,null,null,null,null,null,null,33,{"$f":"$S$4+(S39-1)*($T$4-$S$4)/($U$4-1)","v":0.64},1.5261227497936916E-2,null,null,"","",""]
[37,null,null,"","","",null,null,null,null,null,null,null,null,null,null,null,null,34,0.66,2.1713804802049055E-2,null,null,"","",""]
[38,null,null,"","","",null,null,null,null,null,null,null,null,null,null,null,null,35,0.68,2.7982439928570232E-2,null,null,"","",""]
[39,null,null,"","","",null,null,null,null,null,null,null,null,null,null,null,null,36,0.7,3.4067132877500392E-2,null,null,"","",""]
[40,null,null,"","","",null,null,null,null,null,null,null,null,null,null,null,null,37,0.72,3.9967883648839617E-2,null,null,"","",""]
[41,null,null,"","","",null,null,null,null,null,null,null,null,null,null,null,null,38,0.74,4.5684692242587865E-2,null,null,"","",""]
[42,null,null,"","","",null,null,null,null,null,null,null,null,null,null,null,null,39,0.76,5.1217558658745138E-2,null,null,"","",""]
[43,null,null,"","","",null,null,null,null,null,null,null,null,null,null,null,null,40,0.78,5.6566482897311449E-2,null,null,"","",""]
[44,null,null,"","","",null,null,null,null,null,null,null,null,null,null,null,null,41,0.8,6.1731464958286769E-2,null,null,"","",""]
[45,null,null,"","","",null,null,null,null,null,null,null,null,null,null,null,null,42,0.82,6.6712504841671114E-2,null,null,"","",""]
[46,null,null,"","","",null,null,null,null,null,null,null,null,null,null,null,null,43,0.84,7.1509602547464496E-2,null,null,"","",""]
[47,null,null,"","","",null,null,null,null,null,null,null,null,null,null,null,null,44,0.86,7.6122758075666916E-2,null,null,"","",""]
[48,null,null,"","","",null,null,null,null,null,null,null,null,null,null,null,null,45,0.88,8.055197142627836E-2,null,null,"","",""]
[49,null,null,"","","",null,null,null,null,null,null,null,null,null,null,null,null,46,0.9,8.4797242599298828E-2,null,null,"","",""]
[50,null,null,"","","",null,null,null,null,null,null,null,null,null,null,null,null,47,0.92,8.8858571594728319E-2,null,null,"","",""]
[51,null,null,"","","",null,null,null,null,null,null,null,null,null,null,null,null,48,0.94,9.2735958412566835E-2,null,null,"","",""]
[52,null,null,"","","",null,null,null,null,null,null,null,null,null,null,null,null,49,0.96,9.6429403052814389E-2,null,null,"","",""]
[53,null,null,"","","",null,null,null,null,null,null,null,null,null,null,null,null,50,0.98,9.9938905515470966E-2,null,null,"","",""]
[54,null,null,"","","",null,null,null,null,null,null,null,null,null,null,null,null,51,1,0.10326446580053658,null,null,"","",""]
[55,null,null,"","","",null,null,null,null,null,null,null,null,null,null,null,null,52,1.02,0.10640608390801121,null,null,"","",""]
[56,null,null,"","","",null,null,null,null,null,null,null,null,null,null,null,null,53,1.04,0.10936375983789487,null,null,"","",""]
[57,null,null,"","","",null,null,null,null,null,null,null,null,null,null,null,null,54,1.06,0.11213749359018757,null,null,"","",""]
[58,null,null,"","","",null,null,null,null,null,null,null,null,null,null,null,null,55,1.08,0.11472728516488928,null,null,"","",""]
[59,null,null,"","","",null,null,null,null,null,null,null,null,null,null,null,null,56,1.1000000000000001,0.11713313456200003,null,null,"","",""]
[60,null,null,"","","",null,null,null,null,null,null,null,null,null,null,null,null,57,1.1200000000000001,0.11935504178151979,null,null,"","",""]
[61,null,null,"","","",null,null,null,null,null,null,null,null,null,null,null,null,58,1.1399999999999999,0.12139300682344857,null,null,"","",""]
[62,null,null,"","","",null,null,null,null,null,null,null,null,null,null,null,null,59,1.1599999999999999,0.12324702968778641,null,null,"","",""]
[63,null,null,"","","",null,null,null,null,null,null,null,null,null,null,null,null,60,1.18,0.12491711037453326,null,null,"","",""]
[64,null,null,"","","",null,null,null,null,null,null,null,null,null,null,null,null,61,1.2,0.12640324888368915,null,null,"","",""]
[65,null,null,"","","",null,null,null,null,null,null,null,null,null,null,null,null,62,1.22,0.12770544521525407,null,null,"","",""]
[{"$f":"A68+1","v":66},null,null,{"$f":"IF(ISBLANK(B69),\"\",IF(B69<$J$8,C69-($H$8+$I$8*($J$8-B69)^2),C69-$H$8))","v":""},{"$f":"IF(ISBLANK(B69),\"\",IF(B69<$J$8,($H$8+$I$8*($J$8-B69)^2),$H$8))","v":""},{"$f":"IF(ISBLANK(B69),\"\",D69^2/E69)","v":""},null,null,null,null,null,null,null,null,null,null,null,null,63,1.24,0.128823699369228,null,null,"",{"$f":"IF(ISBLANK(B69),\"\",($J$8-B69)^2*IF(B69<$J$8,1,0))","v":""},{"$f":"IF(ISBLANK(B69),\"\",2*$I$8*($J$8-B69)*IF(B69<$J$8,1,0))","v":""}]
[67,null,null,"","","",null,null,null,null,null,null,null,null,null,null,null,null,64,1.26,0.12975801134561096,null,null,"","",""]
[68,null,null,"","","",null,null,null,null,null,null,null,null,null,null,null,null,65,{"$f":"$S$4+(S71-1)*($T$4-$S$4)/($U$4-1)","v":1.28},0.13050838114440294,null,null,"","",""]
[69,null,null,"","","",null,null,null,null,null,null,null,null,null,null,null,null,66,1.3,{"$f":"IF(T72<$J$8,($H$8+$I$8*($J$8-T72)^2),$H$8)","v":0.13107480876560398},null,null,"","",""]
[70,null,null,"","","",null,null,null,null,null,null,null,null,null,null,null,null,67,1.32,0.13145729420921401,null,null,"","",""]
[71,null,null,"","","",null,null,null,null,null,null,null,null,null,null,null,null,68,1.34,0.1316558374752331,null,null,"","",""]
[72,null,null,"","","",null,null,null,null,null,null,null,null,null,null,null,null,69,1.36,0.13168671029925563,null,null,"","",""]
[73,null,null,"","","",null,null,null,null,null,null,null,null,null,null,null,null,70,1.38,0.13168671029925563,null,null,"","",""]
[74,null,null,"","","",null,null,null,null,null,null,null,null,null,null,null,null,71,1.4,0.13168671029925563,null,null,"","",""]
[75,null,null,"","","",null,null,null,null,null,null,null,null,null,null,null,null,72,1.42,0.13168671029925563,null,null,"","",""]
[76,null,null,"","","",null,null,null,null,null,null,null,null,null,null,null,null,73,1.44,0.13168671029925563,null,null,"","",""]
[77,null,null,"","","",null,null,null,null,null,null,null,null,null,null,null,null,74,1.46,0.13168671029925563,null,null,"","",""]
[78,null,null,"","","",null,null,null,null,null,null,null,null,null,null,null,null,75,1.48,0.13168671029925563,null,null,"","",""]
[79,null,null,"","","",null,null,null,null,null,null,null,null,null,null,null,null,76,1.5,0.13168671029925563,null,null,"","",""]
[80,null,null,"","","",null,null,null,null,null,null,null,null,null,null,null,null,77,1.52,0.13168671029925563,null,null,"","",""]
[81,null,null,"","","",null,null,null,null,null,null,null,null,null,null,null,null,78,1.54,0.13168671029925563,null,null,"","",""]
[82,null,null,"","","",null,null,null,null,null,null,null,null,null,null,null,null,79,1.56,0.13168671029925563,null,null,"","",""]
[83,null,null,"","","",null,null,null,null,null,null,null,null,null,null,null,null,80,1.58,0.13168671029925563,null,null,"","",""]
[84,null,null,"","","",null,null,null,null,null,null,null,null,null,null,null,null,81,1.6,0.13168671029925563,null,null,"","",""]
[85,null,null,"","","",null,null,null,null,null,null,null,null,null,null,null,null,82,1.62,0.13168671029925563,null,null,"","",""]
[86,null,null,"","","",null,null,null,null,null,null,null,null,null,null,null,null,83,1.64,0.13168671029925563,null,null,"","",""]
[87,null,null,"","","",null,null,null,null,null,null,null,null,null,null,null,null,84,1.66,0.13168671029925563,null,null,"","",""]
[88,null,null,"","","",null,null,null,null,null,null,null,null,null,null,null,null,85,1.68,0.13168671029925563,null,null,"","",""]
[89,null,null,"","","",null,null,null,null,null,null,null,null,null,null,null,null,86,1.7,0.13168671029925563,null,null,"","",""]
[90,null,null,"","","",null,null,null,null,null,null,null,null,null,null,null,null,87,1.72,0.13168671029925563,null,null,"","",""]
[91,null,null,"","","",null,null,null,null,null,null,null,null,null,null,null,null,88,1.74,0.13168671029925563,null,null,"","",""]
[92,null,null,"","","",null,null,null,null,null,null,null,null,null,null,null,null,89,1.76,0.13168671029925563,null,null,"","",""]
[93,null,null,"","","",null,null,null,null,null,null,null,null,null,null,null,null,90,1.78,0.13168671029925563,null,null,"","",""]
[94,null,null,"","","",null,null,null,null,null,null,null,null,null,null,null,null,91,1.8,0.13168671029925563,null,null,"","",""]
[95,null,null,"","","",null,null,null,null,null,null,null,null,null,null,null,null,92,1.82,0.13168671029925563,null,null,"","",""]
[96,null,null,"","","",null,null,null,null,null,null,null,null,null,null,null,null,93,1.84,0.13168671029925563,null,null,"","",""]
[97,null,null,"","","",null,null,null,null,null,null,null,null,null,null,null,null,94,1.86,0.13168671029925563,null,null,{"$f":"IF(ISBLANK(B100),\"\",1)","v":""},"",""]
[98,null,null,"","","",null,null,null,null,null,null,null,null,null,null,null,null,95,1.88,0.13168671029925563,null,null,{"$f":"IF(ISBLANK(B101),\"\",1)","v":""},{"$f":"IF(ISBLANK(B101),\"\",($J$8-B101)^2*IF(B101<$J$8,1,0))","v":""},{"$f":"IF(ISBLANK(B101),\"\",2*$I$8*($J$8-B101)*IF(B101<$J$8,1,0))","v":""}]
[99,null,null,"","","",null,null,null,null,null,null,null,null,null,null,null,null,96,1.9,0.13168671029925563,null,null,{"$f":"IF(ISBLANK(B102),\"\",1)","v":""},{"$f":"IF(ISBLANK(B102),\"\",($J$8-B102)^2*IF(B102<$J$8,1,0))","v":""},{"$f":"IF(ISBLANK(B102),\"\",2*$I$8*($J$8-B102)*IF(B102<$J$8,1,0))","v":""}]
[100,null,null,"","","",null,null,null,null,null,null,null,null,null,null,null,null,97,{"$f":"$S$4+(S103-1)*($T$4-$S$4)/($U$4-1)","v":1.92},0.13168671029925563,null,null,{"$f":"IF(ISBLANK(B103),\"\",1)","v":""},{"$f":"IF(ISBLANK(B103),\"\",($J$8-B103)^2*IF(B103<$J$8,1,0))","v":""},{"$f":"IF(ISBLANK(B103),\"\",2*$I$8*($J$8-B103)*IF(B103<$J$8,1,0))","v":""}]
[null,null,null,{"$f":"SUM(D4:D103)","v":7.1283965822899198E-6},0.83999287160341773,{"$f":"SUM(F4:F103)","v":2.732890540450474E-5},null,null,null,null,null,null,null,null,null,null,null,null,98,{"$f":"$S$4+(S104-1)*($T$4-$S$4)/($U$4-1)","v":1.94},0.13168671029925563]
[null,null,null,null,null,null,null,null,null,null,null,null,null,null,null,null,null,null,99,{"$f":"$S$4+(S105-1)*($T$4-$S$4)/($U$4-1)","v":1.96},0.13168671029925563]
[null,null,null,null,null,null,null,null,null,null,null,null,null,null,null,null,null,null,100,{"$f":"$S$4+(S106-1)*($T$4-$S$4)/($U$4-1)","v":1.98},0.13168671029925563]
[null,null,null,null,null,null,null,null,null,null,null,null,null,null,null,null,null,null,101,{"$f":"$S$4+(S107-1)*($T$4-$S$4)/($U$4-1)","v":2},0.13168671029925563]

{"sheet":"Saturation Kinetics","index":7,"n_rows":107,"n_cols":35,"rows_kept":107,"cut":false,"hidden":false,"merged":[[1,1,1,3],[1,7,1,10],[2,27,2,29],[6,13,8,16],[2,32,3,32],[17,7,17,12],[18,7,19,7],[18,8,18,11],[19,8,19,11],[1,23,1,25],[5,7,5,11],[4,13,5,16],[1,18,1,20],[2,34,3,34],[4,18,4,20],[2,13,2,15],[13,13,14,15],[15,7,15,10],[2,33,3,33],[8,27,8,29]]}
[null,"Fitting the Saturation Kinetics Model to Nutritional Response Data"]
[null,"Data",null,null,null,null,null,"Sample Statistics",null,null,null,null,null,null,null,null,null,null,"Plotting Parameters",null,null,null,null,"Error Analysis"]
["Point","Input","Output","Residuals","Expected","Qm",null,"Min Input",{"$f":"MIN(B4:B103)","v":0.95},"Min Output",{"$f":"MIN(C4:C103)","v":9.5000000000000001E-2},null,null,"Instructions",null,null,null,null,"Min Input","Max Input","# of Points",null,null,"Maximum(X0)","Rate Constant (X1)","Intercept(X2)","Kinetic Order (X3)","Q0",null,null,null,null,"Number of Observations, T","Number of Regressors, K","sigma"]
[1,0.95,9.5000000000000001E-2,{"$f":"IF(ISBLANK(B4),\"\",C4-($J$8*$I$8+$H$8*B4^$K$8)/($I$8+B4^$K$8))","v":5.4063725572761623E-7},{"$f":"IF(ISBLANK(B4),\"\",($J$8*$I$8+$H$8*B4^$K$8)/($I$8+B4^$K$8))","v":9.4999459362744273E-2},{"$f":"IF(ISBLANK(B4),\"\",D4^2/E4)","v":3.0767400597998992E-12},null,"Max Input",{"$f":"MAX(B4:B103)","v":1.43},"Max Output",{"$f":"MAX(C4:C103)","v":0.13200000000000001},null,null,"1. Copy data in cells B4:C103",null,null,null,null,{"$f":"FLOOR(I3,1)","v":0},{"$f":"CEILING(I4,1)","v":2},101,null,null,{"$f":"IF(ISBLANK(B4),\"\",$B4^$K$8/($I$8 + $B4^$K$8))","v":0.24500178620874019},{"$f":"IF(ISBLANK(B4),\"\",$J$8/($I$8 + $B4^$K$8) - ($I$8*$J$8 + $H$8*$B4^$K$8)/($I$8 + $B4^$K$8)^2)","v":-5.9218036363229976E-3},{"$f":"IF(ISBLANK(B4),\"\",$I$8/($I$8 + $B4^$K$8))","v":0.75499821379125986},{"$f":"IF(ISBLANK(B4),\"\",($H$8* LN($B4)*$B4^$K$8)/($I$8 + $B4^$K$8) -(LN($B4)*$B4^$K$8)*($I$8*$J$8 + $H$8*$B4^$K$8)/($I$8 + $B4^$K$8)^2)","v":-4.7569929020799262E-4},{"$f":"SUMPRODUCT(X$4:X$103,X$4:X$103)","v":4.349613299560148},{"$f":"SUMPRODUCT(X$4:X$103,Y$4:Y$103)","v":-1.6310589615629312E-2},{"$f":"SUMPRODUCT(X$4:X$103,Z$4:Z$103)","v":0.85589694778982228},{"$f":"SUMPRODUCT(X$4:X$103,AA$4:AA$103)","v":3.0220244910966016E-3}]
[{"$f":"A4+1","v":2},1.03,0.107,-5.087029950601174E-5,{"$f":"IF(ISBLANK(B5),\"\",($J$8*$I$8+$H$8*B5^$K$8)/($I$8+B5^$K$8))","v":0.10705087029950601},{"$f":"IF(ISBLANK(B5),\"\",D5^2/E5)","v":2.4173436092497418E-8},null,null,null,null,null,null,null,"2. View the data and estimate values for the Max and Intercept in cells H8 and J8",null,null,null,null,"Prediction",null,null,null,null,0.48537228247786723,-7.9966294656624651E-3,0.51462771752213288,3.7017894446126861E-4,{"$f":"SUMPRODUCT(Y$4:Y$103,X$4:X$103)","v":-1.6310589615629312E-2},{"$f":"SUMPRODUCT(Y$4:Y$103,Y$4:Y$103)","v":1.5997910964225782E-4},{"$f":"SUMPRODUCT(Y$4:Y$103,Z$4:Z$103)","v":-1.109002504465491E-2},{"$f":"SUMPRODUCT(Y$4:Y$103,AA$4:AA$103)","v":-1.2723298017884523E-5},null,{"$f":"COUNT(B4:B53)","v":7},4,{"$f":"SQRT(L8/(AG5-AH5))","v":1.0023059846921776E-3}]
[3,1.1100000000000001,0.11899999999999999,3.4705902345992523E-4,0.11865294097654007,1.0151452191039426E-6,null,"Regression",null,null,null,null,null,null,null,null,null,null,"Point","Input","Output",null,null,0.71678049692031065,-6.499024347345856E-3,0.28321950307968941,1.0621851026993302E-3,{"$f":"SUMPRODUCT(Z$4:Z$103,X$4:X$103)","v":0.85589694778982228},{"$f":"SUMPRODUCT(Z$4:Z$103,Y$4:Y$103)","v":-1.109002504465491E-2},{"$f":"SUMPRODUCT(Z$4:Z$103,Z$4:Z$103)","v":0.93859280486020824},{"$f":"SUMPRODUCT(Z$4:Z$103,AA$4:AA$103)","v":3.3172445358693666E-4}]
[4,1.19,0.125,-1.0221542694513475E-3,0.12602215426945135,8.2906006218851354E-6,null,"Max or Min","Rate Constant","Intercept","Kinetic Order","SSE",null,"3. Guess the Rate Constant and Kinetic Order values in cells I8 and K8 until the predicted line is close to the observed points",null,null,null,null,1,{"$f":"$S$4+(S7-1)*($T$4-$S$4)/($U$4-1)","v":0},{"$f":"($J$8*$I$8+$H$8*T7^$K$8)/($I$8+T7^$K$8)","v":8.2715850302269897E-2},null,null,0.86376257774263288,-3.7672950047389622E-3,0.13623742225736704,1.0263139391432849E-3,{"$f":"SUMPRODUCT(AA$4:AA$103,X$4:X$103)","v":3.0220244910966016E-3},{"$f":"SUMPRODUCT(AA$4:AA$103,Y$4:Y$103)","v":-1.2723298017884523E-5},{"$f":"SUMPRODUCT(AA$4:AA$103,Z$4:Z$103)","v":3.3172445358693666E-4},{"$f":"SUMPRODUCT(AA$4:AA$103,AA$4:AA$103)","v":3.2787801506302637E-6}]
[5,1.27,0.13100000000000001,1.2884557956467091E-3,0.1297115442043533,1.2798539617415783E-5,null,0.13285266461107992,1.5660942964543876,8.2715850302269883E-2,13.19597580380278,{"$f":"SUMPRODUCT(D4:D53,D4:D53)","v":3.0138518608492678E-6},null,null,null,null,null,null,2,0.02,{"$f":"($J$8*$I$8+$H$8*T8^$K$8)/($I$8+T8^$K$8)","v":8.2715850302269897E-2},null,null,0.93734902286811883,-1.8800439734837295E-3,6.2650977131881114E-2,7.0374370890269669E-4]
[6,1.35,0.13100000000000001,-3.9948385766114258E-4,0.13139948385766115,1.2145203911508622E-6,null,null,null,null,null,null,null,null,null,null,null,null,3,0.04,8.2715850302269897E-2,null,null,0.97101569428667478,-9.0100661333074035E-4,2.8984305713325168E-2,4.2346598182232964E-4,"inv(Q0)"]
[7,1.43,0.13200000000000001,-1.6219979962625586E-4,0.13216219979962626,1.9906429401663112E-7,null,{"$f":"IF(ISNUMBER(H13),H$8-1.96*H$13,\"N/A\")","v":0.13066000240419332},{"$f":"IF(ISNUMBER(I13),I$8-1.96*I$13,\"N/A\")","v":0.4106145160200203},{"$f":"IF(ISNUMBER(J13),J$8-1.96*J$13,\"N/A\")","v":6.9212552454293905E-2},{"$f":"IF(ISNUMBER(K13),K$8-1.96*K$13,\"N/A\")","v":8.4754094524384271},"Lower 95% Confidence Levels",null,"4. Press the button below to run solver with current settings",null,null,null,null,4,0.06,8.2715850302269897E-2,null,null,0.9862283868456253,-4.3481161939946998E-4,1.3771613154374779E-2,2.4356055786262099E-4,{"$f":"MINVERSE(AB4:AE7)","v":1.2457493592415296},-386.86414713129386,-4.9475509883807458,-2148.8629727777015]
[8,null,null,"","","",null,{"$f":"IF(ISNUMBER(H14),H$8+1.96*H$13,\"N/A\")","v":0.13504532681796652},{"$f":"IF(ISNUMBER(I14),I$8+1.96*I$13,\"N/A\")","v":2.7215740768887549},{"$f":"IF(ISNUMBER(J14),J$8+1.96*J$13,\"N/A\")","v":9.6219148150245862E-2},{"$f":"IF(ISNUMBER(K14),K$8+1.96*K$13,\"N/A\")","v":17.916542155167132},"Upper 95% Confidence Levels",null,null,null,null,null,null,5,0.08,8.2715850302269994E-2,null,null,"","","","",-386.86414713129312,345948.86550954869,3982.2824671534922,1296123.1834719926]
[9,null,null,"","","",null,null,null,null,null,null,null,null,null,null,null,null,6,0.1,8.2715850302271937E-2,null,null,"","","","",-4.9475509883807369,3982.2824671534931,47.246202239664036,15233.307499197426]
[10,null,null,"","","",null,{"$f":"IF(ISNUMBER(AB10),SQRT(AB10)*$AI$5,\"N/A\")","v":1.1187052075952012E-3},{"$f":"IF(ISNUMBER(AC11),SQRT(AC11)*$AI$5,\"N/A\")","v":0.58953050022161602},{"$f":"IF(ISNUMBER(AD12),SQRT(AD12)*$AI$5,\"N/A\")","v":6.8894376775387664E-3},{"$f":"IF(ISNUMBER(AE13),SQRT(AE13)*$AI$5,\"N/A\")","v":2.4084522200838538},"Standard Errors",null,null,null,null,null,null,7,0.12,8.2715850302292504E-2,null,null,"","","","",-2148.8629727776993,1296123.1834719933,15233.307499197432,5773981.9648524057]
[11,null,null,"","","",null,{"$f":"IF(ISNUMBER(H13),H8/H13,\"N/A\")","v":118.75573985810219},{"$f":"IF(ISNUMBER(I13),I8/I13,\"N/A\")","v":2.6565110640851697},{"$f":"IF(ISNUMBER(J13),J8/J13,\"N/A\")","v":12.006183113020032},{"$f":"IF(ISNUMBER(K13),K8/K13,\"N/A\")","v":5.4790274408447024},"t-Statistics",null,"5. Solver will attempt to minimize SSE (red cell) by changing cells H8:K8",null,null,null,null,8,0.14000000000000001,8.2715850302442731E-2,null,null,"","","",""]
[12,null,null,"","","",null,{"$f":"IF(ISNUMBER(H14),2*TDIST(ABS(H14),$AG$5-$AH$5,1),\"N/A\")","v":1.3164248363772986E-6},{"$f":"IF(ISNUMBER(I14),2*TDIST(ABS(I14),$AG$5-$AH$5,1),\"N/A\")","v":7.6566465927905308E-2},{"$f":"IF(ISNUMBER(J14),2*TDIST(ABS(J14),$AG$5-$AH$5,1),\"N/A\")","v":1.2431246496133993E-3},{"$f":"IF(ISNUMBER(K14),2*TDIST(ABS(K14),$AG$5-$AH$5,1),\"N/A\")","v":1.1955972058680176E-2},"p-values",null,null,null,null,null,null,9,0.16,8.2715850303276647E-2,null,null,"","","",""]
[13,null,null,"","","",null,{"$f":"1-L8/(SUMPRODUCT(C4:C103,C4:C103)-COUNT(C4:C103)*AVERAGE(C4:C103)^2)","v":0.9975009520225131},null,null,null,"Goodness of Fit (R2)",null,null,null,null,null,null,10,0.18,8.2715850307033462E-2,null,null,"","","",""]
[14,null,null,"","","",null,null,null,null,null,null,null,null,null,null,null,null,11,0.2,8.2715850321401316E-2,null,null,"","","",""]
[15,null,null,"","","",null,"Functional Form",null,null,null,null,null,null,null,null,null,null,12,0.22,8.2715850369562041E-2,null,null,"","","",""]
[16,null,null,"","","",null," y =","Intercept×Rate Constant + Maximum×XKinetic Order",null,null,null,null,null,null,null,null,null,13,0.24,8.2715850514409314E-2,null,null,"","","",""]
[17,null,null,"","","",null,null,"Rate Constant + XKinetic Order",null,null,null,null,null,null,null,null,null,14,0.26,8.2715850912285963E-2,null,null,"","","",""]
[18,null,null,"","","",null,null,null,null,null,null,null,null,null,null,null,null,15,0.28000000000000003,8.2715851924265116E-2,null,null,"","","",""]
[19,null,null,"",{"$f":"IF(ISBLANK(B22),\"\",($J$8*$I$8+$H$8*B22^$K$8)/($I$8+B22^$K$8))","v":""},{"$f":"IF(ISBLANK(B22),\"\",D22^2/E22)","v":""},null,null,null,null,null,null,null,null,null,null,null,null,16,0.3,8.2715854333555064E-2,null,null,"","","",""]
[20,null,null,"","","",null,null,null,null,null,null,null,null,null,null,null,null,17,0.32,8.2715859749616136E-2,null,null,"","","",""]
[21,null,null,"","","",null,null,null,null,null,null,null,null,null,null,null,null,18,0.34,8.2715871327742732E-2,null,null,"","","",""]
[22,null,null,"","","",null,null,null,null,null,null,null,null,null,null,null,null,19,0.36,8.2715895003242876E-2,null,null,"","","",""]
[23,null,null,"","","",null,null,null,null,null,null,null,null,null,null,null,null,20,0.38,8.2715941539595356E-2,null,null,"","","",""]
[24,null,null,"","","",null,null,null,null,null,null,null,null,null,null,null,null,21,0.4,8.2716029829589435E-2,null,null,"","","",""]
[25,null,null,"","","",null,null,null,null,null,null,null,null,null,null,null,null,22,0.42,8.2716192079101206E-2,null,null,"","","",""]
[26,null,null,"","","",null,null,null,null,null,null,null,null,null,null,null,null,23,0.44,8.2716481758865298E-2,null,null,"","","",""]
[27,null,null,"","","",null,null,null,null,null,null,null,null,null,null,null,null,24,0.46,8.2716985547015745E-2,null,null,"","","",""]
[28,null,null,"","","",null,null,null,null,null,null,null,null,null,null,null,null,25,0.48,8.2717840923654362E-2,null,null,"","","",""]
[29,null,null,"","","",null,null,null,null,null,null,null,null,null,null,null,null,26,0.5,8.2719261640158762E-2,null,null,"","","",""]
[30,null,null,"","","",null,null,null,null,null,null,null,null,null,null,null,null,27,0.52,8.2721573994052999E-2,null,null,"","","",""]
[31,null,null,"","","",null,null,null,null,null,null,null,null,null,null,null,null,28,0.54,8.2725267718681494E-2,null,null,"","","",""]
[32,null,null,"","","",null,null,null,null,null,null,null,null,null,null,null,null,29,0.56000000000000005,8.2731066365363468E-2,null,null,"","","",""]
[33,null,null,{"$f":"IF(ISBLANK(B36),\"\",C36-($J$8*$I$8+$H$8*B36^$K$8)/($I$8+B36^$K$8))","v":""},"","",null,null,null,null,null,null,null,null,null,null,null,null,30,0.57999999999999996,8.2740023322361189E-2,null,null,{"$f":"IF(ISBLANK(B36),\"\",$B36^$K$8/($I$8 + $B36^$K$8))","v":""},{"$f":"IF(ISBLANK(B36),\"\",$J$8/($I$8 + $B36^$K$8) - ($I$8*$J$8 + $H$8*$B36^$K$8)/($I$8 + $B36^$K$8)^2)","v":""},{"$f":"IF(ISBLANK(B36),\"\",$I$8/($I$8 + $B36^$K$8))","v":""},{"$f":"IF(ISBLANK(B36),\"\",($H$8* LN($B36)*$B36^$K$8)/($I$8 + $B36^$K$8) -(LN($B36)*$B36^$K$8)*($I$8*$J$8 + $H$8*$B36^$K$8)/($I$8 + $B36^$K$8)^2)","v":""}]
[{"$f":"A36+1","v":34},null,null,"","","",null,null,null,null,null,null,null,null,null,null,null,null,31,0.6,8.2753651062542136E-2,null,null,"","","",""]
[35,null,null,"","","",null,null,null,null,null,null,null,null,null,null,null,null,32,0.62,8.2774092772320368E-2,null,null,"","","",""]
[36,null,null,"","","",null,null,null,null,null,null,null,null,null,null,null,null,33,{"$f":"$S$4+(S39-1)*($T$4-$S$4)/($U$4-1)","v":0.64},8.2804347027742572E-2,null,null,"","","",""]
[37,null,null,"","","",null,null,null,null,null,null,null,null,null,null,null,null,34,0.66,8.2848557326288583E-2,null,null,"","","",""]
[38,null,null,"","","",null,null,null,null,null,null,null,null,null,null,null,null,35,0.68,8.2912378460097927E-2,null,null,"","","",""]
[39,null,null,"","","",null,null,null,null,null,null,null,null,null,null,null,null,36,0.7,8.3003429899773093E-2,null,null,"","","",""]
[40,null,null,"","","",null,null,null,null,null,null,null,null,null,null,null,null,37,0.72,8.3131840868758231E-2,null,null,"","","",""]
[41,null,null,"","","",null,null,null,null,null,null,null,null,null,null,null,null,38,0.74,8.3310880047154048E-2,null,null,"","","",""]
[42,null,null,"","","",null,null,null,null,null,null,null,null,null,null,null,null,39,0.76,8.3557641183741843E-2,null,null,"","","",""]
[43,null,null,"","","",null,null,null,null,null,null,null,null,null,null,null,null,40,0.78,8.3893719677666567E-2,null,null,"","","",""]
[44,null,null,"","","",null,null,null,null,null,null,null,null,null,null,null,null,41,0.8,8.4345759721334332E-2,null,null,"","","",""]
[45,null,null,"","","",null,null,null,null,null,null,null,null,null,null,null,null,42,0.82,8.494567467385046E-2,null,null,"","","",""]
[46,null,null,"","","",null,null,null,null,null,null,null,null,null,null,null,null,43,0.84,8.5730250532904992E-2,null,null,"","","",""]
[47,null,null,"","","",null,null,null,null,null,null,null,null,null,null,null,null,44,0.86,8.673975567540472E-2,null,null,"","","",""]
[48,null,null,"","","",null,null,null,null,null,null,null,null,null,null,null,null,45,0.88,8.8015148111121183E-2,null,null,"","","",""]
[49,null,null,"","","",null,null,null,null,null,null,null,null,null,null,null,null,46,0.9,8.9593574199492584E-2,null,null,"","","",""]
[50,null,null,"","","",null,null,null,null,null,null,null,null,null,null,null,null,47,0.92,9.1502184103647743E-2,null,null,"","","",""]
[51,null,null,"","","",null,null,null,null,null,null,null,null,null,null,null,null,48,0.94,9.375089924632625E-2,null,null,"","","",""]
[52,null,null,"","","",null,null,null,null,null,null,null,null,null,null,null,null,49,0.96,9.6325562262337946E-2,null,null,"","","",""]
[53,null,null,"","","",null,null,null,null,null,null,null,null,null,null,null,null,50,0.98,9.9183559078979799E-2,null,null,"","","",""]
[54,null,null,"","","",null,null,null,null,null,null,null,null,null,null,null,null,51,1,0.10225403110025726,null,null,"","","",""]
[55,null,null,"","","",null,null,null,null,null,null,null,null,null,null,null,null,52,1.02,0.10544381535411787,null,null,"","","",""]
[56,null,null,"","","",null,null,null,null,null,null,null,null,null,null,null,null,53,1.04,0.10864840860903076,null,null,"","","",""]
[57,null,null,"","","",null,null,null,null,null,null,null,null,null,null,null,null,54,1.06,0.11176535838762673,null,null,"","","",""]
[58,null,null,"","","",null,null,null,null,null,null,null,null,null,null,null,null,55,1.08,0.11470657856092219,null,null,"","","",""]
[59,null,null,"","","",null,null,null,null,null,null,null,null,null,null,null,null,56,1.1000000000000001,0.11740667691779633,null,null,"","","",""]
[60,null,null,"","","",null,null,null,null,null,null,null,null,null,null,null,null,57,1.1200000000000001,0.11982605448071124,null,null,"","","",""]
[61,null,null,"","","",null,null,null,null,null,null,null,null,null,null,null,null,58,1.1399999999999999,0.12194932303425229,null,null,"","","",""]
[62,null,null,"","","",null,null,null,null,null,null,null,null,null,null,null,null,59,1.1599999999999999,0.12378068747775617,null,null,"","","",""]
[63,null,null,"","","",null,null,null,null,null,null,null,null,null,null,null,null,60,1.18,0.12533814082075317,null,null,"","","",""]
[64,null,null,"","","",null,null,null,null,null,null,null,null,null,null,null,null,61,1.2,0.12664789678553393,null,null,"","","",""]
[65,null,null,{"$f":"IF(ISBLANK(B68),\"\",C68-($J$8*$I$8+$H$8*B68^$K$8)/($I$8+B68^$K$8))","v":""},"","",null,null,null,null,null,null,null,null,null,null,null,null,62,1.22,0.12773985318111175,null,null,{"$f":"IF(ISBLANK(B68),\"\",$B68^$K$8/($I$8 + $B68^$K$8))","v":""},{"$f":"IF(ISBLANK(B68),\"\",$J$8/($I$8 + $B68^$K$8) - ($I$8*$J$8 + $H$8*$B68^$K$8)/($I$8 + $B68^$K$8)^2)","v":""},{"$f":"IF(ISBLANK(B68),\"\",$I$8/($I$8 + $B68^$K$8))","v":""},{"$f":"IF(ISBLANK(B68),\"\",($H$8* LN($B68)*$B68^$K$8)/($I$8 + $B68^$K$8) -(LN($B68)*$B68^$K$8)*($I$8*$J$8 + $H$8*$B68^$K$8)/($I$8 + $B68^$K$8)^2)","v":""}]
[{"$f":"A68+1","v":66},null,null,"","","",null,null,null,null,null,null,null,null,null,null,null,null,63,1.24,0.12864433517619467,null,null,"","","",""]
[67,null,null,"","","",null,null,null,null,null,null,null,null,null,null,null,null,64,1.26,0.12939002516572817,null,null,"","","",""]
[68,null,null,"","","",null,null,null,null,null,null,null,null,null,null,null,null,65,{"$f":"$S$4+(S71-1)*($T$4-$S$4)/($U$4-1)","v":1.28},0.13000283209425589,null,null,"","","",""]
[69,null,null,"","","",null,null,null,null,null,null,null,null,null,null,null,null,66,1.3,{"$f":"($J$8*$I$8+$H$8*T72^$K$8)/($I$8+T72^$K$8)","v":0.13050542537159884},null,null,"","","",""]
[70,null,null,"","","",null,null,null,null,null,null,null,null,null,null,null,null,67,1.32,0.13091719488659428,null,null,"","","",""]
[71,null,null,"","","",null,null,null,null,null,null,null,null,null,null,null,null,68,1.34,0.13125445637538202,null,null,"","","",""]
[72,null,null,"","","",null,null,null,null,null,null,null,null,null,null,null,null,69,1.36,0.13153077755312878,null,null,"","","",""]
[73,null,null,"","","",null,null,null,null,null,null,null,null,null,null,null,null,70,1.38,0.13175734573268144,null,null,"","","",""]
[74,null,null,"","","",null,null,null,null,null,null,null,null,null,null,null,null,71,1.4,0.13194333048297241,null,null,"","","",""]
[75,null,null,"","","",null,null,null,null,null,null,null,null,null,null,null,null,72,1.42,0.13209621690526785,null,null,"","","",""]
[76,null,null,"","","",null,null,null,null,null,null,null,null,null,null,null,null,73,1.44,0.13222209895541309,null,null,"","","",""]
[77,null,null,"","","",null,null,null,null,null,null,null,null,null,null,null,null,74,1.46,0.13232593039823323,null,null,"","","",""]
[78,null,null,"","","",null,null,null,null,null,null,null,null,null,null,null,null,75,1.48,0.13241173541022078,null,null,"","","",""]
[79,null,null,"","","",null,null,null,null,null,null,null,null,null,null,null,null,76,1.5,0.13248278295933666,null,null,"","","",""]
[80,null,null,"","","",null,null,null,null,null,null,null,null,null,null,null,null,77,1.52,0.13254172983703655,null,null,"","","",""]
[81,null,null,"","","",null,null,null,null,null,null,null,null,null,null,null,null,78,1.54,0.13259073720807876,null,null,"","","",""]
[82,null,null,"","","",null,null,null,null,null,null,null,null,null,null,null,null,79,1.56,0.13263156515407165,null,null,"","","",""]
[83,null,null,"",{"$f":"IF(ISBLANK(B86),\"\",($J$8*$I$8+$H$8*B86^$K$8)/($I$8+B86^$K$8))","v":""},{"$f":"IF(ISBLANK(B86),\"\",D86^2/E86)","v":""},null,null,null,null,null,null,null,null,null,null,null,null,80,1.58,0.1326656491386328,null,null,"","","",""]
[84,null,null,"","","",null,null,null,null,null,null,null,null,null,null,null,null,81,1.6,0.13269416173949189,null,null,"","","",""]
[85,null,null,"","","",null,null,null,null,null,null,null,null,null,null,null,null,82,1.62,0.13271806244036299,null,null,"","","",""]
[86,null,null,"","","",null,null,null,null,null,null,null,null,null,null,null,null,83,1.64,0.13273813778232718,null,null,"","","",""]
[87,null,null,"","","",null,null,null,null,null,null,null,null,null,null,null,null,84,1.66,0.13275503375036651,null,null,"","","",""]
[88,null,null,"","","",null,null,null,null,null,null,null,null,null,null,null,null,85,1.68,0.13276928191459725,null,null,"","","",""]
[89,null,null,"","","",null,null,null,null,null,null,null,null,null,null,null,null,86,1.7,0.13278132055159589,null,null,"","","",""]
[90,null,null,"","","",null,null,null,null,null,null,null,null,null,null,null,null,87,1.72,0.13279151173096121,null,null,"","","",""]
[91,null,null,"","","",null,null,null,null,null,null,null,null,null,null,null,null,88,1.74,0.13280015515758101,null,null,"","","",""]
[92,null,null,"","","",null,null,null,null,null,null,null,null,null,null,null,null,89,1.76,0.13280749940319439,null,null,"","","",""]
[93,null,null,"","","",null,null,null,null,null,null,null,null,null,null,null,null,90,1.78,0.13281375103490159,null,null,"","","",""]
[94,null,null,"","","",null,null,null,null,null,null,null,null,null,null,null,null,91,1.8,0.13281908204741791,null,null,"","","",""]
[95,null,null,"","","",null,null,null,null,null,null,null,null,null,null,null,null,92,1.82,0.13282363592522597,null,null,"","","",""]
[96,null,null,"","","",null,null,null,null,null,null,null,null,null,null,null,null,93,1.84,0.13282753259634308,null,null,"","","",""]
[97,null,null,{"$f":"IF(ISBLANK(B100),\"\",C100-($J$8*$I$8+$H$8*B100^$K$8)/($I$8+B100^$K$8))","v":""},"","",null,null,null,null,null,null,null,null,null,null,null,null,94,1.86,0.13283087248794687,null,null,"","","",""]
[98,null,null,"","","",null,null,null,null,null,null,null,null,null,null,null,null,95,1.88,0.13283373985296543,null,null,"","","",""]
[99,null,null,"","","",null,null,null,null,null,null,null,null,null,null,null,null,96,1.9,0.1328362055038485,null,null,"","","",""]
[{"$f":"A102+1","v":100},null,null,"","","",null,null,null,null,null,null,null,null,null,null,null,null,97,{"$f":"$S$4+(S103-1)*($T$4-$S$4)/($U$4-1)","v":1.92},0.1328383290634095,null,null,"","","",""]
[null,null,null,{"$f":"SUM(D4:D103)","v":1.3472301176042922E-6},0.83999865276988239,{"$f":"SUM(F4:F103)","v":2.3542046656404908E-5},null,null,null,null,null,null,null,null,null,null,null,null,98,{"$f":"$S$4+(S104-1)*($T$4-$S$4)/($U$4-1)","v":1.94},0.13284016082153796]
[null,null,null,null,null,null,null,null,null,null,null,null,null,null,null,null,null,null,99,{"$f":"$S$4+(S105-1)*($T$4-$S$4)/($U$4-1)","v":1.96},0.13284174326965748]
[null,null,null,null,null,null,null,null,null,null,null,null,null,null,null,null,null,null,100,{"$f":"$S$4+(S106-1)*($T$4-$S$4)/($U$4-1)","v":1.98},0.13284311237120991]
[null,null,null,null,null,null,null,null,null,null,null,null,null,null,null,null,null,null,101,{"$f":"$S$4+(S107-1)*($T$4-$S$4)/($U$4-1)","v":2},0.13284429861550584]

{"sheet":"Logistics, 3 Parameters","index":8,"n_rows":107,"n_cols":33,"rows_kept":107,"cut":false,"hidden":false,"merged":[[2,32,3,32],[4,18,4,20],[2,13,2,15],[2,30,3,30],[2,31,3,31],[4,13,5,15],[1,23,1,25],[2,26,2,28],[6,26,6,28],[15,7,15,9],[1,1,1,3],[5,7,5,10],[1,7,1,10],[1,18,1,20],[19,7,20,7],[19,8,19,10],[20,8,20,10],[6,13,8,16],[13,13,14,15],[19,12,19,16],[20,12,20,16],[19,11,20,11],[17,8,17,15]]}
[null,"Fitting the Three-Parameter Logistics Model to Nutritional Response Data"]
[null,"Data",null,null,null,null,null,"Sample Statistics",null,null,null,null,null,null,null,null,null,null,"Plotting Parameters",null,null,null,null,"Error Analysis"]
["Point","Input","Output","Residuals","Expected","Qm",null,"Min Input",{"$f":"MIN(B4:B103)","v":0.95},"Min Output",{"$f":"MIN(C4:C103)","v":9.5000000000000001E-2},null,null,"Instructions",null,null,null,null,"Min Input","Max Input","# of Points",null,null,"Maximum(X0)","Intercept (X1)","c(X2)","Q0",null,null,null,"Number of Observations, T","Number of Regressors, K","sigma"]
[1,0.95,9.5000000000000001E-2,{"$f":"IF(ISBLANK(B4),\"\",C4-$H$8/(1+($H$8/$I$8-1)*EXP(-$J$8*B4)))","v":2.2238959408126813E-3},{"$f":"IF(ISBLANK(B4),\"\",$H$8/(1+($H$8/$I$8-1)*EXP(-$J$8*B4)))","v":9.277610405918732E-2},{"$f":"IF(ISBLANK(B4),\"\",D4^2/E4)","v":5.330804958578515E-5},null,"Max Input",{"$f":"MAX(B4:B103)","v":1.43},"Max Output",{"$f":"MAX(C4:C103)","v":0.13200000000000001},null,null,"1. Copy data in cells B4:C103",null,null,null,null,{"$f":"FLOOR(I3,1)","v":0},{"$f":"CEILING(I4,1)","v":2},101,null,null,{"$f":"IF(ISBLANK($B4),\"\",$I$8^2*EXP($J$8*$B4)*(EXP($J$8*$B4)-1)/($I$8*(EXP($J$8*$B4)-1)+$H$8)^2)","v":0.49172324172509713},{"$f":"IF(ISBLANK($B4),\"\",$H$8^2*EXP($J$8*$B4)/($I$8*(EXP($J$8*$B4)-1)+$H$8)^2)","v":461.37228274518731},{"$f":"IF(ISBLANK($B4),\"\",-$I$8*EXP($J$8*$B4)*($I$8-$H$8)*$H$8*$B4/($I$8*(EXP($J$8*$B4)-1)+$H$8)^2)","v":2.632681544824322E-2},{"$f":"SUMPRODUCT(X$4:X$103,X$4:X$103)","v":5.0606754003981322},{"$f":"SUMPRODUCT(X$4:X$103,Y$4:Y$103)","v":766.9456095578139},{"$f":"SUMPRODUCT(X$4:X$103,Z$4:Z$103)","v":4.9398050311230408E-2}]
[{"$f":"A4+1","v":2},1.03,0.107,-2.5746955012772577E-3,{"$f":"IF(ISBLANK(B5),\"\",$H$8/(1+($H$8/$I$8-1)*EXP(-$J$8*B5)))","v":0.10957469550127726},{"$f":"IF(ISBLANK(B5),\"\",D5^2/E5)","v":6.049806384558995E-5},null,null,null,null,null,null,null,"2. View the data and estimate values for the Maximum in cell H8",null,null,null,null,"Prediction",null,null,null,null,{"$f":"IF(ISBLANK($B5),\"\",$I$8^2*EXP($J$8*$B5)*(EXP($J$8*$B5)-1)/($I$8*(EXP($J$8*$B5)-1)+$H$8)^2)","v":0.68598113034221886},{"$f":"IF(ISBLANK($B5),\"\",$H$8^2*EXP($J$8*$B5)/($I$8*(EXP($J$8*$B5)-1)+$H$8)^2)","v":313.26434543846926},{"$f":"IF(ISBLANK($B5),\"\",-$I$8*EXP($J$8*$B5)*($I$8-$H$8)*$H$8*$B5/($I$8*(EXP($J$8*$B5)-1)+$H$8)^2)","v":1.938078732975005E-2},{"$f":"SUMPRODUCT(Y$4:Y$103,X$4:X$103)","v":766.9456095578139},{"$f":"SUMPRODUCT(Y$4:Y$103,Y$4:Y$103)","v":357592.99158261647},{"$f":"SUMPRODUCT(Y$4:Y$103,Z$4:Z$103)","v":21.406955241028449},null,{"$f":"COUNT(B4:B53)","v":7},3,{"$f":"SQRT(K8/(AE5-AF5))","v":2.0992109014167366E-3}]
[3,1.1100000000000001,0.11899999999999999,-1.1654670588737981E-3,{"$f":"IF(ISBLANK(B6),\"\",$H$8/(1+($H$8/$I$8-1)*EXP(-$J$8*B6)))","v":0.12016546705887379},{"$f":"IF(ISBLANK(B6),\"\",D6^2/E6)","v":1.1303692304998488E-5},null,"Regression",null,null,null,null,null,null,null,null,null,null,"Point","Input","Output",null,null,0.82503426269386881,183.3837991607636,1.2226641204626083E-2,{"$f":"SUMPRODUCT(Z$4:Z$103,X$4:X$103)","v":4.9398050311230408E-2},{"$f":"SUMPRODUCT(Z$4:Z$103,Y$4:Y$103)","v":21.406955241028449},{"$f":"SUMPRODUCT(Z$4:Z$103,Z$4:Z$103)","v":1.2874994558404343E-3}]
[4,1.19,0.125,-1.0979505910135579E-3,0.12609795059101356,9.5599928044582454E-6,null,"Max or Min","Intercept","Scale","SSE",null,null,"3. Guess values of the Intercept and Scale in cells I8 and J8 until the predicted line is close to the observed points",null,null,null,null,1,{"$f":"$S$4+(S7-1)*($T$4-$S$4)/($U$4-1)","v":0},{"$f":"IF(ISBLANK(T7),\"\",$I$8*EXP(T7*$J$8)*$H$8/($H$8+$I$8*(EXP($J$8*T7)-1)))","v":6.0092537438288561E-5},null,null,0.90852923392335228,98.294416687335811,7.0258526043542862E-3,"inv(Q0)"]
[5,1.27,0.13100000000000001,1.7972041589787435E-3,0.12920279584102126,2.4999016221172218E-5,null,0.13229204431565375,6.0092537438288554E-5,8.999907548570901,{"$f":"SUMPRODUCT(D4:D53,D4:D53)","v":1.7626745634507473E-5},null,null,null,null,null,null,null,2,0.02,{"$f":"IF(ISBLANK(T8),\"\",$I$8*EXP(T8*$J$8)*$H$8/($H$8+$I$8*(EXP($J$8*T8)-1)))","v":7.1937251812216518E-5},null,null,0.95383147342788777,50.230534727105614,3.8317286453942684E-3,{"$f":"MINVERSE(AA4:AC6)","v":0.72020107683166701},2.3531111142572145E-2,-418.87860191459072]
[6,1.35,0.13100000000000001,2.2990626109159473E-4,0.13077009373890841,4.0419707119464933E-7,null,null,null,null,null,null,null,null,null,null,null,null,3,0.04,8.6115132615282469E-5,null,null,0.97711823400754638,25.046787639719863,2.0309958004830811E-3,2.3531111142572027E-2,1.3696105674011159E-3,-23.6750260264754]
[7,1.43,0.13200000000000001,4.5317426127311489E-4,0.13154682573872689,1.5611696437915198E-6,null,{"$f":"IF(ISNUMBER(H13),H$8-NORMSINV(0.975)*H$13,\"N/A\")","v":0.12880039155525508},{"$f":"IF(ISNUMBER(I13),I$8-1.96*I$13,\"N/A\")","v":-9.2176181335963856E-5},{"$f":"IF(ISNUMBER(J13),J$8-1.96*J$13,\"N/A\")","v":6.3638072004683401},"Lower 95% Confidence Levels",null,null,"4. Press the button below to run solver with current settings",null,null,null,null,4,0.06,1.030851076423771E-4,null,null,0.98876292219929796,12.336929826326037,1.0596595468777361E-3,-418.87860191459123,-23.6750260264754,410487.17056399048]
[8,null,null,"","","",null,{"$f":"IF(ISNUMBER(H14),H$8+1.96*H$13,\"N/A\")","v":0.13578376123717023},{"$f":"IF(ISNUMBER(I14),I$8+1.96*I$13,\"N/A\")","v":2.1236125621254098E-4},{"$f":"IF(ISNUMBER(J14),J$8+1.96*J$13,\"N/A\")","v":11.636007896673462},"Upper 95% Confidence Levels",null,null,null,null,null,null,null,5,0.08,1.233960896891294E-4,null,null,"","",""]
[9,null,null,"","","",null,null,null,null,null,null,null,null,null,null,null,null,6,0.1,1.4770449720464735E-4,null,null,"","",""]
[10,null,null,"","","",null,{"$f":"IF(ISNUMBER(AA8),SQRT(AA8)*$AG$5,\"N/A\")","v":1.781488225263513E-3},{"$f":"IF(ISNUMBER(AB9),SQRT(AB9)*$AG$5,\"N/A\")","v":7.7688121823598171E-5},{"$f":"IF(ISNUMBER(AC10),SQRT(AC10)*$AG$5,\"N/A\")","v":1.3449491571951842},"Standard Errors",null,null,null,null,null,null,null,7,0.12,1.76795132933173E-4,null,null,"","",""]
[11,null,null,"","","",null,{"$f":"IF(ISNUMBER(H13),H8/H13,\"N/A\")","v":74.259286387416594},{"$f":"IF(ISNUMBER(I13),I8/I13,\"N/A\")","v":0.77350997845896097},{"$f":"IF(ISNUMBER(J13),J8/J13,\"N/A\")","v":6.6916340297500181},"t-Statistics",null,null,"5. Solver will attempt to minimize SSE (red cell) by changing cells H8:J8",null,null,null,null,8,0.14000000000000001,2.1160604094589479E-4,null,null,"","",""]
[12,null,null,"","","",null,{"$f":"IF(ISNUMBER(H14),2*TDIST(ABS(H14),$AE$5-$AF$5,1),\"N/A\")","v":1.9707126668417894E-7},{"$f":"IF(ISNUMBER(I14),2*TDIST(ABS(I14),$AE$5-$AF$5,1),\"N/A\")","v":0.48239235331703523},{"$f":"IF(ISNUMBER(J14),2*TDIST(ABS(J14),$AE$5-$AF$5,1),\"N/A\")","v":2.5940569854229919E-3},"p-values",null,null,null,null,null,null,null,9,0.16,2.5325806692543294E-4,null,null,"","",""]
[13,null,null,"","","",null,{"$f":"1-K8/(SUMPRODUCT(C4:C103,C4:C103)-COUNT(C4:C103)*AVERAGE(C4:C103)^2)","v":0.98538412468117142},null,null,"Goodness of Fit (R2)",null,null,null,null,null,null,null,10,0.18,3.0308996404676889E-4,null,null,"","",""]
[14,null,null,"","","",null,null,null,null,null,null,null,null,null,null,null,null,11,0.2,3.6270001670339684E-4,null,null,"","",""]
[15,null,null,"","","",null,null,"Functional Form",null,null,null,null,null,null,null,null,null,12,0.22,4.3399529465673814E-4,null,null,"","",""]
[16,null,null,"","","",null,null,null,null,null,null,null,null,null,null,null,null,13,0.24,5.1924979676319541E-4,null,null,"","",""]
[17,null,null,"","","",null," y =","Maximum",null,null,"=","Maximum×Intercept×eScale×X",null,null,null,null,null,14,0.26,6.211728888000568E-4,null,null,"","",""]
[18,null,null,"","","",null,null,"1 + (Maximum/Intercept-1)×e–Scale×X",null,null,null,"Maximum+Intercept×(eScale×X–1)",null,null,null,null,null,15,0.28000000000000003,7.42989571791209E-4,null,null,"","",""]
[19,null,null,"","","",null,null,null,null,null,null,null,null,null,null,null,null,16,0.3,8.8853421640861473E-4,null,null,"","",""]
[20,null,null,"","","",null,null,null,null,null,null,null,null,null,null,null,null,17,0.32,1.0623594364846951E-3,null,null,"","",""]
[21,null,null,"","","",null,null,null,null,null,null,null,null,null,null,null,null,18,0.34,1.2698617078617312E-3,null,null,"","",""]
[22,null,null,"","","",null,null,null,null,null,null,null,null,null,null,null,null,19,0.36,1.5174251068679591E-3,null,null,"","",""]
[23,null,null,"","","",null,null,null,null,null,null,null,null,null,null,null,null,20,0.38,1.8125840606844294E-3,null,null,"","",""]
[24,null,null,"","","",null,null,null,null,null,null,null,null,null,null,null,null,21,0.4,2.164205154101951E-3,null,null,"","",""]
[25,null,null,"","","",null,null,null,null,null,null,null,null,null,null,null,null,22,0.42,2.5826866706692136E-3,null,null,"","",""]
[26,null,null,"","","",null,null,null,null,null,null,null,null,null,null,null,null,23,0.44,3.0801724655100979E-3,null,null,"","",""]
[27,null,null,"","","",null,null,null,null,null,null,null,null,null,null,null,null,24,0.46,3.6707737334707446E-3,null,null,"","",""]
[28,null,null,"","","",null,null,null,null,null,null,null,null,null,null,null,null,25,0.48,4.3707879767880308E-3,null,null,"","",""]
[29,null,null,"","","",null,null,null,null,null,null,null,null,null,null,null,null,26,0.5,5.1988987104619093E-3,null,null,"","",""]
[30,null,null,"","","",null,null,null,null,null,null,null,null,null,null,null,null,27,0.52,6.1763319385800394E-3,null,null,"","",""]
[31,null,null,"","","",null,null,null,null,null,null,null,null,null,null,null,null,28,0.54,7.326936107952718E-3,null,null,"","",""]
[32,null,null,"","","",null,null,null,null,null,null,null,null,null,null,null,null,29,0.56000000000000005,8.6771413262389119E-3,null,null,"","",""]
[33,null,null,"","","",null,null,null,null,null,null,null,null,null,null,null,null,30,0.57999999999999996,1.0255741901428023E-2,null,null,"","",""]
[{"$f":"A36+1","v":34},null,null,"","","",null,null,null,null,null,null,null,null,null,null,null,null,31,0.6,1.2093435361218756E-2,null,null,"","",""]
[35,null,null,"","","",null,null,null,null,null,null,null,null,null,null,null,null,32,0.62,1.4222043889335295E-2,null,null,"","",""]
[36,null,null,"","","",null,null,null,null,null,null,null,null,null,null,null,null,33,{"$f":"$S$4+(S39-1)*($T$4-$S$4)/($U$4-1)","v":0.64},1.6673344874051626E-2,null,null,"","",""]
[37,null,null,"","","",null,null,null,null,null,null,null,null,null,null,null,null,34,0.66,1.9477451721727705E-2,null,null,"","",""]
[38,null,null,"","","",null,null,null,null,null,null,null,null,null,null,null,null,35,0.68,2.2660720717190372E-2,null,null,"","",""]
[39,null,null,"","","",null,null,null,null,null,null,null,null,null,null,null,null,36,0.7,2.6243220077512681E-2,null,null,"","",""]
[40,null,null,"","","",null,null,null,null,null,null,null,null,null,null,null,null,37,0.72,3.0235885211965859E-2,null,null,"","",""]
[41,null,null,"","","",null,null,null,null,null,null,null,null,null,null,null,null,38,0.74,3.463759367268561E-2,null,null,"","",""]
[42,null,null,"","","",null,null,null,null,null,null,null,null,null,null,null,null,39,0.76,3.9432507133522719E-2,null,null,"","",""]
[43,null,null,"","","",null,null,null,null,null,null,null,null,null,null,null,null,40,0.78,4.4588116225313675E-2,null,null,"","",""]
[44,null,null,"","","",null,null,null,null,null,null,null,null,null,null,null,null,41,0.8,5.0054449068693177E-2,null,null,"","",""]
[45,null,null,"","","",null,null,null,null,null,null,null,null,null,null,null,null,42,0.82,5.5764830676868812E-2,null,null,"","",""]
[46,null,null,"","","",null,null,null,null,null,null,null,null,null,null,null,null,43,0.84,6.163839253241446E-2,null,null,"","",""]
[47,null,null,"","","",null,null,null,null,null,null,null,null,null,null,null,null,44,0.86,6.758424939412476E-2,null,null,"","",""]
[48,null,null,"","","",null,null,null,null,null,null,null,null,null,null,null,null,45,0.88,7.3506943556685189E-2,null,null,"","",""]
[49,null,null,"","","",null,null,null,null,null,null,null,null,null,null,null,null,46,0.9,7.9312491291092371E-2,null,null,"","",""]
[50,null,null,"","","",null,null,null,null,null,null,null,null,null,null,null,null,47,0.92,8.4914233588696E-2,null,null,"","",""]
[51,null,null,"","","",null,null,null,null,null,null,null,null,null,null,null,null,48,0.94,9.0237736856158907E-2,null,null,"","",""]
[52,null,null,"","","",null,null,null,null,null,null,null,null,null,null,null,null,49,0.96,9.5224194504489448E-2,null,null,"","",""]
[53,null,null,"","","",null,null,null,null,null,null,null,null,null,null,null,null,50,0.98,9.9832081975085335E-2,null,null,"","",""]
[54,null,null,"","","",null,null,null,null,null,null,null,null,null,null,null,null,51,1,0.10403712753987926,null,null,"","",""]
[55,null,null,"","","",null,null,null,null,null,null,null,null,null,null,null,null,52,1.02,0.10783090293786765,null,null,"","",""]
[56,null,null,"","","",null,null,null,null,null,null,null,null,null,null,null,null,53,1.04,0.11121847059646427,null,null,"","",""]
[57,null,null,"","","",null,null,null,null,null,null,null,null,null,null,null,null,54,1.06,0.11421554658891851,null,null,"","",""]
[58,null,null,"","","",null,null,null,null,null,null,null,null,null,null,null,null,55,1.08,0.11684557786571584,null,null,"","",""]
[59,null,null,"","","",null,null,null,null,null,null,null,null,null,null,null,null,56,1.1000000000000001,0.11913702713002262,null,null,"","",""]
[60,null,null,"","","",null,null,null,null,null,null,null,null,null,null,null,null,57,1.1200000000000001,0.12112104402937167,null,null,"","",""]
[61,null,null,"","","",null,null,null,null,null,null,null,null,null,null,null,null,58,1.1399999999999999,0.12282960092420728,null,null,"","",""]
[62,null,null,"","","",null,null,null,null,null,null,null,null,null,null,null,null,59,1.1599999999999999,0.1242940967515716,null,null,"","",""]
[63,null,null,"","","",null,null,null,null,null,null,null,null,null,null,null,null,60,1.18,0.1255443851117613,null,null,"","",""]
[64,null,null,"","","",null,null,null,null,null,null,null,null,null,null,null,null,61,1.2,0.1266081586286788,null,null,"","",""]
[65,null,null,"","","",null,null,null,null,null,null,null,null,null,null,null,null,62,1.22,0.12751061458461893,null,null,"","",""]
[{"$f":"A68+1","v":66},null,null,{"$f":"IF(ISBLANK(B69),\"\",C69-$H$8/(1+($H$8/$I$8-1)*EXP(-$J$8*B69)))","v":""},"","",null,null,null,null,null,null,null,null,null,null,null,null,63,1.24,0.12827433056148799,null,null,{"$f":"IF(ISBLANK($B69),\"\",$I$8^2*EXP($J$8*$B69)*(EXP($J$8*$B69)-1)/($I$8*(EXP($J$8*$B69)-1)+$H$8)^2)","v":""},{"$f":"IF(ISBLANK($B69),\"\",$H$8^2*EXP($J$8*$B69)/($I$8*(EXP($J$8*$B69)-1)+$H$8)^2)","v":""},{"$f":"IF(ISBLANK($B69),\"\",-$I$8*EXP($J$8*$B69)*($I$8-$H$8)*$H$8*$B69/($I$8*(EXP($J$8*$B69)-1)+$H$8)^2)","v":""}]
[67,null,null,"",{"$f":"IF(ISBLANK(B70),\"\",$H$8/(1+($H$8/$I$8-1)*EXP(-$J$8*B70)))","v":""},{"$f":"IF(ISBLANK(B70),\"\",D70^2/E70)","v":""},null,null,null,null,null,null,null,null,null,null,null,null,64,1.26,0.12891928826225252,null,null,"","",""]
[68,null,null,"","","",null,null,null,null,null,null,null,null,null,null,null,null,65,{"$f":"$S$4+(S71-1)*($T$4-$S$4)/($U$4-1)","v":1.28},0.12946299526009244,null,null,"","",""]
[69,null,null,"","","",null,null,null,null,null,null,null,null,null,null,null,null,66,1.3,{"$f":"IF(ISBLANK(T72),\"\",$I$8*EXP(T72*$J$8)*$H$8/($H$8+$I$8*(EXP($J$8*T72)-1)))","v":0.12992066590504917},null,null,"","",""]
[70,null,null,"","","",null,null,null,null,null,null,null,null,null,null,null,null,67,1.32,0.13030543282461188,null,null,"","",""]
[71,null,null,"","","",null,null,null,null,null,null,null,null,null,null,null,null,68,1.34,0.13062856890579264,null,null,"","",""]
[72,null,null,"","","",null,null,null,null,null,null,null,null,null,null,null,null,69,1.36,0.1308997062882104,null,null,"","",""]
[73,null,null,"","","",null,null,null,null,null,null,null,null,null,null,null,null,70,1.38,0.13112704390190322,null,null,"","",""]
[74,null,null,"","","",null,null,null,null,null,null,null,null,null,null,null,null,71,1.4,0.13131753871517365,null,null,"","",""]
[75,null,null,"","","",null,null,null,null,null,null,null,null,null,null,null,null,72,1.42,0.13147707839855996,null,null,"","",""]
[76,null,null,"","","",null,null,null,null,null,null,null,null,null,null,null,null,73,1.44,0.13161063481938812,null,null,"","",""]
[77,null,null,"","","",null,null,null,null,null,null,null,null,null,null,null,null,74,1.46,0.13172239887547452,null,null,"","",""]
[78,null,null,"","","",null,null,null,null,null,null,null,null,null,null,null,null,75,1.48,0.13181589783091652,null,null,"","",""]
[79,null,null,"","","",null,null,null,null,null,null,null,null,null,null,null,null,76,1.5,0.13189409666568888,null,null,"","",""]
[80,null,null,"","","",null,null,null,null,null,null,null,null,null,null,null,null,77,1.52,0.13195948509392746,null,null,"","",""]
[81,null,null,"","","",null,null,null,null,null,null,null,null,null,null,null,null,78,1.54,0.13201415191585694,null,null,"","",""]
[82,null,null,"","","",null,null,null,null,null,null,null,null,null,null,null,null,79,1.56,0.1320598482966566,null,null,"","",""]
[83,null,null,"","","",null,null,null,null,null,null,null,null,null,null,null,null,80,1.58,0.13209804144763759,null,null,"","",""]
[84,null,null,"","","",null,null,null,null,null,null,null,null,null,null,null,null,81,1.6,0.13212996004479416,null,null,"","",""]
[85,null,null,"","","",null,null,null,null,null,null,null,null,null,null,null,null,82,1.62,0.13215663257264609,null,null,"","",""]
[86,null,null,"","","",null,null,null,null,null,null,null,null,null,null,null,null,83,1.64,0.13217891963703438,null,null,"","",""]
[87,null,null,"","","",null,null,null,null,null,null,null,null,null,null,null,null,84,1.66,0.13219754115487492,null,null,"","",""]
[88,null,null,"","","",null,null,null,null,null,null,null,null,null,null,null,null,85,1.68,0.13221309920482613,null,null,"","",""]
[89,null,null,"","","",null,null,null,null,null,null,null,null,null,null,null,null,86,1.7,0.13222609721162609,null,null,"","",""]
[90,null,null,"","","",null,null,null,null,null,null,null,null,null,null,null,null,87,1.72,0.13223695603862651,null,null,"","",""]
[91,null,null,"","","",null,null,null,null,null,null,null,null,null,null,null,null,88,1.74,0.13224602747724157,null,null,"","",""]
[92,null,null,"","","",null,null,null,null,null,null,null,null,null,null,null,null,89,1.76,0.13225360554771087,null,null,"","",""]
[93,null,null,"","","",null,null,null,null,null,null,null,null,null,null,null,null,90,1.78,0.13225993596164543,null,null,"","",""]
[94,null,null,"","","",null,null,null,null,null,null,null,null,null,null,null,null,91,1.8,0.13226522404212551,null,null,"","",""]
[95,null,null,"","","",null,null,null,null,null,null,null,null,null,null,null,null,92,1.82,0.13226964135051664,null,null,"","",""]
[96,null,null,"","","",null,null,null,null,null,null,null,null,null,null,null,null,93,1.84,0.13227333122960969,null,null,"","",""]
[97,null,null,"","","",null,null,null,null,null,null,null,null,null,null,null,null,94,1.86,0.13227641343919694,null,null,"","",""]
[98,null,null,"","","",null,null,null,null,null,null,null,null,null,null,null,null,95,1.88,0.1322789880319111,null,null,"","",""]
[99,null,null,"","","",null,null,null,null,null,null,null,null,null,null,null,null,96,1.9,0.13228113859330726,null,null,"","",""]
[100,null,null,"","","",null,null,null,null,null,null,null,null,null,null,null,null,97,{"$f":"$S$4+(S103-1)*($T$4-$S$4)/($U$4-1)","v":1.92},0.13228293495009855,null,null,"","",""]
[null,null,null,{"$f":"SUM(D4:D103)","v":-1.3393252900847918E-4},0.84013393252900848,{"$f":"SUM(F4:F103)","v":1.6163418147699019E-4},null,null,null,null,null,null,null,null,null,null,null,null,98,{"$f":"$S$4+(S104-1)*($T$4-$S$4)/($U$4-1)","v":1.94},0.13228443543358528]
[null,null,null,null,null,null,null,null,null,null,null,null,null,null,null,null,null,null,99,{"$f":"$S$4+(S105-1)*($T$4-$S$4)/($U$4-1)","v":1.96},0.1322856887711529]
[null,null,null,null,null,null,null,null,null,null,null,null,null,null,null,null,null,null,100,{"$f":"$S$4+(S106-1)*($T$4-$S$4)/($U$4-1)","v":1.98},0.13228673566682736]
[null,null,null,null,null,null,null,null,null,null,null,null,null,null,null,null,null,null,101,{"$f":"$S$4+(S107-1)*($T$4-$S$4)/($U$4-1)","v":2},0.13228761012191617]

{"sheet":"Logistics, 4 Parameters","index":9,"n_rows":107,"n_cols":35,"rows_kept":107,"cut":false,"hidden":false,"merged":[[19,7,20,7],[19,8,19,11],[20,8,20,11],[17,7,17,11],[16,13,20,17],[2,32,3,32],[2,33,3,33],[2,34,3,34],[4,18,4,20],[2,27,2,29],[15,7,15,10],[13,13,14,15],[8,27,8,29],[2,13,2,15],[1,23,1,25],[1,18,1,20],[6,13,8,16],[1,1,1,3],[1,7,1,10],[5,7,5,11],[4,13,5,15]]}
[null,"Fitting the Four-Parameter Logistics Model to Nutritional Response Data"]
[null,"Data",null,null,null,null,null,"Sample Statistics",null,null,null,null,null,null,null,null,null,null,"Plotting Parameters",null,null,null,null,"Error Analysis"]
["Point","Input","Output","Residuals","Expected","Qm",null,"Min Input",{"$f":"MIN(B4:B103)","v":0.95},"Min Output",{"$f":"MIN(C4:C103)","v":9.5000000000000001E-2},null,null,"Instructions",null,null,null,null,"Min Input","Max Input","# of Points",null,null,"Max(X0)","Intercept (X1)","Shape(X2)","Scale (X3)","Q0",null,null,null,null,"Number of Observations, T","Number of Regressors, K","sigma"]
[1,0.95,9.5000000000000001E-2,{"$f":"IF(ISBLANK(B4),\"\",C4-($H$8+($I$8*(1+$J$8)-$H$8)*EXP(-$K$8*B4))/(1+$J$8*EXP(-$K$8*B4)))","v":7.9871568045161712E-4},{"$f":"IF(ISBLANK(B4),\"\",($H$8+($I$8*(1+$J$8)-$H$8)*EXP(-$K$8*B4))/(1+$J$8*EXP(-$K$8*B4)))","v":9.4201284319548384E-2},{"$f":"IF(ISBLANK(B4),\"\",D4^2/E4)","v":6.7721660358181007E-6},null,"Max Input",{"$f":"MAX(B4:B103)","v":1.43},"Max Output",{"$f":"MAX(C4:C103)","v":0.13200000000000001},null,null,"1. Copy data in cells B4:C103",null,null,null,null,0.05,{"$f":"CEILING(I4,1)","v":2},101,null,null,{"$f":"IF(ISBLANK($B4),\"\",(-1+EXP($K$8*$B4))/($J$8+EXP($K$8*$B4)))","v":0.99298244493400889},{"$f":"IF(ISBLANK($B4),\"\",(1+$J$8)/($J$8+EXP($K$8*$B4)))","v":7.0175550659911405E-3},{"$f":"IF(ISBLANK($B4),\"\",(-1+EXP($K$8*$B4))*($I$8-$H$8)/($J$8+EXP($K$8*$B4))^2)","v":-3.5048356934966773E-2},{"$f":"IF(ISBLANK($B4),\"\",-EXP($K$8*$B4)*(1+$J$8)*($I$8-$H$8)*$B4/($J$8+EXP($K$8*$B4))^2)","v":3.9960575876061499E-2},{"$f":"SUMPRODUCT(X$4:X$103,X$4:X$103)","v":6.9620267183289863},{"$f":"SUMPRODUCT(X$4:X$103,Y$4:Y$103)","v":1.8944184532087922E-2},{"$f":"SUMPRODUCT(X$4:X$103,Z$4:Z$103)","v":-9.4858475322925975E-2},{"$f":"SUMPRODUCT(X$4:X$103,AA$4:AA$103)","v":0.12152152775532088}]
[{"$f":"A4+1","v":2},1.03,0.107,{"$f":"IF(ISBLANK(B5),\"\",C5-($H$8+($I$8*(1+$J$8)-$H$8)*EXP(-$K$8*B5))/(1+$J$8*EXP(-$K$8*B5)))","v":-1.9736831671432892E-3},{"$f":"IF(ISBLANK(B5),\"\",($H$8+($I$8*(1+$J$8)-$H$8)*EXP(-$K$8*B5))/(1+$J$8*EXP(-$K$8*B5)))","v":0.10897368316714329},{"$f":"IF(ISBLANK(B5),\"\",D5^2/E5)","v":3.5746476865336199E-5},null,null,null,null,null,null,null,"2. View the data and estimate the value for a in cell H8",null,null,null,null,"Prediction",null,null,null,null,{"$f":"IF(ISBLANK($B5),\"\",(-1+EXP($K$8*$B5))/($J$8+EXP($K$8*$B5)))","v":0.99544414529096004},{"$f":"IF(ISBLANK($B5),\"\",(1+$J$8)/($J$8+EXP($K$8*$B5)))","v":4.5558547090398588E-3},{"$f":"IF(ISBLANK($B5),\"\",(-1+EXP($K$8*$B5))*($I$8-$H$8)/($J$8+EXP($K$8*$B5))^2)","v":-2.2810091397121663E-2},{"$f":"IF(ISBLANK($B5),\"\",-EXP($K$8*$B5)*(1+$J$8)*($I$8-$H$8)*$B5/($J$8+EXP($K$8*$B5))^2)","v":2.8138606422854529E-2},{"$f":"SUMPRODUCT(Y$4:Y$103,X$4:X$103)","v":1.8944184532087922E-2},{"$f":"SUMPRODUCT(Y$4:Y$103,Y$4:Y$103)","v":8.4912606838052088E-5},{"$f":"SUMPRODUCT(Y$4:Y$103,Z$4:Z$103)","v":-4.2469058891136068E-4},{"$f":"SUMPRODUCT(Y$4:Y$103,AA$4:AA$103)","v":5.1263061672454885E-4},null,{"$f":"COUNT(B4:B53)","v":7},4,{"$f":"SQRT(L8/(AG5-AH5))","v":1.9156717289769483E-3}]
[3,1.1100000000000001,0.11899999999999999,4.3347043864908064E-4,{"$f":"IF(ISBLANK(B6),\"\",($H$8+($I$8*(1+$J$8)-$H$8)*EXP(-$K$8*B6))/(1+$J$8*EXP(-$K$8*B6)))","v":0.11856652956135091},{"$f":"IF(ISBLANK(B6),\"\",D6^2/E6)","v":1.5847357755832888E-6},null,"Regression",null,null,null,null,null,null,null,null,null,null,"Point","Input","Output",null,null,0.9970427152751874,2.957284724812527E-3,-1.4830205467040843E-2,1.9689017398396135E-2,{"$f":"SUMPRODUCT(Z$4:Z$103,X$4:X$103)","v":-9.4858475322925975E-2},{"$f":"SUMPRODUCT(Z$4:Z$103,Y$4:Y$103)","v":-4.2469058891136068E-4},{"$f":"SUMPRODUCT(Z$4:Z$103,Z$4:Z$103)","v":2.1240980967427267E-3},{"$f":"SUMPRODUCT(Z$4:Z$103,AA$4:AA$103)","v":-2.5643101250992701E-3}]
[4,1.19,0.125,2.055401704768034E-4,0.1247944598295232,3.3853074677629956E-7,null,"Max or Min","Intercept","Shape","Scale","SSE",null,"3. Guess values of b, c, and d in cells I8, J8, and  K8 until the predicted line is close to the observed points",null,null,null,null,1,{"$f":"$S$4+(S7-1)*($T$4-$S$4)/($U$4-1)","v":0.05},{"$f":"($H$8+($I$8*(1+$J$8)-$H$8)*EXP(-$K$8*$T7))/(1+$J$8*EXP(-$K$8*$T7))","v":-4.6260235172893855},null,null,0.99808054930081858,1.9194506991814446E-3,-9.6356899507163245E-3,1.370265816008699E-2,{"$f":"SUMPRODUCT(AA$4:AA$103,X$4:X$103)","v":0.12152152775532088},{"$f":"SUMPRODUCT(AA$4:AA$103,Y$4:Y$103)","v":5.1263061672454885E-4},{"$f":"SUMPRODUCT(AA$4:AA$103,Z$4:Z$103)","v":-2.5643101250992701E-3},{"$f":"SUMPRODUCT(AA$4:AA$103,AA$4:AA$103)","v":3.1173089368726598E-3}]
[5,1.27,0.13100000000000001,2.1628083986039437E-3,0.12883719160139606,46.372127227791566,0,0.13631287685234869,-5.8645794762242698,0.19309650352156971,5.4050063511972892,{"$f":"SUMPRODUCT(D4:D53,D4:D53)","v":1.1009394519604593E-5},null,null,null,null,null,null,2,6.9500000000000006E-2,{"$f":"($H$8+($I$8*(1+$J$8)-$H$8)*EXP(-$K$8*$T8))/(1+$J$8*EXP(-$K$8*$T8))","v":-4.2054149636157572},null,null,0.99875423773480621,1.2457622651937577E-3,-6.2579785476888214E-3,9.4922060624259182E-3]
[6,1.35,0.13100000000000001,-4.6119188415727486E-4,{"$f":"IF(ISBLANK(B9),\"\",IF(B9<$J$8,($H$8+$I$8*($J$8-B9)^2),$H$8))","v":0.13631287685234869},{"$f":"IF(ISBLANK(B9),\"\",D9^2/E9)","v":1.5603658210729957E-6},null,null,null,null,null,null,null,null,null,null,null,null,3,8.8999999999999996E-2,-3.8174095265504522,null,null,0.99919150608230733,8.0849391769275466E-4,-4.063177116096898E-3,6.5489176653536121E-3,"inv(Q0)"]
[7,1.43,0.13200000000000001,-1.1642340963886888E-3,0.13631287685234869,9.9436022662933939E-6,null,{"$f":"IF(ISNUMBER(H13),H$8-1.96*H$13,\"N/A\")","v":0.12336869753367982},{"$f":"IF(ISNUMBER(I13),I$8-1.96*I$13,\"N/A\")","v":-1861.7407609842835},{"$f":"IF(ISNUMBER(J13),J$8-1.96*J$13,\"N/A\")","v":-382.79503685142959},{"$f":"IF(ISNUMBER(K13),K$8-1.96*K$13,\"N/A\")","v":-5.0904809349473732},"Lower 95% Confidence Levels",null,"4. Press the button below to run solver with current settings",null,null,null,null,4,0.1085,-3.460269270537248,null,null,0.99947530424298547,5.2469575701448933E-4,-2.6376664982060236E-3,4.5021767868667437E-3,{"$f":"MINVERSE(AB4:AE7)","v":11.884877740907832},-1536424.1812712376,-317831.89721490128,-9253.4123490877646]
[8,null,null,"","","",null,{"$f":"IF(ISNUMBER(H14),H$8+1.96*H$13,\"N/A\")","v":0.14925705617101756},{"$f":"IF(ISNUMBER(I14),I$8+1.96*I$13,\"N/A\")","v":1850.0116020318351},{"$f":"IF(ISNUMBER(J14),J$8+1.96*J$13,\"N/A\")","v":383.18122985847276},{"$f":"IF(ISNUMBER(K14),K$8+1.96*K$13,\"N/A\")","v":15.900493637341953},"Upper 95% Confidence Levels",null,null,null,null,null,null,5,0.128,-3.1322062568823092,null,null,"","","","",-1536424.181280615,244311366697.06125,50416531708.713219,1356569031.0892649]
[9,null,null,"","","",null,null,null,null,null,null,null,null,null,null,null,null,6,0.14750000000000002,-2.8314151508771337,null,null,"","","","",-317831.89721681917,50416531708.709106,10404382568.947128,280251094.58825552]
[10,null,null,"","","",null,{"$f":"IF(ISNUMBER(AB10),SQRT(AB10)*$AI$5,\"N/A\")","v":6.6041731217698334E-3},{"$f":"IF(ISNUMBER(AC11),SQRT(AC11)*$AI$5,\"N/A\")","v":946.87560281023434},{"$f":"IF(ISNUMBER(AD12),SQRT(AD12)*$AI$5,\"N/A\")","v":195.40210885456693},{"$f":"IF(ISNUMBER(AE13),SQRT(AE13)*$AI$5,\"N/A\")","v":5.3548404521146233},"Standard Errors",null,null,null,null,null,null,7,0.16699999999999998,-2.5561005103470134,null,null,"","","","",-9253.4123491164428,1356569031.0855138,280251094.58750427,7813594.8938542539]
[11,null,null,"","","",null,{"$f":"IF(ISNUMBER(H13),H8/H13,\"N/A\")","v":20.640415437174152},{"$f":"IF(ISNUMBER(I13),I8/I13,\"N/A\")","v":-6.1936113453750106E-3},{"$f":"IF(ISNUMBER(J13),J8/J13,\"N/A\")","v":9.8820071417594977E-4},{"$f":"IF(ISNUMBER(K13),K8/K13,\"N/A\")","v":1.0093683275031762},"t-Statistics",null,"5. Solver will attempt to minimize SSE (red cell) by changing cells H8:K8",null,null,null,null,8,0.1865,-2.3044990635884042,null,null,"","","",""]
[12,null,null,"","","",null,{"$f":"IF(ISNUMBER(H14),2*TDIST(ABS(H14),$AG$5-$AH$5,1),\"N/A\")","v":2.4868964768589197E-4},{"$f":"IF(ISNUMBER(I14),2*TDIST(ABS(I14),$AG$5-$AH$5,1),\"N/A\")","v":0.99544708294284723},{"$f":"IF(ISNUMBER(J14),2*TDIST(ABS(J14),$AG$5-$AH$5,1),\"N/A\")","v":0.99927356868004003},{"$f":"IF(ISNUMBER(K14),2*TDIST(ABS(K14),$AG$5-$AH$5,1),\"N/A\")","v":0.387146563569015},"p-values",null,null,null,null,null,null,9,0.20600000000000002,-2.0748973938151987,null,null,"","","",""]
[13,null,null,"","","",null,{"$f":"1-L8/(SUMPRODUCT(C4:C103,C4:C103)-COUNT(C4:C103)*AVERAGE(C4:C103)^2)","v":0.99087114882288185},null,null,null,"Goodness of Fit (R2)",null,null,null,null,null,null,10,0.22550000000000003,-1.8656455105248033,null,null,"","","",""]
[14,null,null,"","","",null,null,null,null,null,null,null,"Note: The four-parameter logistics model reduces to the three-parameter version on the previous worksheet by restricting Shape = Maximum/Intercept – 1 ",null,null,null,null,11,0.245,-1.6751668148683885,null,null,"","","",""]
[15,null,null,"","","",null,"Functional Form",null,null,null,null,null,null,null,null,null,null,12,0.26450000000000001,-1.501964964961171,null,null,"","","",""]
[16,null,null,"","","",null,null,null,null,null,null,null,null,null,null,null,null,13,0.28399999999999997,-1.3446281259418384,null,null,"","","",""]
[17,null,null,"","","",null,"y =","Maximum + [Intercept×(1 + Shape) – Maximum]e–Scale×X",null,null,null,null,null,null,null,null,null,14,0.30349999999999999,-1.2018310551290492,null,null,"","","",""]
[18,null,null,"","","",null,null,"1 + Shape×e–Scale×X",null,null,null,null,null,null,null,null,null,15,0.32300000000000001,-1.0723354302075854,null,null,"","","",""]
[19,null,null,"","","",null,null,null,null,null,null,null,null,null,null,null,null,16,0.34249999999999997,-0.95498878218052752,null,null,"","","",""]
[20,null,null,"","","",null,null,null,null,null,null,null,null,null,null,null,null,17,0.36199999999999999,-0.84872234794250445,null,null,"","","",""]
[21,null,null,"","","",null,null,null,null,null,null,null,null,null,null,null,null,18,0.38149999999999995,-0.75254811194311821,null,null,"","","",""]
[22,null,null,"","","",null,null,null,null,null,null,null,null,null,null,null,null,19,0.40100000000000002,-0.66555526395506015,null,null,"","","",""]
[23,null,null,"","","",null,null,null,null,null,null,null,null,null,null,null,null,20,0.42049999999999998,-0.58690626129154444,null,null,"","","",""]
[24,null,null,"","","",null,null,null,null,null,null,null,null,null,null,null,null,21,0.44,-0.51583264934681095,null,null,"","","",""]
[25,null,null,"","","",null,null,null,null,null,null,null,null,null,null,null,null,22,0.45949999999999996,-0.45163076415872561,null,null,"","","",""]
[26,null,null,"","","",null,null,null,null,null,null,null,null,null,null,null,null,23,0.47899999999999998,-0.39365741469247945,null,null,"","","",""]
[27,null,null,"","","",null,null,null,null,null,null,null,null,null,null,null,null,24,0.4985,-0.3413256204568868,null,null,"","","",""]
[28,null,null,"","","",null,null,null,null,null,null,null,null,null,null,null,null,25,0.51800000000000002,-0.2941004615454394,null,null,"","","",""]
[29,null,null,"","","",null,null,null,null,null,null,null,null,null,null,null,null,26,0.53749999999999998,-0.25149508285987016,null,null,"","","",""]
[30,null,null,"","","",null,null,null,null,null,null,null,null,null,null,null,null,27,0.55700000000000005,-0.21306688173265609,null,null,"","","",""]
[31,null,null,"","","",null,null,null,null,null,null,null,null,null,null,null,null,28,0.57650000000000001,-0.17841389803665142,null,null,"","","",""]
[32,null,null,"","","",null,null,null,null,null,null,null,null,null,null,null,null,29,0.59600000000000009,-0.14717141779951787,null,null,"","","",""]
[33,null,null,"","","",null,null,null,null,null,null,null,null,null,null,null,null,30,0.61550000000000005,-0.11900879500438202,null,null,"","","",""]
[{"$f":"A36+1","v":34},null,null,"","","",null,null,null,null,null,null,null,null,null,null,null,null,31,0.63500000000000001,-9.3626491367822431E-2,null,null,"","","",""]
[35,null,null,"","","",null,null,null,null,null,null,null,null,null,null,null,null,32,0.65449999999999997,-7.0753330189230051E-2,null,null,"","","",""]
[36,null,null,"","","",null,null,null,null,null,null,null,null,null,null,null,null,33,{"$f":"$S$4+(S39-1)*($T$4-$S$4)/($U$4-1)","v":0.67400000000000004},-5.0143957643398539E-2,null,null,"","","",""]
[37,null,null,"","","",null,null,null,null,null,null,null,null,null,null,null,null,34,0.69350000000000001,-3.1576502954478565E-2,null,null,"","","",""]
[38,null,null,"","","",null,null,null,null,null,null,null,null,null,null,null,null,35,0.71299999999999997,-1.4850427586705081E-2,null,null,"","","",""]
[39,null,null,"","","",null,null,null,null,null,null,null,null,null,null,null,null,36,0.73250000000000004,2.1544721616894918E-4,null,null,"","","",""]
[40,null,null,"","","",null,null,null,null,null,null,null,null,null,null,null,null,37,0.75200000000000011,1.378474562428302E-2,null,null,"","","",""]
[41,null,null,"","","",null,null,null,null,null,null,null,null,null,null,null,null,38,0.77149999999999996,2.60051863427882E-2,null,null,"","","",""]
[42,null,null,"","","",null,null,null,null,null,null,null,null,null,null,null,null,39,0.79100000000000004,3.7010086741967659E-2,null,null,"","","",""]
[43,null,null,"","","",null,null,null,null,null,null,null,null,null,null,null,null,40,0.8105,4.6919732796452798E-2,null,null,"","","",""]
[44,null,null,"","","",null,null,null,null,null,null,null,null,null,null,null,null,41,0.83000000000000007,5.5842625232360117E-2,null,null,"","","",""]
[45,null,null,"","","",null,null,null,null,null,null,null,null,null,null,null,null,42,0.84950000000000003,6.3876611797597516E-2,null,null,"","","",""]
[46,null,null,"","","",null,null,null,null,null,null,null,null,null,null,null,null,43,0.86899999999999999,7.1109915034469728E-2,null,null,"","","",""]
[47,null,null,"","","",null,null,null,null,null,null,null,null,null,null,null,null,44,0.88849999999999996,7.7622064368174246E-2,null,null,"","","",""]
[48,null,null,"","","",null,null,null,null,null,null,null,null,null,null,null,null,45,0.90800000000000003,8.3484740747605299E-2,null,null,"","","",""]
[49,null,null,"","","",null,null,null,null,null,null,null,null,null,null,null,null,46,0.92749999999999999,8.8762541499493114E-2,null,null,"","","",""]
[50,null,null,"","","",null,null,null,null,null,null,null,null,null,null,null,null,47,0.94700000000000006,9.3513672493251446E-2,null,null,"","","",""]
[51,null,null,"","","",null,null,null,null,null,null,null,null,null,null,null,null,48,0.96649999999999991,9.7790574169133115E-2,null,null,"","","",""]
[52,null,null,"","","",null,null,null,null,null,null,null,null,null,null,null,null,49,0.98599999999999999,0.10164048746137702,null,null,"","","",""]
[53,null,null,"","","",null,null,null,null,null,null,null,null,null,null,null,null,50,1.0055000000000001,0.10510596515419533,null,null,"","","",""]
[54,null,null,"","","",null,null,null,null,null,null,null,null,null,null,null,null,51,1.0249999999999999,0.10822533374360137,null,null,"","","",""]
[55,null,null,"","","",null,null,null,null,null,null,null,null,null,null,null,null,52,1.0445,0.11103311044308699,null,null,"","","",""]
[56,null,null,"","","",null,null,null,null,null,null,null,null,null,null,null,null,53,1.0640000000000001,0.11356037956611796,null,null,"","","",""]
[57,null,null,"","","",null,null,null,null,null,null,null,null,null,null,null,null,54,1.0834999999999999,0.11583513214285758,null,null,"","","",""]
[58,null,null,"","","",null,null,null,null,null,null,null,null,null,null,null,null,55,1.103,0.11788257228154927,null,null,"","","",""]
[59,null,null,"","","",null,null,null,null,null,null,null,null,null,null,null,null,56,1.1225000000000001,0.1197253934654131,null,null,"","","",""]
[60,null,null,"","","",null,null,null,null,null,null,null,null,null,null,null,null,57,1.1420000000000001,0.12138402768236239,null,null,"","","",""]
[61,null,null,"","","",null,null,null,null,null,null,null,null,null,null,null,null,58,1.1615,0.12287687001583344,null,null,"","","",""]
[62,null,null,"","","",null,null,null,null,null,null,null,null,null,null,null,null,59,1.181,0.12422048107899318,null,null,"","","",""]
[63,null,null,"","","",null,null,null,null,null,null,null,null,null,null,null,null,60,1.2005000000000001,0.12542976944998904,null,null,"","","",""]
[64,null,null,"","","",null,null,null,null,null,null,null,null,null,null,null,null,61,1.22,0.12651815606118405,null,null,"","","",""]
[65,null,null,"","","",null,null,null,null,null,null,null,null,null,null,null,null,62,1.2395,0.12749772230897569,null,null,"","","",""]
[{"$f":"A68+1","v":66},null,null,{"$f":"IF(ISBLANK(B69),\"\",C69-($H$8+($I$8*(1+$J$8)-$H$8)*EXP(-$K$8*B69))/(1+$J$8*EXP(-$K$8*B69)))","v":""},{"$f":"IF(ISBLANK(B69),\"\",IF(B69<$J$8,($H$8+$I$8*($J$8-B69)^2),$H$8))","v":""},{"$f":"IF(ISBLANK(B69),\"\",D69^2/E69)","v":""},null,null,null,null,null,null,null,null,null,null,null,null,63,1.2589999999999999,0.12837934348139216,null,null,{"$f":"IF(ISBLANK($B69),\"\",(-1+EXP($K$8*$B69))/($J$8+EXP($K$8*$B69)))","v":""},{"$f":"IF(ISBLANK($B69),\"\",(1+$J$8)/($J$8+EXP($K$8*$B69)))","v":""},{"$f":"IF(ISBLANK($B69),\"\",(-1+EXP($K$8*$B69))*($I$8-$H$8)/($J$8+EXP($K$8*$B69))^2)","v":""},{"$f":"IF(ISBLANK($B69),\"\",-EXP($K$8*$B69)*(1+$J$8)*($I$8-$H$8)*$B69/($J$8+EXP($K$8*$B69))^2)","v":""}]
[67,null,null,"","","",null,null,null,null,null,null,null,null,null,null,null,null,64,1.2785,0.1291728089468154,null,null,"","","",""]
[68,null,null,"","","",null,null,null,null,null,null,null,null,null,null,null,null,65,{"$f":"$S$4+(S71-1)*($T$4-$S$4)/($U$4-1)","v":1.298},0.12988693040760424,null,null,"","","",""]
[69,null,null,"","","",null,null,null,null,null,null,null,null,null,null,null,null,66,1.3175000000000001,{"$f":"($H$8+($I$8*(1+$J$8)-$H$8)*EXP(-$K$8*$T72))/(1+$J$8*EXP(-$K$8*$T72))","v":0.13052963939586826},null,null,"","","",""]
[70,null,null,"","","",null,null,null,null,null,null,null,null,null,null,null,null,67,1.337,0.13110807507403566,null,null,"","","",""]
[71,null,null,"","","",null,null,null,null,null,null,null,null,null,null,null,null,68,1.3565,0.13162866329912243,null,null,"","","",""]
[72,null,null,"","","",null,null,null,null,null,null,null,null,null,null,null,null,69,1.3759999999999999,0.1320971878157588,null,null,"","","",""]
[73,null,null,"","","",null,null,null,null,null,null,null,null,null,null,null,null,70,1.3955,0.13251885435817973,null,null,"","","",""]
[74,null,null,"","","",null,null,null,null,null,null,null,null,null,null,null,null,71,1.415,0.13289834836470049,null,null,"","","",""]
[75,null,null,"","","",null,null,null,null,null,null,null,null,null,null,null,null,72,1.4344999999999999,0.13323988693892802,null,null,"","","",""]
[76,null,null,"","","",null,null,null,null,null,null,null,null,null,null,null,null,73,1.4540000000000002,0.13354726562940678,null,null,"","","",""]
[77,null,null,"","","",null,null,null,null,null,null,null,null,null,null,null,null,74,1.4735,0.13382390054293511,null,null,"","","",""]
[78,null,null,"","","",null,null,null,null,null,null,null,null,null,null,null,null,75,1.4929999999999999,0.1340728662558337,null,null,"","","",""]
[79,null,null,"","","",null,null,null,null,null,null,null,null,null,null,null,null,76,1.5125,0.13429692994148079,null,null,"","","",""]
[80,null,null,"","","",null,null,null,null,null,null,null,null,null,null,null,null,77,1.532,0.13449858209096857,null,null,"","","",""]
[81,null,null,"","","",null,null,null,null,null,null,null,null,null,null,null,null,78,1.5515000000000001,0.13468006416635014,null,null,"","","",""]
[82,null,null,"","","",null,null,null,null,null,null,null,null,null,null,null,null,79,1.571,0.13484339349224056,null,null,"","","",""]
[83,null,null,"","","",null,null,null,null,null,null,null,null,null,null,null,null,80,1.5904999999999998,0.13499038566115462,null,null,"","","",""]
[84,null,null,"","","",null,null,null,null,null,null,null,null,null,null,null,null,81,1.61,0.13512267470058237,null,null,"","","",""]
[85,null,null,"","","",null,null,null,null,null,null,null,null,null,null,null,null,82,1.6294999999999999,0.13524173122512936,null,null,"","","",""]
[86,null,null,"","","",null,null,null,null,null,null,null,null,null,null,null,null,83,1.649,0.13534887877481822,null,null,"","","",""]
[87,null,null,"","","",null,null,null,null,null,null,null,null,null,null,null,null,84,1.6685000000000001,0.13544530852061851,null,null,"","","",""]
[88,null,null,"","","",null,null,null,null,null,null,null,null,null,null,null,null,85,1.6879999999999999,0.13553209250023296,null,null,"","","",""]
[89,null,null,"","","",null,null,null,null,null,null,null,null,null,null,null,null,86,1.7075,0.13561019553091555,null,null,"","","",""]
[90,null,null,"","","",null,null,null,null,null,null,null,null,null,null,null,null,87,1.7269999999999999,0.1356804859314627,null,null,"","","",""]
[91,null,null,"","","",null,null,null,null,null,null,null,null,null,null,null,null,88,1.7465000000000002,0.13574374517233789,null,null,"","","",""]
[92,null,null,"","","",null,null,null,null,null,null,null,null,null,null,null,null,89,1.766,0.13580067656102124,null,null,"","","",""]
[93,null,null,"","","",null,null,null,null,null,null,null,null,null,null,null,null,90,1.7854999999999999,0.13585191305898703,null,null,"","","",""]
[94,null,null,"","","",null,null,null,null,null,null,null,null,null,null,null,null,91,1.8049999999999999,0.13589802431708919,null,null,"","","",""]
[95,null,null,"","","",null,null,null,null,null,null,null,null,null,null,null,null,92,1.8245,0.13593952300747114,null,null,"","","",""]
[96,null,null,"","","",null,null,null,null,null,null,null,null,null,null,null,null,93,1.8440000000000001,0.13597687052231336,null,null,"","","",""]
[97,null,null,"","","",null,null,null,null,null,null,null,null,null,null,null,null,94,1.8634999999999999,0.13601048210271124,null,null,"","","",""]
[98,null,null,"","","",null,null,null,null,null,null,null,null,null,null,null,null,95,1.8829999999999998,0.1360407314546517,null,null,"","","",""]
[99,null,null,"","","",null,null,null,null,null,null,null,null,null,null,null,null,96,1.9025000000000001,0.13606795490336596,null,null,"","","",""]
[100,null,null,"","","",null,null,null,null,null,null,null,null,null,null,null,null,97,{"$f":"$S$4+(S103-1)*($T$4-$S$4)/($U$4-1)","v":1.9219999999999999},0.13609245513221188,null,null,"","","",""]
[null,null,null,null,{"$f":"SUM(E4:E103)","v":0.84799890218365925},{"$f":"SUM(F4:F103)","v":46.372183173669079},null,null,null,null,null,null,null,null,null,null,null,null,98,{"$f":"$S$4+(S104-1)*($T$4-$S$4)/($U$4-1)","v":1.9415},0.13611450454762727,null,null,"","","",""]
[null,null,null,null,null,null,null,null,null,null,null,null,null,null,null,null,null,null,99,{"$f":"$S$4+(S105-1)*($T$4-$S$4)/($U$4-1)","v":1.9610000000000001},0.13613434830754312,null,null,"","","",""]
[null,null,null,null,null,null,null,null,null,null,null,null,null,null,null,null,null,null,100,{"$f":"$S$4+(S106-1)*($T$4-$S$4)/($U$4-1)","v":1.9804999999999999},0.13615220704690983,null,null,"","","",""]
[null,null,null,null,null,null,null,null,null,null,null,null,null,null,null,null,null,null,101,{"$f":"$S$4+(S107-1)*($T$4-$S$4)/($U$4-1)","v":2},0.1361682793306242,null,null,"","","",""]

{"sheet":"RNB, Model 1","index":10,"n_rows":107,"n_cols":35,"rows_kept":107,"cut":false,"hidden":false,"merged":[[15,7,15,10],[17,7,17,11],[18,9,18,10],[19,9,19,10],[18,7,19,8],[1,1,1,3],[1,7,1,10],[5,7,5,11],[2,34,3,34],[4,18,4,20],[1,18,1,20],[1,23,1,25],[13,13,14,15],[7,13,8,16],[2,32,3,32],[2,33,3,33],[2,13,2,15],[2,27,2,29],[8,27,8,29],[4,13,6,16]]}
[null,"Fitting the RNB Model 1 to Nutritional Response Data"]
[null,"Data",null,null,null,null,null,"Sample Statistics",null,null,null,null,null,null,null,null,null,null,"Plotting Parameters",null,null,null,null,"Error Analysis"]
["Point","Input","Output","Residuals","Expected","Qm",null,"Min Input",{"$f":"MIN(B4:B103)","v":0.95},"Min Output",{"$f":"MIN(C4:C103)","v":9.5000000000000001E-2},null,null,"Instructions",null,null,null,null,"Min Input","Max Input","# of Points",null,null,"Lower Asymptote(X0)","Range(X1)","r(X2)","s(X3)","Q0",null,null,null,null,"Number of Observations, T","Number of Regressors, K","sigma"]
[1,0.95,9.5000000000000001E-2,{"$f":"IF(ISBLANK(B4),\"\",C4-($H$8+$I$8/(1+EXP($J$8+$K$8*B4))))","v":6.2851712175751584E-4},{"$f":"IF(ISBLANK(B4),\"\",($H$8+$I$8/(1+EXP($J$8+$K$8*B4))))","v":9.4371482878242485E-2},{"$f":"IF(ISBLANK(B4),\"\",D4^2/E4)","v":4.1859443159542402E-6},null,"Max Input",{"$f":"MAX(B4:B103)","v":1.43},"Max Output",{"$f":"MAX(C4:C103)","v":0.13200000000000001},null,null,"1. Copy data in cells B4:C103",null,null,null,null,0.1,{"$f":"CEILING(I4,1)","v":2},101,null,null,{"$f":"IF(ISBLANK(B4),\"\",1)","v":1},{"$f":"IF(ISBLANK($B4),\"\",1/(1+EXP($J$8+$K$8*$B4)))","v":0.98251730111771063},{"$f":"IF(ISBLANK($B4),\"\",-$I$8*EXP($J$8+$K$8*$B4)/(1+EXP($J$8+$K$8*$B4))^2)","v":-4.1400951682892581E-2},{"$f":"IF(ISBLANK($B4),\"\",-$I$8*B4*EXP($J$8+$K$8*$B4)/(1+EXP($J$8+$K$8*$B4))^2)","v":-3.9330904098747954E-2},{"$f":"SUMPRODUCT(X$4:X$103,X$4:X$103)","v":7},{"$f":"SUMPRODUCT(X$4:X$103,Y$4:Y$103)","v":6.9520356772329563},{"$f":"SUMPRODUCT(X$4:X$103,Z$4:Z$103)","v":-0.11432016472974352},{"$f":"SUMPRODUCT(X$4:X$103,AA$4:AA$103)","v":-0.12250221598421797}]
[{"$f":"A4+1","v":2},1.03,0.107,{"$f":"IF(ISBLANK(B5),\"\",C5-($H$8+$I$8/(1+EXP($J$8+$K$8*B5))))","v":-1.8916019808738888E-3},{"$f":"IF(ISBLANK(B5),\"\",($H$8+$I$8/(1+EXP($J$8+$K$8*B5))))","v":0.10889160198087389},{"$f":"IF(ISBLANK(B5),\"\",D5^2/E5)","v":3.2859816450073901E-5},null,null,null,null,null,null,null,"2. View the data and estimate values for the lower asymptote and the range in cells H8 and I8",null,null,null,null,"Prediction",null,null,null,null,{"$f":"IF(ISBLANK(B5),\"\",1)","v":1},{"$f":"IF(ISBLANK($B5),\"\",1/(1+EXP($J$8+$K$8*$B5)))","v":0.98854162813307289},{"$f":"IF(ISBLANK($B5),\"\",-$I$8*EXP($J$8+$K$8*$B5)/(1+EXP($J$8+$K$8*$B5))^2)","v":-2.7301060374497164E-2},{"$f":"IF(ISBLANK($B5),\"\",-$I$8*B5*EXP($J$8+$K$8*$B5)/(1+EXP($J$8+$K$8*$B5))^2)","v":-2.8120092185732078E-2},{"$f":"SUMPRODUCT(Y$4:Y$103,X$4:X$103)","v":6.9520356772329563},{"$f":"SUMPRODUCT(Y$4:Y$103,Y$4:Y$103)","v":6.9046047951641407},{"$f":"SUMPRODUCT(Y$4:Y$103,Z$4:Z$103)","v":-0.11305234918864182},{"$f":"SUMPRODUCT(Y$4:Y$103,AA$4:AA$103)","v":-0.12122333245522755},null,{"$f":"COUNT(B4:B53)","v":7},4,{"$f":"SQRT(L8/(AG5-AH5))","v":1.9080388991258841E-3}]
[3,1.1100000000000001,0.11899999999999999,5.5357297433267227E-4,0.11844642702566732,2.5871868456202166E-6,null,"Regression",null,null,null,null,null,null,null,null,null,null,"Point","Input","Output",null,null,1,0.99250587871790286,-1.7927323085905691E-2,-1.989932862535532E-2,{"$f":"SUMPRODUCT(Z$4:Z$103,X$4:X$103)","v":-0.11432016472974352},{"$f":"SUMPRODUCT(Z$4:Z$103,Y$4:Y$103)","v":-0.11305234918864182},{"$f":"SUMPRODUCT(Z$4:Z$103,Z$4:Z$103)","v":3.0132503863793173E-3},{"$f":"SUMPRODUCT(Z$4:Z$103,AA$4:AA$103)","v":3.0407215035104392E-3}]
[4,1.19,0.125,2.8806130704017718E-4,0.12471193869295982,6.6536786680856518E-7,null,"Lower Asymptote","Range","r","s","SSE",null,null,null,null,null,null,1,{"$f":"$S$4+(S7-1)*($T$4-$S$4)/($U$4-1)","v":0.1},{"$f":"$H$8+$I$8/(1+EXP($J$8+$K$8*T7))","v":-1.3778943352190769},null,null,1,0.99510540913053547,-1.1739433039141059E-2,-1.3969925316577859E-2,{"$f":"SUMPRODUCT(AA$4:AA$103,X$4:X$103)","v":-0.12250221598421797},{"$f":"SUMPRODUCT(AA$4:AA$103,Y$4:Y$103)","v":-0.12122333245522755},{"$f":"SUMPRODUCT(AA$4:AA$103,Z$4:Z$103)","v":3.0407215035104392E-3},{"$f":"SUMPRODUCT(AA$4:AA$103,AA$4:AA$103)","v":3.0913543118320759E-3}]
[5,1.27,0.13100000000000001,2.1889110952935109E-3,0.12881108890470649,3.7196578523170702E-5,null,-2.2737383817166963,2.4102474957957276,1.0607654445393464,-5.3575490955771823,{"$f":"SUMPRODUCT(D4:D53,D4:D53)","v":1.0921837321732548E-5},null,"3. Guess r and s values in cells G8 and I8 until the predicted line is close to the observed points",null,null,null,null,2,0.11900000000000001,{"$f":"$H$8+$I$8/(1+EXP($J$8+$K$8*T8))","v":-1.3198897256264366},null,null,1,0.99680612667879442,-7.6734386570942465E-3,-9.7452670945096936E-3]
[6,1.35,0.13100000000000001,-4.8889364062243423E-4,0.13148889364062244,1.8177732371398972E-6,null,null,null,null,null,null,null,null,null,null,null,null,3,0.13800000000000001,-1.260641876720406,null,null,1,0.99791713488047784,-5.0097639963651861E-3,-6.7631813950930026E-3,"inv(Q0)"]
[7,1.43,0.13200000000000001,-1.2364765933404742E-3,0.13323647659334048,1.1474893399840038E-5,null,{"$f":"IF(ISNUMBER(H13),H$8-1.96*H$13,\"N/A\")","v":-306.44792444476553},{"$f":"IF(ISNUMBER(I13),I$8-1.96*I$13,\"N/A\")","v":-301.77595729905863},{"$f":"IF(ISNUMBER(J13),J$8-1.96*J$13,\"N/A\")","v":-136.8295455029276},{"$f":"IF(ISNUMBER(K13),K$8-1.96*K$13,\"N/A\")","v":-15.793254889087301},"Lower 95% Confidence Levels",null,"4. Press the button below to run solver with current settings",null,null,null,null,4,0.157,-1.2004260125798658,null,null,1,0.9986421985744619,-3.2681938938475949E-3,-4.6735172682020607E-3,{"$f":"MINVERSE(AB4:AE7)","v":6615430598.4987669},-6615691990.6299191,2998709318.8690305,-223061297.64526817]
[8,null,null,"","","",null,{"$f":"IF(ISNUMBER(H14),H$8+1.96*H$13,\"N/A\")","v":301.9004476813322},{"$f":"IF(ISNUMBER(I14),I$8+1.96*I$13,\"N/A\")","v":306.59645229065006},{"$f":"IF(ISNUMBER(J14),J$8+1.96*J$13,\"N/A\")","v":138.95107639200631},{"$f":"IF(ISNUMBER(K14),K$8+1.96*K$13,\"N/A\")","v":5.0781566979329362},"Upper 95% Confidence Levels",null,null,null,null,null,null,5,0.17599999999999999,-1.1395365524750494,null,null,"","","","",-6615691990.6299849,6615953395.373661,-2998828438.0225196,223070823.24785894]
[9,null,null,"","","",null,null,null,null,null,null,null,null,null,null,null,null,6,0.19500000000000001,-1.0782815501076686,null,null,"","","","",2998709318.8915,-2998828438.04496,1359505316.7745769,-101352702.99986842]
[10,null,null,"","","",null,{"$f":"IF(ISNUMBER(AB10),SQRT(AB10)*$AI$5,\"N/A\")","v":155.19091125665759},{"$f":"IF(ISNUMBER(AC11),SQRT(AC11)*$AI$5,\"N/A\")","v":155.19704326268078},{"$f":"IF(ISNUMBER(AD12),SQRT(AD12)*$AI$5,\"N/A\")","v":70.35219946299334},{"$f":"IF(ISNUMBER(AE13),SQRT(AE13)*$AI$5,\"N/A\")","v":5.3243396905663873},"Standard Errors",null,null,null,null,null,null,7,0.214,-1.0169765534919222,null,null,"","","","",-223061297.6700002,223070823.27258971,-101352703.01032157,7786764.8927891897]
[11,null,null,"","","",null,{"$f":"IF(ISNUMBER(H13),H8/H13,\"N/A\")","v":-1.4651234168967188E-2},{"$f":"IF(ISNUMBER(I13),I8/I13,\"N/A\")","v":1.5530241073705455E-2},{"$f":"IF(ISNUMBER(J13),J8/J13,\"N/A\")","v":1.5077928659463308E-2},{"$f":"IF(ISNUMBER(K13),K8/K13,\"N/A\")","v":-1.0062372814171934},"t-Statistics",null,"5. Solver will attempt to minimize SSE (red cell) by changing cells H8:K8",null,null,null,null,8,0.23299999999999998,-0.95593814082961082,null,null,"","","",""]
[12,null,null,"","","",null,{"$f":"IF(ISNUMBER(H14),2*TDIST(ABS(H14),$AG$5-$AH$5,1),\"N/A\")","v":0.98923031539152073},{"$f":"IF(ISNUMBER(I14),2*TDIST(ABS(I14),$AG$5-$AH$5,1),\"N/A\")","v":0.98858425096747893},{"$f":"IF(ISNUMBER(J14),2*TDIST(ABS(J14),$AG$5-$AH$5,1),\"N/A\")","v":0.98891669625752976},{"$f":"IF(ISNUMBER(K14),2*TDIST(ABS(K14),$AG$5-$AH$5,1),\"N/A\")","v":0.38843115872084949},"p-values",null,null,null,null,null,null,9,0.252,-0.89547741154201632,null,null,"","","",""]
[13,null,null,"","","",null,{"$f":"1-L8/(SUMPRODUCT(C4:C103,C4:C103)-COUNT(C4:C103)*AVERAGE(C4:C103)^2)","v":0.99094375014781722},null,null,null,"Goodness of Fit (R2)",null,null,null,null,null,null,10,0.27100000000000002,-0.83589371494477249,null,null,"","","",""]
[14,null,null,"","","",null,null,null,null,null,null,null,null,null,null,null,null,11,0.29000000000000004,-0.7774688815170121,null,null,"","","",""]
[15,null,null,"","","",null,"Functional Form",null,null,null,null,null,null,null,null,null,null,12,0.309,-0.72046218527831685,null,null,"","","",""]
[16,null,null,"","","",null," y =Lower Asymptote +",null,"Range",null,null,null,null,null,null,null,null,13,0.32799999999999996,-0.66510621442503481,null,null,"","","",""]
[17,null,null,"","","",null,null,null,"1 + er + s×X",null,null,null,null,null,null,null,null,14,0.34699999999999998,-0.61160376648674708,null,null,"","","",""]
[18,null,null,"","","",null,null,null,null,null,null,null,null,null,null,null,null,15,0.36599999999999999,-0.56012581987148757,null,null,"","","",""]
[19,null,null,"","","",null,null,null,null,null,null,null,null,null,null,null,null,16,0.38500000000000001,-0.51081057162037591,null,null,"","","",""]
[20,null,null,"","","",null,null,null,null,null,null,null,null,null,null,null,null,17,0.40400000000000003,-0.46376347645127258,null,null,"","","",""]
[21,null,null,"","","",null,null,null,null,null,null,null,null,null,null,null,null,18,0.42299999999999993,-0.419058178330175,null,null,"","","",""]
[22,null,null,"","","",null,null,null,null,null,null,null,null,null,null,null,null,19,0.44199999999999995,-0.37673819486922211,null,null,"","","",""]
[23,null,null,"","","",null,null,null,null,null,null,null,null,null,null,null,null,20,0.46099999999999997,-0.3368191972508523,null,null,"","","",""]
[24,null,null,"","","",null,null,null,null,null,null,null,null,null,null,null,null,21,0.48,-0.29929172323002118,null,null,"","","",""]
[25,null,null,"","","",null,null,null,null,null,null,null,null,null,null,null,null,22,0.499,-0.2641241662116034,null,null,"","","",""]
[26,null,null,"","","",null,null,null,null,null,null,null,null,null,null,null,null,23,0.51800000000000002,-0.23126589701187195,null,null,"","","",""]
[27,null,null,"","","",null,null,null,null,null,null,null,null,null,null,null,null,24,0.53699999999999992,-0.20065039407656515,null,null,"","","",""]
[28,null,null,"","","",null,null,null,null,null,null,null,null,null,null,null,null,25,0.55599999999999994,-0.17219828014871918,null,null,"","","",""]
[29,null,null,"","","",null,null,null,null,null,null,null,null,null,null,null,null,26,0.57499999999999996,-0.14582018649729411,null,null,"","","",""]
[30,null,null,"","","",null,null,null,null,null,null,null,null,null,null,null,null,27,0.59399999999999997,-0.12141938812735686,null,null,"","","",""]
[31,null,null,"","","",null,null,null,null,null,null,null,null,null,null,null,null,28,0.61299999999999999,-9.8894173679890951E-2,null,null,"","","",""]
[32,null,null,"","","",null,null,null,null,null,null,null,null,null,null,null,null,29,0.6319999999999999,-7.8139931245088778E-2,null,null,"","","",""]
[33,null,null,"","","",null,null,null,null,null,null,null,null,null,null,null,null,30,0.65099999999999991,-5.9050945707376901E-2,null,null,"","","",""]
[{"$f":"A36+1","v":34},null,null,"","","",null,null,null,null,null,null,null,null,null,null,null,null,31,0.66999999999999993,-4.1521914477089084E-2,null,null,"","","",""]
[35,null,null,"","","",null,null,null,null,null,null,null,null,null,null,null,null,32,0.68899999999999995,-2.544919673081969E-2,null,null,"","","",""]
[36,null,null,"","","",null,null,null,null,null,null,null,null,null,null,null,null,33,{"$f":"$S$4+(S39-1)*($T$4-$S$4)/($U$4-1)","v":0.70799999999999996},-1.0731816910632741E-2,null,null,"","","",""]
[37,null,null,"","","",null,null,null,null,null,null,null,null,null,null,null,null,34,0.72699999999999998,2.7277533739917814E-3,null,null,"","","",""]
[38,null,null,"","","",null,null,null,null,null,null,null,null,null,null,null,null,35,0.74599999999999989,1.5023009312352009E-2,null,null,"","","",""]
[39,null,null,"","","",null,null,null,null,null,null,null,null,null,null,null,null,36,0.76500000000000001,2.6242996810966535E-2,null,null,"","","",""]
[40,null,null,"","","",null,null,null,null,null,null,null,null,null,null,null,null,37,0.78399999999999992,3.647204128914483E-2,null,null,"","","",""]
[41,null,null,"","","",null,null,null,null,null,null,null,null,null,null,null,null,38,0.80299999999999994,4.5789597826001227E-2,null,null,"","","",""]
[42,null,null,"","","",null,null,null,null,null,null,null,null,null,null,null,null,39,0.82199999999999995,5.4270201128255202E-2,null,null,"","","",""]
[43,null,null,"","","",null,null,null,null,null,null,null,null,null,null,null,null,40,0.84099999999999997,6.1983496020740159E-2,null,null,"","","",""]
[44,null,null,"","","",null,null,null,null,null,null,null,null,null,null,null,null,41,0.86,6.899433147341627E-2,null,null,"","","",""]
[45,null,null,"","","",null,null,null,null,null,null,null,null,null,null,null,null,42,0.87899999999999989,7.5362903454970542E-2,null,null,"","","",""]
[46,null,null,"","","",null,null,null,null,null,null,null,null,null,null,null,null,43,0.89799999999999991,8.1144934064865115E-2,null,null,"","","",""]
[47,null,null,"","","",null,null,null,null,null,null,null,null,null,null,null,null,44,0.91700000000000004,8.6391876392872824E-2,null,null,"","","",""]
[48,null,null,"","","",null,null,null,null,null,null,null,null,null,null,null,null,45,0.93599999999999994,9.1151136359951757E-2,null,null,"","","",""]
[49,null,null,"","","",null,null,null,null,null,null,null,null,null,null,null,null,46,0.95499999999999996,9.5466304395470658E-2,null,null,"","","",""]
[50,null,null,"","","",null,null,null,null,null,null,null,null,null,null,null,null,47,0.97399999999999987,9.9377391204050092E-2,null,null,"","","",""]
[51,null,null,"","","",null,null,null,null,null,null,null,null,null,null,null,null,48,0.99299999999999999,0.10292106307930116,null,null,"","","",""]
[52,null,null,"","","",null,null,null,null,null,null,null,null,null,null,null,null,49,1.012,0.10613087324536163,null,null,"","","",""]
[53,null,null,"","","",null,null,null,null,null,null,null,null,null,null,null,null,50,1.0309999999999999,0.10903748656700607,null,null,"","","",""]
[54,null,null,"","","",null,null,null,null,null,null,null,null,null,null,null,null,51,1.05,0.11166889568312799,null,null,"","","",""]
[55,null,null,"","","",null,null,null,null,null,null,null,null,null,null,null,null,52,1.069,0.11405062720446191,null,null,"","","",""]
[56,null,null,"","","",null,null,null,null,null,null,null,null,null,null,null,null,53,1.0880000000000001,0.11620593709181559,null,null,"","","",""]
[57,null,null,"","","",null,null,null,null,null,null,null,null,null,null,null,null,54,1.107,0.11815599471177451,null,null,"","","",""]
[58,null,null,"","","",null,null,null,null,null,null,null,null,null,null,null,null,55,1.1260000000000001,0.11992005536746708,null,null,"","","",""]
[59,null,null,"","","",null,null,null,null,null,null,null,null,null,null,null,null,56,1.145,0.12151562133548932,null,null,"","","",""]
[60,null,null,"","","",null,null,null,null,null,null,null,null,null,null,null,null,57,1.1639999999999999,0.12295859161794898,null,null,"","","",""]
[61,null,null,"","","",null,null,null,null,null,null,null,null,null,null,null,null,58,1.1830000000000001,0.12426340075065267,null,null,"","","",""]
[62,null,null,"","","",null,null,null,null,null,null,null,null,null,null,null,null,59,1.202,0.12544314710331728,null,null,"","","",""]
[63,null,null,"","","",null,null,null,null,null,null,null,null,null,null,null,null,60,1.2210000000000001,0.12650971117244225,null,null,"","","",""]
[64,null,null,"","","",null,null,null,null,null,null,null,null,null,null,null,null,61,1.24,0.12747386440829844,null,null,"","","",""]
[65,null,null,"","","",null,null,null,null,null,null,null,null,null,null,null,null,62,1.2589999999999999,0.12834536913941896,null,null,"","","",""]
[{"$f":"A68+1","v":66},null,null,{"$f":"IF(ISBLANK(B69),\"\",C69-($H$8+$I$8/(1+EXP($J$8+$K$8*B69))))","v":""},{"$f":"IF(ISBLANK(B69),\"\",($H$8+$I$8/(1+EXP($J$8+$K$8*B69))))","v":""},{"$f":"IF(ISBLANK(B69),\"\",D69^2/E69)","v":""},null,null,null,null,null,null,null,null,null,null,null,null,63,1.278,0.12913307016517894,null,null,{"$f":"IF(ISBLANK(B69),\"\",1)","v":""},{"$f":"IF(ISBLANK($B69),\"\",1/(1+EXP($J$8+$K$8*$B69)))","v":""},{"$f":"IF(ISBLANK($B69),\"\",-$I$8*EXP($J$8+$K$8*$B69)/(1+EXP($J$8+$K$8*$B69))^2)","v":""},{"$f":"IF(ISBLANK($B69),\"\",-$I$8*B69*EXP($J$8+$K$8*$B69)/(1+EXP($J$8+$K$8*$B69))^2)","v":""}]
[67,null,null,"","","",null,null,null,null,null,null,null,null,null,null,null,null,64,1.2969999999999999,0.12984497858305488,null,null,"","","",""]
[68,null,null,"","","",null,null,null,null,null,null,null,null,null,null,null,null,65,{"$f":"$S$4+(S71-1)*($T$4-$S$4)/($U$4-1)","v":1.3160000000000001},0.13048834840468837,null,null,"","","",""]
[69,null,null,"","","",null,null,null,null,null,null,null,null,null,null,null,null,66,1.3350000000000002,{"$f":"$H$8+$I$8/(1+EXP($J$8+$K$8*T72))","v":0.13106974649631775},null,null,"","","",""]
[70,null,null,"","","",null,null,null,null,null,null,null,null,null,null,null,null,67,1.3540000000000001,0.13159511635621524,null,null,"","","",""]
[71,null,null,"","","",null,null,null,null,null,null,null,null,null,null,null,null,68,1.373,0.13206983621602308,null,null,"","","",""]
[72,null,null,"","","",null,null,null,null,null,null,null,null,null,null,null,null,69,1.3919999999999999,0.1324987719254076,null,null,"","","",""]
[73,null,null,"","","",null,null,null,null,null,null,null,null,null,null,null,null,70,1.411,0.13288632505114606,null,null,"","","",""]
[74,null,null,"","","",null,null,null,null,null,null,null,null,null,null,null,null,71,1.4300000000000002,0.13323647659334048,null,null,"","","",""]
[75,null,null,"","","",null,null,null,null,null,null,null,null,null,null,null,null,72,1.4490000000000001,0.13355282669339941,null,null,"","","",""]
[76,null,null,"","","",null,null,null,null,null,null,null,null,null,null,null,null,73,1.468,0.13383863068113122,null,null,"","","",""]
[77,null,null,"","","",null,null,null,null,null,null,null,null,null,null,null,null,74,1.4869999999999999,0.13409683178203835,null,null,"","","",""]
[78,null,null,"","","",null,null,null,null,null,null,null,null,null,null,null,null,75,1.506,0.13433009078085423,null,null,"","","",""]
[79,null,null,"","","",null,null,null,null,null,null,null,null,null,null,null,null,76,1.5250000000000001,0.1345408129136616,null,null,"","","",""]
[80,null,null,"","","",null,null,null,null,null,null,null,null,null,null,null,null,77,1.544,0.13473117223861975,null,null,"","","",""]
[81,null,null,"","","",null,null,null,null,null,null,null,null,null,null,null,null,78,1.5629999999999999,0.13490313371444795,null,null,"","","",""]
[82,null,null,"","","",null,null,null,null,null,null,null,null,null,null,null,null,79,1.5820000000000001,0.13505847319635489,null,null,"","","",""]
[83,null,null,"","","",null,null,null,null,null,null,null,null,null,null,null,null,80,1.601,0.13519879554101433,null,null,"","","",""]
[84,null,null,"","","",null,null,null,null,null,null,null,null,null,null,null,null,81,1.62,0.13532555099549404,null,null,"","","",""]
[85,null,null,"","","",null,null,null,null,null,null,null,null,null,null,null,null,82,1.6390000000000002,0.13544005002955961,null,null,"","","",""]
[86,null,null,"","","",null,null,null,null,null,null,null,null,null,null,null,null,83,1.6579999999999999,0.1355434767566015,null,null,"","","",""]
[87,null,null,"","","",null,null,null,null,null,null,null,null,null,null,null,null,84,1.677,0.13563690107534576,null,null,"","","",""]
[88,null,null,"","","",null,null,null,null,null,null,null,null,null,null,null,null,85,1.696,0.13572128965253416,null,null,"","","",""]
[89,null,null,"","","",null,null,null,null,null,null,null,null,null,null,null,null,86,1.7150000000000001,0.13579751585579913,null,null,"","","",""]
[90,null,null,"","","",null,null,null,null,null,null,null,null,null,null,null,null,87,1.7340000000000002,0.13586636873591962,null,null,"","","",""]
[91,null,null,"","","",null,null,null,null,null,null,null,null,null,null,null,null,88,1.7529999999999999,0.13592856114849194,null,null,"","","",""]
[92,null,null,"","","",null,null,null,null,null,null,null,null,null,null,null,null,89,1.772,0.13598473709669978,null,null,"","","",""]
[93,null,null,"","","",null,null,null,null,null,null,null,null,null,null,null,null,90,1.7909999999999999,0.13603547836925589,null,null,"","","",""]
[94,null,null,"","","",null,null,null,null,null,null,null,null,null,null,null,null,91,1.81,0.13608131054065131,null,null,"","","",""]
[95,null,null,"","","",null,null,null,null,null,null,null,null,null,null,null,null,92,1.8290000000000002,0.1361227083945673,null,null,"","","",""]
[96,null,null,"","","",null,null,null,null,null,null,null,null,null,null,null,null,93,1.8479999999999999,0.13616010082555219,null,null,"","","",""]
[97,null,null,"","","",null,null,null,null,null,null,null,null,null,null,null,null,94,1.867,0.1361938752688876,null,null,"","","",""]
[98,null,null,"","","",null,null,null,null,null,null,null,null,null,null,null,null,95,1.8860000000000001,0.1362243817038169,null,null,"","","",""]
[99,null,null,"","","",null,null,null,null,null,null,null,null,null,null,null,null,96,1.905,0.13625193627105725,null,null,"","","",""]
[100,null,null,"","","",null,null,null,null,null,null,null,null,null,null,null,null,97,{"$f":"$S$4+(S103-1)*($T$4-$S$4)/($U$4-1)","v":1.9239999999999999},0.13627682454159418,null,null,"","","",""]
[null,null,null,null,{"$f":"SUM(E4:E103)","v":0.83995790971641293},{"$f":"SUM(F4:F103)","v":9.0787560638607557E-5},null,null,null,null,null,null,null,null,null,null,null,null,98,{"$f":"$S$4+(S104-1)*($T$4-$S$4)/($U$4-1)","v":1.9429999999999998},0.13629930447025718]
[null,null,null,null,null,null,null,null,null,null,null,null,null,null,null,null,null,null,99,{"$f":"$S$4+(S105-1)*($T$4-$S$4)/($U$4-1)","v":1.962},0.13631960906437124]
[null,null,null,null,null,null,null,null,null,null,null,null,null,null,null,null,null,null,100,{"$f":"$S$4+(S106-1)*($T$4-$S$4)/($U$4-1)","v":1.9810000000000001},0.13633794879489347]
[null,null,null,null,null,null,null,null,null,null,null,null,null,null,null,null,null,null,101,{"$f":"$S$4+(S107-1)*($T$4-$S$4)/($U$4-1)","v":2},0.13635451377480878]

{"sheet":"RNB, Model 2","index":11,"n_rows":107,"n_cols":33,"rows_kept":107,"cut":false,"hidden":false,"merged":[[1,23,1,25],[2,26,2,28],[1,1,1,3],[5,7,5,10],[1,7,1,10],[1,18,1,20],[13,13,14,15],[17,7,17,10],[18,7,19,10],[2,32,3,32],[4,18,4,20],[6,13,8,15],[2,13,2,15],[2,30,3,30],[2,31,3,31],[15,7,15,9],[4,13,5,15],[6,26,6,28]]}
[null,"Fitting the RNB Model 2 to Nutritional Response Data"]
[null,"Data",null,null,null,null,null,"Sample Statistics",null,null,null,null,null,null,null,null,null,null,"Plotting Parameters",null,null,null,null,"Error Analysis"]
["Point","Input","Output","Residuals","Expected","Qm",null,"Min Input",{"$f":"MIN(B4:B103)","v":0.95},"Min Output",{"$f":"MIN(C4:C103)","v":9.5000000000000001E-2},null,null,"Instructions",null,null,null,null,"Min Input","Max Input","# of Points",null,null,"Intercept(X0)","Maximum(X1)","c(X2)","Q0",null,null,null,"Number of Observations, T","Number of Regressors, K","sigma"]
[1,0.95,9.5000000000000001E-2,{"$f":"IF(ISBLANK(B4),\"\",C4-($H$8+$I$8*(1-EXP(B4*$J$8))))","v":4.7566630056053438E-4},{"$f":"IF(ISBLANK(B4),\"\",($H$8+$I$8*(1-EXP(B4*$J$8))))","v":9.4524333699439467E-2},{"$f":"IF(ISBLANK(B4),\"\",D4^2/E4)","v":2.3936527308236014E-6},null,"Max Input",{"$f":"MAX(B4:B103)","v":1.43},"Max Output",{"$f":"MAX(C4:C103)","v":0.13200000000000001},null,null,"1. Copy data in cells B4:C103",null,null,null,null,0.05,{"$f":"CEILING(I4,1)","v":2},101,null,null,{"$f":"IF(ISBLANK($B4),\"\",1)","v":1},{"$f":"IF(ISBLANK($B4),\"\",(1-EXP($J$8*$B4)))","v":0.99238068181265471},{"$f":"IF(ISBLANK($B4),\"\",-B4*$I$8*EXP($J$8*$B4))","v":-4.0438396290148948E-2},{"$f":"SUMPRODUCT(X$4:X$103,X$4:X$103)","v":7},{"$f":"SUMPRODUCT(X$4:X$103,Y$4:Y$103)","v":6.9786546458518197},{"$f":"SUMPRODUCT(X$4:X$103,Z$4:Z$103)","v":-0.12807832607071765}]
[{"$f":"A4+1","v":2},1.03,0.107,{"$f":"IF(ISBLANK(B5),\"\",C5-($H$8+$I$8*(1-EXP(B5*$J$8))))","v":-1.8614253538287023E-3},{"$f":"IF(ISBLANK(B5),\"\",($H$8+$I$8*(1-EXP(B5*$J$8))))","v":0.1088614253538287},{"$f":"IF(ISBLANK(B5),\"\",D5^2/E5)","v":3.1828577814542159E-5},null,null,null,null,null,null,null,"2. View the data and estimate values for the Intercept in cell H8",null,null,null,null,"Prediction",null,null,null,null,{"$f":"IF(ISBLANK($B5),\"\",1)","v":1},{"$f":"IF(ISBLANK($B5),\"\",(1-EXP($J$8*$B5)))","v":0.99494697844053093},{"$f":"IF(ISBLANK($B5),\"\",-B5*$I$8*EXP($J$8*$B5))","v":-2.9076530521087749E-2},{"$f":"SUMPRODUCT(Y$4:Y$103,X$4:X$103)","v":6.9786546458518197},{"$f":"SUMPRODUCT(Y$4:Y$103,Y$4:Y$103)","v":6.9574125954434027},{"$f":"SUMPRODUCT(Y$4:Y$103,Z$4:Z$103)","v":-0.12749483975041864},null,{"$f":"COUNT(B4:B53)","v":7},3,{"$f":"SQRT(K8/(AE5-AF5))","v":1.6839997375695222E-3}]
[3,1.1100000000000001,0.11899999999999999,6.3042293910187119E-4,0.11836957706089812,3.3575610559237904E-6,null,"Regression",null,null,null,null,null,null,null,null,null,null,"Point","Input","Output",null,null,1,0.99664890922617366,-2.0780853428849101E-2,{"$f":"SUMPRODUCT(Z$4:Z$103,X$4:X$103)","v":-0.12807832607071765},{"$f":"SUMPRODUCT(Z$4:Z$103,Y$4:Y$103)","v":-0.12749483975041864},{"$f":"SUMPRODUCT(Z$4:Z$103,Z$4:Z$103)","v":3.3213636185354003E-3}]
[4,1.19,0.125,3.2475432346057431E-4,0.12467524567653943,8.4592069607753033E-7,null,"Intercept","Range","c","SSE",null,null,"3. Guess values of Maximum and c in cells I8 and J8 until the predicted line is close to the observed points",null,null,null,null,1,{"$f":"$S$4+(S7-1)*($T$4-$S$4)/($U$4-1)","v":0.05},{"$f":"$H$8+$I$8*(1-EXP(T7*$J$8))","v":-4.1848228148044164},null,null,1,0.99777760509385127,-1.4774826942279405E-2,"inv(Q0)"]
[5,1.27,0.13100000000000001,2.1429261495666818E-3,0.12885707385043332,3.5637410855898014E-5,null,-5.4495942364786067,5.5866853031150452,-5.1337562000139032,{"$f":"SUMPRODUCT(D4:D53,D4:D53)","v":1.1343420464536879E-5},null,null,null,null,null,null,null,2,6.9500000000000006E-2,{"$f":"$H$8+$I$8*(1-EXP(T8*$J$8))","v":-3.7731150441304599},null,null,1,0.99852613985945948,-1.0457170838226131E-2,{"$f":"MINVERSE(AA4:AC6)","v":6608935.0100483326},-6605232.8971714331,1303146.5250996316]
[6,1.35,0.13100000000000001,-6.3040177835493871E-4,0.13163040177835494,3.0191080235570474E-6,null,null,null,null,null,null,null,null,null,null,null,null,3,8.8999999999999996E-2,-3.4006267704393567,null,null,1,0.99902255728364742,-7.3718975584132042E-3,-6605232.8971714331,6601533.3427459439,-1302397.9405247457]
[7,1.43,0.13200000000000001,-1.4696327261495279E-3,0.13346963272614953,1.6182110534470203E-5,null,{"$f":"IF(ISNUMBER(H13),H$8-1.96*H$13,\"N/A\")","v":-13.93482839161906},{"$f":"IF(ISNUMBER(I13),I$8-1.96*I$13,\"N/A\")","v":-2.8937960079955918},{"$f":"IF(ISNUMBER(J13),J$8-1.96*J$13,\"N/A\")","v":-6.8101723975883983},"Lower 95% Confidence Levels",null,null,"4. Press the button below to run solver with current settings",null,null,null,null,4,0.1085,-3.0636219239914695,null,null,1,0.99935177413550225,-5.1786504917131146E-3,1303146.5250996316,-1302397.9405247457,257968.9969427032]
[8,null,null,"","","",null,{"$f":"IF(ISNUMBER(H14),H$8+1.96*H$13,\"N/A\")","v":3.0356399186618468},{"$f":"IF(ISNUMBER(I14),I$8+1.96*I$13,\"N/A\")","v":14.067166614225682},{"$f":"IF(ISNUMBER(J14),J$8+1.96*J$13,\"N/A\")","v":-3.4573400024394081},"Upper 95% Confidence Levels",null,null,null,null,null,null,null,5,0.128,-2.7587203349993104,null,null,"","",""]
[9,null,null,"","","",null,null,null,null,null,null,null,null,null,null,null,null,6,0.14750000000000002,-2.4828638304124557,null,null,"","",""]
[10,null,null,"","","",null,{"$f":"IF(ISNUMBER(AA8),SQRT(AA8)*$AG$5,\"N/A\")","v":4.3292010995614563},{"$f":"IF(ISNUMBER(AB9),SQRT(AB9)*$AG$5,\"N/A\")","v":4.3267761791380801},{"$f":"IF(ISNUMBER(AC10),SQRT(AC10)*$AG$5,\"N/A\")","v":0.85531438651759961},"Standard Errors",null,null,null,null,null,null,null,7,0.16699999999999998,-2.2332855603404234,null,null,"","",""]
[11,null,null,"","","",null,{"$f":"IF(ISNUMBER(H13),H8/H13,\"N/A\")","v":-1.2587990511761269},{"$f":"IF(ISNUMBER(I13),I8/I13,\"N/A\")","v":1.2911888833195773},{"$f":"IF(ISNUMBER(J13),J8/J13,\"N/A\")","v":-6.0021861913441192},"t-Statistics",null,null,"5. Solver will attempt to minimize SSE (red cell) by changing cells H8:J8",null,null,null,null,8,0.1865,-2.0074822464564948,null,null,"","",""]
[12,null,null,"","","",null,{"$f":"IF(ISNUMBER(H14),2*TDIST(ABS(H14),$AE$5-$AF$5,1),\"N/A\")","v":0.27656009247022989},{"$f":"IF(ISNUMBER(I14),2*TDIST(ABS(I14),$AE$5-$AF$5,1),\"N/A\")","v":0.26620358754882756},{"$f":"IF(ISNUMBER(J14),2*TDIST(ABS(J14),$AE$5-$AF$5,1),\"N/A\")","v":3.8773562869718519E-3},"p-values",null,null,null,null,null,null,null,9,0.20600000000000002,-1.8031890740330785,null,null,"","",""]
[13,null,null,"","","",null,{"$f":"1-K8/(SUMPRODUCT(C4:C103,C4:C103)-COUNT(C4:C103)*AVERAGE(C4:C103)^2)","v":0.99059417871928956},null,null,"Goodness of Fit (R2)",null,null,null,null,null,null,null,10,0.22550000000000003,-1.6183569757748688,null,null,"","",""]
[14,null,null,"","","",null,null,null,null,null,null,null,null,null,null,null,null,11,0.245,-1.4511320796059128,null,null,"","",""]
[15,null,null,"","","",null,"Functional Form",null,null,null,null,null,null,null,null,null,null,12,0.26450000000000001,-1.299837114271198,null,null,"","",""]
[16,null,null,"","","",null,"y = a + b×(1 – ec×X)",null,null,null,null,null,null,null,null,null,null,13,0.28399999999999997,-1.1629545862503399,null,null,"","",""]
[17,null,null,"","","",null,null,null,null,null,null,null,null,null,null,null,null,14,0.30349999999999999,-1.0391115592472326,null,null,"","",""]
[18,null,null,"","","",null,null,null,null,null,null,null,null,null,null,null,null,15,0.32300000000000001,-0.92706588359346931,null,null,"","",""]
[19,null,null,"","","",null,null,null,null,null,null,null,null,null,null,null,null,16,0.34249999999999997,-0.82569373744596497,null,null,"","",""]
[20,null,null,"","","",null,null,null,null,null,null,null,null,null,null,null,null,17,0.36199999999999999,-0.73397835481659612,null,null,"","",""]
[21,null,null,"","","",null,null,null,null,null,null,null,null,null,null,null,null,18,0.38149999999999995,-0.65099982737561835,null,null,"","",""]
[22,null,null,"","","",null,null,null,null,null,null,null,null,null,null,null,null,19,0.40100000000000002,-0.57592587774060622,null,null,"","",""]
[23,null,null,"","","",null,null,null,null,null,null,null,null,null,null,null,null,20,0.42049999999999998,-0.5080035117067041,null,null,"","",""]
[24,null,null,"","","",null,null,null,null,null,null,null,null,null,null,null,null,21,0.44,-0.44655146568977511,null,null,"","",""]
[25,null,null,"","","",null,null,null,null,null,null,null,null,null,null,null,null,22,0.45949999999999996,-0.39095337363005545,null,null,"","",""]
[26,null,null,"","","",null,null,null,null,null,null,null,null,null,null,null,null,23,0.47899999999999998,-0.34065158482013658,null,null,"","",""]
[27,null,null,"","","",null,null,null,null,null,null,null,null,null,null,null,null,24,0.4985,-0.2951415706498679,null,null,"","",""]
[28,null,null,"","","",null,null,null,null,null,null,null,null,null,null,null,null,25,0.51800000000000002,-0.25396686416766912,null,null,"","",""]
[29,null,null,"","","",null,null,null,null,null,null,null,null,null,null,null,null,26,0.53749999999999998,-0.21671448170185847,null,null,"","",""]
[30,null,null,"","","",null,null,null,null,null,null,null,null,null,null,null,null,27,0.55700000000000005,-0.18301078062073639,null,null,"","",""]
[31,null,null,"","","",null,null,null,null,null,null,null,null,null,null,null,null,28,0.57650000000000001,-0.15251771168458905,null,null,"","",""]
[32,null,null,"","","",null,null,null,null,null,null,null,null,null,null,null,null,29,0.59600000000000009,-0.12492942840060817,null,null,"","",""]
[33,null,null,"","","",null,null,null,null,null,null,null,null,null,null,null,null,30,0.61550000000000005,-9.9969219372421314E-2,null,null,"","",""]
[{"$f":"A36+1","v":34},null,null,"","","",null,null,null,null,null,null,null,null,null,null,null,null,31,0.63500000000000001,-7.7386732875605269E-2,null,null,"","",""]
[35,null,null,"","","",null,null,null,null,null,null,null,null,null,null,null,null,32,0.65449999999999997,-5.6955465821593165E-2,null,null,"","",""]
[36,null,null,"","","",null,null,null,null,null,null,null,null,null,null,null,null,33,{"$f":"$S$4+(S39-1)*($T$4-$S$4)/($U$4-1)","v":0.67400000000000004},-3.8470491924178951E-2,null,null,"","",""]
[37,null,null,"","","",null,null,null,null,null,null,null,null,null,null,null,null,34,0.69350000000000001,-2.1746406282069586E-2,null,null,"","",""]
[38,null,null,"","","",null,null,null,null,null,null,null,null,null,null,null,null,35,0.71299999999999997,-6.6154657615795642E-3,null,null,"","",""]
[39,null,null,"","","",null,null,null,null,null,null,null,null,null,null,null,null,36,0.73250000000000004,7.0740934725694871E-3,null,null,"","",""]
[40,null,null,"","","",null,null,null,null,null,null,null,null,null,null,null,null,37,0.75200000000000011,1.9459578153542267E-2,null,null,"","",""]
[41,null,null,"","","",null,null,null,null,null,null,null,null,null,null,null,null,38,0.77149999999999996,3.0665215103486965E-2,null,null,"","",""]
[42,null,null,"","","",null,null,null,null,null,null,null,null,null,null,null,null,39,0.79100000000000004,4.0803397232674676E-2,null,null,"","",""]
[43,null,null,"","","",null,null,null,null,null,null,null,null,null,null,null,null,40,0.8105,4.9975810844117952E-2,null,null,"","",""]
[44,null,null,"","","",null,null,null,null,null,null,null,null,null,null,null,null,41,0.83000000000000007,5.8274455550566984E-2,null,null,"","",""]
[45,null,null,"","","",null,null,null,null,null,null,null,null,null,null,null,null,42,0.84950000000000003,6.5782567033672024E-2,null,null,"","",""]
[46,null,null,"","","",null,null,null,null,null,null,null,null,null,null,null,null,43,0.86899999999999999,7.2575451900636523E-2,null,null,"","",""]
[47,null,null,"","","",null,null,null,null,null,null,null,null,null,null,null,null,44,0.88849999999999996,7.8721243011976583E-2,null,null,"","",""]
[48,null,null,"","","",null,null,null,null,null,null,null,null,null,null,null,null,45,0.90800000000000003,8.4281582856380766E-2,null,null,"","",""]
[49,null,null,"","","",null,null,null,null,null,null,null,null,null,null,null,null,46,0.92749999999999999,8.9312241826910999E-2,null,null,"","",""]
[50,null,null,"","","",null,null,null,null,null,null,null,null,null,null,null,null,47,0.94700000000000006,9.3863677599896E-2,null,null,"","",""]
[51,null,null,"","","",null,null,null,null,null,null,null,null,null,null,null,null,48,0.96649999999999991,9.7981541227099456E-2,null,null,"","",""]
[52,null,null,"","","",null,null,null,null,null,null,null,null,null,null,null,null,49,0.98599999999999999,0.10170713501728113,null,null,"","",""]
[53,null,null,"","","",null,null,null,null,null,null,null,null,null,null,null,null,50,1.0055000000000001,0.10507782679972522,null,null,"","",""]
[54,null,null,"","","",null,null,null,null,null,null,null,null,null,null,null,null,51,1.0249999999999999,0.10812742472480696,null,null,"","",""]
[55,null,null,"","","",null,null,null,null,null,null,null,null,null,null,null,null,52,1.0445,0.11088651636086322,null,null,"","",""]
[56,null,null,"","","",null,null,null,null,null,null,null,null,null,null,null,null,53,1.0640000000000001,0.11338277548851394,null,null,"","",""]
[57,null,null,"","","",null,null,null,null,null,null,null,null,null,null,null,null,54,1.0834999999999999,0.11564123966960693,null,null,"","",""]
[58,null,null,"","","",null,null,null,null,null,null,null,null,null,null,null,null,55,1.103,0.11768456137478367,null,null,"","",""]
[59,null,null,"","","",null,null,null,null,null,null,null,null,null,null,null,null,56,1.1225000000000001,0.11953323518852166,null,null,"","",""]
[60,null,null,"","","",null,null,null,null,null,null,null,null,null,null,null,null,57,1.1420000000000001,0.12120580337048725,null,null,"","",""]
[61,null,null,"","","",null,null,null,null,null,null,null,null,null,null,null,null,58,1.1615,0.12271904183501992,null,null,"","",""]
[62,null,null,"","","",null,null,null,null,null,null,null,null,null,null,null,null,59,1.181,0.1240881284141091,null,null,"","",""]
[63,null,null,"","","",null,null,null,null,null,null,null,null,null,null,null,null,60,1.2005000000000001,0.12532679509155376,null,null,"","",""]
[64,null,null,"","","",null,null,null,null,null,null,null,null,null,null,null,null,61,1.22,0.12644746573521193,null,null,"","",""]
[65,null,null,"","","",null,null,null,null,null,null,null,null,null,null,null,null,62,1.2395,0.12746138070880786,null,null,"","",""]
[{"$f":"A68+1","v":66},null,null,{"$f":"IF(ISBLANK(B69),\"\",C69-($H$8+$I$8*(1-EXP(B69*$J$8))))","v":""},{"$f":"IF(ISBLANK(B69),\"\",($H$8+$I$8*(1-EXP(B69*$J$8))))","v":""},{"$f":"IF(ISBLANK(B69),\"\",D69^2/E69)","v":""},null,null,null,null,null,null,null,null,null,null,null,null,63,1.2589999999999999,0.12837870961315812,null,null,{"$f":"IF(ISBLANK($B69),\"\",1)","v":""},{"$f":"IF(ISBLANK($B69),\"\",(1-EXP($J$8*$B69)))","v":""},{"$f":"IF(ISBLANK($B69),\"\",-B69*$I$8*EXP($J$8*$B69))","v":""}]
[67,null,null,"","","",null,null,null,null,null,null,null,null,null,null,null,null,64,1.2785,0.12920865328759579,null,null,"","",""]
[68,null,null,"","","",null,null,null,null,null,null,null,null,null,null,null,null,65,{"$f":"$S$4+(S71-1)*($T$4-$S$4)/($U$4-1)","v":1.298},0.1299595360947059,null,null,"","",""]
[69,null,null,"","","",null,null,null,null,null,null,null,null,null,null,null,null,66,1.3175000000000001,{"$f":"$H$8+$I$8*(1-EXP(T72*$J$8))","v":0.13063888941394719},null,null,"","",""]
[70,null,null,"","","",null,null,null,null,null,null,null,null,null,null,null,null,67,1.337,0.13125352718164329,null,null,"","",""]
[71,null,null,"","","",null,null,null,null,null,null,null,null,null,null,null,null,68,1.3565,0.13180961423499138,null,null,"","",""]
[72,null,null,"","","",null,null,null,null,null,null,null,null,null,null,null,null,69,1.3759999999999999,0.13231272814558004,null,null,"","",""]
[73,null,null,"","","",null,null,null,null,null,null,null,null,null,null,null,null,70,1.3955,0.13276791516262065,null,null,"","",""]
[74,null,null,"","","",null,null,null,null,null,null,null,null,null,null,null,null,71,1.415,0.13317974082698925,null,null,"","",""]
[75,null,null,"","","",null,null,null,null,null,null,null,null,null,null,null,null,72,1.4344999999999999,0.13355233576376158,null,null,"","",""]
[76,null,null,"","","",null,null,null,null,null,null,null,null,null,null,null,null,73,1.4540000000000002,0.13388943711250878,null,null,"","",""]
[77,null,null,"","","",null,null,null,null,null,null,null,null,null,null,null,null,74,1.4735,0.134194426010942,null,null,"","",""]
[78,null,null,"","","",null,null,null,null,null,null,null,null,null,null,null,null,75,1.4929999999999999,0.13447036150782576,null,null,"","",""]
[79,null,null,"","","",null,null,null,null,null,null,null,null,null,null,null,null,76,1.5125,0.13472001124534838,null,null,"","",""]
[80,null,null,"","","",null,null,null,null,null,null,null,null,null,null,null,null,77,1.532,0.13494587921865531,null,null,"","",""]
[81,null,null,"","","",null,null,null,null,null,null,null,null,null,null,null,null,78,1.5515000000000001,0.13515023089101152,null,null,"","",""]
[82,null,null,"","","",null,null,null,null,null,null,null,null,null,null,null,null,79,1.571,0.13533511591646885,null,null,"","",""]
[83,null,null,"","","",null,null,null,null,null,null,null,null,null,null,null,null,80,1.5904999999999998,0.13550238869796427,null,null,"","",""]
[84,null,null,"","","",null,null,null,null,null,null,null,null,null,null,null,null,81,1.61,0.13565372698704437,null,null,"","",""]
[85,null,null,"","","",null,null,null,null,null,null,null,null,null,null,null,null,82,1.6294999999999999,0.13579064871176794,null,null,"","",""]
[86,null,null,"","","",null,null,null,null,null,null,null,null,null,null,null,null,83,1.649,0.13591452720157537,null,null,"","",""]
[87,null,null,"","","",null,null,null,null,null,null,null,null,null,null,null,null,84,1.6685000000000001,0.13602660496182839,null,null,"","",""]
[88,null,null,"","","",null,null,null,null,null,null,null,null,null,null,null,null,85,1.6879999999999999,0.13612800613617893,null,null,"","",""]
[89,null,null,"","","",null,null,null,null,null,null,null,null,null,null,null,null,86,1.7075,0.13621974778177037,null,null,"","",""]
[90,null,null,"","","",null,null,null,null,null,null,null,null,null,null,null,null,87,1.7269999999999999,0.13630275007034864,null,null,"","",""]
[91,null,null,"","","",null,null,null,null,null,null,null,null,null,null,null,null,88,1.7465000000000002,0.13637784551762433,null,null,"","",""]
[92,null,null,"","","",null,null,null,null,null,null,null,null,null,null,null,null,89,1.766,0.13644578733342172,null,null,"","",""]
[93,null,null,"","","",null,null,null,null,null,null,null,null,null,null,null,null,90,1.7854999999999999,0.1365072569764072,null,null,"","",""]
[94,null,null,"","","",null,null,null,null,null,null,null,null,null,null,null,null,91,1.8049999999999999,0.13656287098913911,null,null,"","",""]
[95,null,null,"","","",null,null,null,null,null,null,null,null,null,null,null,null,92,1.8245,0.13661318718200999,null,null,"","",""]
[96,null,null,"","","",null,null,null,null,null,null,null,null,null,null,null,null,93,1.8440000000000001,0.13665871022810272,null,null,"","",""]
[97,null,null,"","","",null,null,null,null,null,null,null,null,null,null,null,null,94,1.8634999999999999,0.13669989672507921,null,null,"","",""]
[98,null,null,"","","",null,null,null,null,null,null,null,null,null,null,null,null,95,1.8829999999999998,0.13673715977487166,null,null,"","",""]
[99,null,null,"","","",null,null,null,null,null,null,null,null,null,null,null,null,96,1.9025000000000001,0.13677087312710334,null,null,"","",""]
[100,null,null,"","","",null,null,null,null,null,null,null,null,null,null,null,null,97,{"$f":"$S$4+(S103-1)*($T$4-$S$4)/($U$4-1)","v":1.9219999999999999},0.13680137492781697,null,null,"","",""]
[null,null,null,null,{"$f":"SUM(E4:E103)","v":0.84038769014564352},{"$f":"SUM(F4:F103)","v":9.3264341711292339E-5},null,null,null,null,null,null,null,null,null,null,null,null,98,{"$f":"$S$4+(S104-1)*($T$4-$S$4)/($U$4-1)","v":1.9415},0.13682897111108439]
[null,null,null,null,null,null,null,null,null,null,null,null,null,null,null,null,null,null,99,{"$f":"$S$4+(S105-1)*($T$4-$S$4)/($U$4-1)","v":1.9610000000000001},0.13685393846753957]
[null,null,null,null,null,null,null,null,null,null,null,null,null,null,null,null,null,null,100,{"$f":"$S$4+(S106-1)*($T$4-$S$4)/($U$4-1)","v":1.9804999999999999},0.13687652742059697]
[null,null,null,null,null,null,null,null,null,null,null,null,null,null,null,null,null,null,101,{"$f":"$S$4+(S107-1)*($T$4-$S$4)/($U$4-1)","v":2},0.13689696453820144]

{"sheet":"Multiple Range Tests","index":12,"n_rows":9,"n_cols":12,"rows_kept":9,"cut":false,"hidden":false,"merged":[[2,11,2,13]]}
[]
[null,null,"Multiple"]
[null,null,null,null,null,"Range",null,null,null,null,null,"Instructions:  If there are ordered pairs of data, and the values of x are continuous, then some form of regression best describes the data.  And all points are assumed to have different \"y values\" (responses) as long as the slope is not equal to zero."]
[null,null,null,null,null,null,null,"Tests"]
[null,null,null,"Should NEVER be Used"]
[]
[null,null,null,null,null,"To Determine Nutritional Requirements:"]
[]
[null,null,null,null,"(The Devil Made Me Do It!)"]

{"sheet":"Test Data Generator","index":13,"n_rows":112,"n_cols":16,"rows_kept":112,"cut":false,"hidden":false,"merged":[[10,5,11,5],[17,11,18,11],[13,11,14,11],[15,11,16,11],[5,11,6,11],[7,11,8,11],[9,11,10,11],[10,7,11,7],[11,11,12,11],[1,0,1,12],[2,12,2,15],[10,0,11,0],[2,4,2,8],[3,4,3,9],[10,1,11,1],[3,11,4,11],[7,4,8,9],[6,4,6,9],[4,4,5,9],[10,8,11,8],[10,9,11,9],[10,2,11,2],[10,6,11,6],[10,4,11,4],[10,3,11,3]]}
[null,null,"Random Data Generator"]
["This spreadsheet generates 100 random inputs points in the selected range and then generates outputs by adding random noise around each model. Model parameters can be adjsuted to produce required data. Data can be copied to other spreadsheets for testing the goodness of fit"]
[null,null,null,null,"Instructions",null,null,null,null,null,null,"Model","Parameters"]
[null,"Min","Max",null,"1. Adjust values in cells B4 and C4 for a desired range of inputs",null,null,null,null,null,null,"Broken Line","Max","Rate Constant","Requirement"]
["Range",0,1.25,null,"2. Adjust model parameter in the Table K3:017 to generate corrresponding outputs",null,null,null,null,null,null,null,250,-175,0.75]
[null,null,null,null,null,null,null,null,null,null,null,"Broken Line Quadratic","Max","Rate Constant","Requirement"]
[null,null,null,null,"3. Generated data are ploted on separate graphs for each model",null,null,null,null,null,null,null,250,-250,0.75]
[null,null,null,null,"Note: Data are regenerated every time the spreadsheet changes, e.g. due to saving, changing cells, etc. To force data regeneration, Press F9",null,null,null,null,null,null,"Saturation Kinetics","Max","Rate Constant","Intercept","Kinetic Order"]
[null,null,null,null,null,null,null,null,null,null,null,null,250,0.05,75,8]
[null,null,null,null,null,null,null,null,null,null,null,"Logistics, 3 parameters","Max","Intercept","Scale"]
["Observation","Input","Broken Line","Broken Line Quadratic","Saturation Kinetics","Logistics, 3 Parameters","Logistics, 4 Parameters","Compartmental Model","RNB, Model 1","RNB, Model 2",null,null,250,20,5]
[null,null,null,null,null,null,null,null,null,null,null,"Logistics, 4 parameters","Max","Intercept","Shape","Scale"]
[1,{"$f":"$B$5+($C$5-$B$5)*RAND()","v":0.39263171863462676},{"$f":"IF($B13<$O$5,$M$5+$N$5*($O$5-$B13),$M$5)+(RAND()-0.5)*0.1*$M$5","v":192.27602420361859},{"$f":"IF($B13<$O$7,$M$7+$N$7*($O$7-$B13)^2,$M$7)+(RAND()-0.5)*0.1*$M$7","v":215.27256832202758},{"$f":"($O$9*$N$9+$M$9*$B13^$P$9)/($N$9+$B13^$P$9)+(RAND()-0.5)*0.1*$M$9","v":72.013310275369463},{"$f":"$M$11*$N$11*EXP($O$11*B13)/($M$11+$N$11*(EXP($O$11*B13)-1))+(RAND()-0.5)*0.1*$M$11","v":100.3375647753699},{"$f":"($M$13+($N$13*(1+$O$13)-$M$13)*EXP(-$P$13*$B13))/(1+$O$13*EXP(-$P$13*$B13))+(RAND()-0.5)*0.1*$M$13","v":222.8007339293566},{"$f":"$M$15*EXP(-$N$15*B13)*(1-EXP(-$O$15*(B13-$P$15)))+(RAND()-0.5)*0.1*$M$15","v":10.882525958119913},{"$f":"$M$17+$N$17/(1+EXP($O$17+$P$17*B13))+(RAND()-0.5)*0.05*($M$17+$N$17)","v":181.34672060556284},{"$f":"$M$19+$N$19*(1-EXP($O$19*B13))+(RAND()-0.5)*0.1*($M$19+$N$19)","v":208.51868486296144},null,null,250,20,7,12]
[2,{"$f":"$B$5+($C$5-$B$5)*RAND()","v":1.197444973734076},{"$f":"IF($B14<$O$5,$M$5+$N$5*($O$5-$B14),$M$5)+(RAND()-0.5)*0.1*$M$5","v":254.58383404362525},{"$f":"IF($B14<$O$7,$M$7+$N$7*($O$7-$B14)^2,$M$7)+(RAND()-0.5)*0.1*$M$7","v":243.75889778972251},{"$f":"($O$9*$N$9+$M$9*$B14^$P$9)/($N$9+$B14^$P$9)+(RAND()-0.5)*0.1*$M$9","v":240.62816073223362},{"$f":"$M$11*$N$11*EXP($O$11*B14)/($M$11+$N$11*(EXP($O$11*B14)-1))+(RAND()-0.5)*0.1*$M$11","v":237.59387376336309},{"$f":"($M$13+($N$13*(1+$O$13)-$M$13)*EXP(-$P$13*$B14))/(1+$O$13*EXP(-$P$13*$B14))+(RAND()-0.5)*0.1*$M$13","v":250.11863900774671},{"$f":"$M$15*EXP(-$N$15*B14)*(1-EXP(-$O$15*(B14-$P$15)))+(RAND()-0.5)*0.1*$M$15","v":62.646375300750314},{"$f":"$M$17+$N$17/(1+EXP($O$17+$P$17*B14))+(RAND()-0.5)*0.05*($M$17+$N$17)","v":250.68407593216662},{"$f":"$M$19+$N$19*(1-EXP($O$19*B14))+(RAND()-0.5)*0.1*($M$19+$N$19)","v":244.16125400045652},null,"Compartmental Model","a","b","c","d"]
[3,0.35411785997064099,181.78389264117581,207.19416340659473,85.042336160613985,86.498048909186252,226.60889415688268,17.615548213932392,169.15389821906982,195.58993206643834,null,null,250,0.5,0.7,0.25]
[4,1.168093473838608,254.12978355966308,253.01937137006524,240.23397409914583,236.57208794632405,256.4258642765638,72.262082936712147,251.19423741912047,240.67749839072152,null,"RND, Model 1","Lower Asymptote","Range","r","s"]
[5,0.16130789585856314,147.22501632836358,158.90026743904403,76.17305664113799,44.86265914105568,120.82557074615757,-4.7287486030561077,147.8128225622323,139.40796939788265,null,null,150,100,5,-11.070705581042926]
[6,1.1181082399418241,255.62542367155481,256.08915153431781,241.94649580482732,243.73522647990509,237.56254528085412,56.327440855004134,253.64450034516639,238.30437193430265,null,"RND, Model 2","Intercept","Range","c"]
[7,1.0639890879517557,247.81453831477805,239.43996123724443,246.66439672183586,240.60750116002683,257.2615750235023,65.429819918042639,247.89469037665299,245.8520350832452,null,null,80,170,-3]
[8,0.39814040867823197,192.93566740407613,216.56003705483872,71.317353441367004,106.70735409133626,236.14871814253218,18.10613779547894,190.00260067294866,193.0384347884968]
[9,0.55618956758669702,225.13462532889534,233.91333755110688,108.06606690962417,156.1646741152523,249.64126730784108,32.966047695489152,231.66186039933837,213.27007573293329]
[10,0.51465945670853763,196.67459795416201,238.70185998601329,83.289267083000013,145.41693371317743,258.72073729837712,24.835772677387975,221.96557970258556,207.92166768840647]
[11,0.92226952198487644,257.60913615955246,246.99739208070565,226.29971985555198,218.65444067822344,246.35533473690785,61.510594262211754,248.46840476415619,249.6796865380243]
[12,1.0254505543999517,255.25888383513745,248.78288324200105,254.01594505447534,226.228729877593,245.44603173569311,74.817321963711578,244.23753494085989,236.8177275535615]
[13,3.7786984870349372E-2,117.81115751206171,125.46839321142008,82.745985948800822,11.777965821100642,26.460803356732498,-26.899280316985216,151.0248917026976,104.50175499330278]
[14,0.30089634847923902,169.89588165417061,200.42796332571547,76.805233539801037,65.900310874675299,207.24154989856635,16.233691088674895,161.99098345698212,191.09032490088396]
[15,0.49318881690601324,212.2196824983113,236.04305199128743,83.562984666876034,128.16890624745656,233.92178775813133,22.727340959323051,209.29411675301191,198.85138046808024]
[16,0.48813079325880637,197.75550901226026,235.13830288101161,87.927485019558588,119.20216765300191,238.23184942702005,29.707984087135472,213.23694785864694,221.63263814572062]
[17,3.2209531036977851E-2,114.34277142354409,122.55268259584324,72.125244319261,21.325754786357095,26.268430017307587,-28.904111030891414,154.08277270978678,88.578103998866908]
[18,0.14591462239880601,155.68266482851206,150.098721185475,80.243982015479133,34.776849694095354,112.10385882541661,-28.202852026175222,157.10621035313343,133.64586872581174]
[19,0.34388357971041106,180.16674240218458,196.47211275403677,73.567914812553795,77.636408092165766,222.25202212601866,2.1790225457759345,170.58395964124074,193.0315703645349]
[20,0.85642042351243231,241.02070693347068,261.92680296821612,214.56504611184414,221.66639185621526,246.05816413372315,52.134855055980793,252.4278109650426,235.7950491969315]
[21,0.4512279074357925,188.32877568572223,231.93584333846553,75.047579451080253,122.90859499656017,244.44763046974134,29.080193250477812,195.5947054756839,216.50183594351674]
[22,0.29565372893147079,166.53806147079996,198.65425198084898,66.79609071718609,75.997564415450839,196.19063620444351,13.861511309877676,159.58287004408481,168.35094864963568]
[23,0.94099089659798341,240.89261093648227,240.97704446402886,245.76926491399863,225.08842915903054,259.26227007105916,57.125338082367989,252.78001452775177,244.39397056970586]
[24,0.4398561318640094,204.63158007901774,230.06343097106136,77.308656854311323,106.95814488183862,241.5516474018973,23.727547130857051,192.82162359036286,210.5949801015704]
[25,1.1982708349689517,251.41270763392902,245.32076414703064,242.50786827158467,235.90310976786083,246.73584799166576,67.53722874567687,253.67057597470807,252.25535985795122]
[26,0.49623321059676345,208.51657362532501,228.84397559911253,86.255002189223148,123.69732129988988,255.27012562403769,41.37879355633514,209.56473390320593,216.05759040892792]
[27,1.245019894767577,238.46717208767626,248.76274160610578,256.52516667658955,241.67934626530368,247.08675435462774,67.071301834993093,245.01518790832827,245.44529267440058]
[28,0.53688214592751915,206.09065408268361,240.7987958280581,91.256796016692647,132.37831332881365,254.93424514073584,37.818084108230771,228.19819357344406,214.15129634765913]
[29,0.61052524299519262,216.75699108325733,234.46237581017152,124.69648057276181,172.7108598365528,240.80940816241471,36.398833869665303,229.54803953791338,217.75818012537371]
[30,0.30012483502227488,178.1301914847156,186.943008662425,82.522449398675107,68.525140324221695,201.15123368356916,6.9572410879499786,170.88561990928937,191.70387676845462]
[31,0.3903574599475032,189.53926346906573,216.58313677634663,66.190164709432864,86.13143051497994,237.50201556507443,23.846123507785759,180.09912192631651,196.86229155300177]
[32,3.9031142505805416E-2,137.88590282074696,117.23364618259481,63.562950404281708,15.560424267902079,40.805006651765346,-27.828646733030084,155.5781476922927,88.946524689523102]
[33,1.207906798022186,253.09060782063239,247.70160912798249,237.99359700752856,251.63825627650635,254.63587314996488,56.632107333417295,252.29923563013563,235.22982113719581]
[34,1.020230772833401,244.34596538836973,253.03159636109498,245.86793278291634,228.78200038345364,255.34910949069138,64.808040574556856,246.191500538989,244.46317712134689]
[35,0.64857919784251639,225.84164176566867,243.01154746399075,135.63460954503606,183.3296825992106,243.21765041156939,34.801044825925395,243.88638888638138,238.05054669718058]
[36,0.72552944814106302,238.41698143458885,242.99712615329443,179.53556533418026,187.36987592606818,261.65240258609231,53.883936645854611,246.54467769655793,221.37530071816914]
[37,3.5070404283775169E-2,114.33530214258444,120.94311661794227,79.714175849171468,28.864480805025398,38.133203007505536,-40.462133135577162,153.30391381710601,90.669271769138263]
[38,0.68996367085886035,236.70362836304406,252.65461940374664,157.08629303954501,190.96922931337417,248.69350194696224,39.070328314891114,237.18807275236412,222.61766382988864]
[39,0.22031081760237159,163.32250629161388,187.05701223229647,72.677005931642611,44.372426572641935,161.67984986448238,-0.38078360907687792,157.11337365809169,168.75233992881132]
[40,4.3811515845711968E-2,122.18599701084455,119.11262637975011,67.465594775871054,26.729830079596496,46.535296990138093,-47.316865983996394,155.53986281498294,111.77944124191697]
[41,1.0398683528145394,243.64802911489051,245.16026805846258,231.38431653024668,244.33606929969176,257.59415524867865,65.873072143178206,244.23895615925554,230.02855164783517]
[42,1.2496471402240745,254.03312747951196,240.27457528587274,260.82046850009527,239.90522659989787,242.43331700549905,67.784737068590303,251.41660016830733,254.5218052447172]
[43,0.86371715239445779,258.90045026611045,242.72118338837771,231.90006039832045,207.9430057295111,251.20624597294631,67.601848262863498,250.79787448110699,239.80880602280629]
[44,0.12011984358999986,148.75609734172539,145.26211123112193,82.699901731118757,41.399468913734466,96.784684832665491,-33.623869134510073,152.55983326706874,142.30832469837648]
[45,0.49567089077134208,215.47962521112134,240.07686638776153,79.001136278013107,118.30568028615392,252.37863030306784,33.155277316784471,208.2675707738654,216.33117980959756]
[46,0.69086015854042637,245.64618089972163,255.48256616829087,173.24003149818759,172.31467498700596,259.15258113083411,49.069606326420761,241.84470005608631,235.78995848972724]
[47,1.048892116921939,242.3302044899776,254.49138581175129,245.29176998053003,234.19730823785343,245.32500503320472,60.16741116571049,254.42603527757225,254.50854090397604]
[48,0.92891204565541297,249.30861121842187,248.46505943724952,246.10184412769331,220.97875931607689,252.85274718402414,52.745763466900094,254.62651248830852,240.29290563663071]
[49,0.16334184325639642,151.77919586479871,169.68418847182582,63.676461997702276,34.055484504095475,122.96173131507629,-18.960299484207411,151.92024678158327,137.66797684381996]
[50,1.1889376785672756,261.76573528567678,260.03485312669073,244.7240661498009,243.7586790725218,260.09320144802126,59.131402572915967,252.38816765892182,239.31348925606608]
[51,1.1457043506479683,258.4411465832859,257.24779628530212,244.8354608555909,238.97633612081762,245.48439928423772,61.024944202423924,254.39839416761191,242.26225554215728]
[52,0.61295168631094588,224.42261013318046,251.81024298241536,132.76049689681031,171.91212939092711,243.37434515650574,36.419800962834671,238.33664978181162,231.3466808531233]
[53,0.74432966853239912,245.88331109799071,252.49010481075084,190.09928478253195,183.36766872262103,246.69542268890578,54.410767237221123,251.18672646403954,228.35058778085522]
[54,0.91212370184026781,254.48159324945595,241.42455100958728,241.13835519423955,226.92097299185318,247.57967357213025,56.68177061574206,254.30783402450732,244.21106220274947]
[55,0.46540532504882981,197.04107729127463,238.90728584207849,85.691703518504013,116.50925045649352,248.58290293011211,40.064903698493389,204.05223913054468,197.00531075268046]
[56,9.1650320935067059E-2,146.55524824539762,139.4886677284081,77.603093867230186,37.965732114164389,59.39556494339201,-31.998105702251735,151.16620028943393,126.40442039585183]
[57,1.1602026639947896,261.79683312767543,251.03212198406254,246.95554124231816,250.53135952594636,239.20605040811003,60.48226204860282,253.82728333091757,248.16593820921611]
[58,1.0135180000427961,259.04973001833747,250.49268579478991,231.31552500020706,227.35384500953742,251.11793499519572,72.568072161707349,248.91420725346251,244.4477631172968]
[59,0.60771368109024859,213.4598250537708,243.09499290651155,115.70530761013535,152.66104598088455,257.14073252405217,49.921117367550984,230.38750074235972,227.83496065271606]
[60,0.5521354323428953,223.71359424640954,228.68865982605251,93.172512594963607,151.38787311461095,245.03238213559163,24.907251687695432,228.10055560154274,221.78345085210228]
[61,8.7537299934985352E-2,138.83172672637835,141.97911020252135,76.194967236388123,24.766287116681355,53.283906250277319,-35.130079061984041,152.90730927262925,130.83423466613453]
[62,1.1260921135077688,260.41908178917612,255.68904310521359,251.81926462324867,234.17173484670113,262.03261914102393,75.255581546079341,246.42687446904267,255.10727357537078]
[63,0.79046403353326589,244.22586659547855,261.52474747689917,219.03651304224064,207.2662436486759,238.64818897726758,44.440164599717242,244.84333260446729,225.30257607421339]
[64,0.45999968938234159,192.52432443265246,236.28633039734794,91.699998371475758,114.66778032618994,232.22579012997545,28.748649167373983,196.41034443068,209.11842656753612]
[65,1.043963697235242,242.19132142680652,250.02085334323763,236.87820067663182,238.35289770023974,250.91727832246622,65.391519362651835,252.49869018840766,242.01405209432625]
[66,{"$f":"$B$5+($C$5-$B$5)*RAND()","v":0.3878690038175443},{"$f":"IF($B78<$O$5,$M$5+$N$5*($O$5-$B78),$M$5)+(RAND()-0.5)*0.1*$M$5","v":188.31609085284674},{"$f":"IF($B78<$O$7,$M$7+$N$7*($O$7-$B78)^2,$M$7)+(RAND()-0.5)*0.1*$M$7","v":224.92579709120193},{"$f":"($O$9*$N$9+$M$9*$B78^$P$9)/($N$9+$B78^$P$9)+(RAND()-0.5)*0.1*$M$9","v":83.585637705692136},{"$f":"$M$11*$N$11*EXP($O$11*B78)/($M$11+$N$11*(EXP($O$11*B78)-1))+(RAND()-0.5)*0.1*$M$11","v":99.302919834645238},{"$f":"($M$13+($N$13*(1+$O$13)-$M$13)*EXP(-$P$13*$B78))/(1+$O$13*EXP(-$P$13*$B78))+(RAND()-0.5)*0.1*$M$13","v":236.79568829023367},{"$f":"$M$15*EXP(-$N$15*B78)*(1-EXP(-$O$15*(B78-$P$15)))+(RAND()-0.5)*0.1*$M$15","v":11.800398015029986},{"$f":"$M$17+$N$17/(1+EXP($O$17+$P$17*B78))+(RAND()-0.5)*0.05*($M$17+$N$17)","v":182.39801547105586},{"$f":"$M$19+$N$19*(1-EXP($O$19*B78))+(RAND()-0.5)*0.1*($M$19+$N$19)","v":207.6347174583627}]
[67,0.92926276146594056,239.19460419033189,258.06848622913122,229.90423935618642,214.06857571005395,257.9273795583735,69.670951309395647,244.55942341503507,236.17082614394522]
[68,0.77682581246525784,254.33884475551341,250.08686712857929,211.34458157068417,196.10062542258737,254.01051597576938,53.933689605746622,242.10105846873026,229.82644704021305]
[69,0.30332253736286313,169.83157882309993,194.4427299989861,70.323612444808745,69.428318933679009,214.91916448020123,10.736799449250972,163.84307334602883,173.95070956248537]
[70,0.96714589321813582,246.37465359576169,239.42586706544648,249.24099130194207,228.96924354257445,242.89426992116935,58.554264724256981,252.74323695623011,251.86682329696023]
[71,8.9396258273014145E-2,133.88506690321816,153.16561793145149,69.265536911488425,20.55051638210157,63.541648530482419,-31.199194723837497,153.97484953601173,124.47830574254614]
[72,0.5072872558771051,210.51507059268283,227.54193512411359,90.977317767410966,135.62339475727239,252.4815906183785,41.864356071782268,219.01479014125235,214.93220783566562]
[73,0.96983463897453104,258.48440568519504,252.10006717575405,232.41016329914615,238.87029635603727,240.22073028112339,68.889000251222811,252.51293563630006,250.68404141893626]
[74,0.94218811875688502,259.51307604027619,254.927021049969,242.714850283396,229.39743185824469,250.11112631358307,58.75537803109259,249.17716847191946,241.82054458084269]
[75,0.48647528608967772,213.63718085307045,235.17093338840672,89.925811106409796,133.21857108252678,236.37347062280045,31.610641130917386,214.61156253382396,208.14534999069809]
[76,1.1608890192240024,242.55835298937336,241.30874903790709,249.0994358605887,248.50166451505103,246.20442151725734,62.478565924203593,250.60137197762521,246.65644372480287]
[77,0.26594473560488729,172.49169003510301,194.35086213942242,86.438931644348656,53.91507745586803,183.27586309526228,10.114775301408599,159.7694316683795,162.88703604016322]
[78,0.46388945355629863,208.39111306968923,232.7343533421913,94.361071636882542,119.01770432738238,243.38722970191134,16.163056763663811,207.90901729377964,203.20519853452615]
[79,3.3610986103214807E-2,126.45824469822563,127.7737147910413,74.688446057441752,35.087099686639135,21.362130025054991,-44.429523597815034,153.19309232382577,90.343764487217811]
[80,1.0895017458009397,259.3745244379229,250.79319964613987,236.43497209885325,248.06792120388542,255.00038316565116,60.327103533941894,248.73834934870897,239.52938745159199]
[81,1.2085865520011339,240.13548345345077,257.61371733774945,250.25703209199787,240.84402111705319,252.32962607087927,66.140394238858164,254.41176024885021,255.45747510401938]
[82,0.34272109433122755,171.60164997048423,198.10286289022946,75.215839374074193,88.675044411032871,221.3929746756975,4.3906702987292938,167.08160178238816,195.56139025030782]
[83,0.71915012521087918,241.50431113188154,252.53231189892281,171.21662504125257,200.1765608799885,244.35362999052239,38.108589305243775,250.96431443120707,223.872554967084]
[84,0.71712366155706442,238.62861991998187,242.13006077764314,176.6373570465841,198.89283491769112,244.17752243278059,45.412489696049803,245.17335609050511,221.06250500922448]
[85,0.69452353869456696,250.22886558228143,253.67231538778256,154.81939902840008,190.77705333003649,238.44254116369112,47.011078994223489,244.45582150703069,240.48103535682912]
[86,1.1495221170889327,255.03874667926726,240.8200258264992,252.88957663586621,248.28860849905467,255.58601282854292,75.475676431718981,256.00372574411944,233.66682722549993]
[87,0.35674657102455887,173.7092922990729,216.43103497966669,74.758704921793054,84.977745449429577,235.42187198760092,18.043357071415588,179.40612631797416,189.98458913663683]
[88,1.014380192013316,257.92710219740752,244.32898704837493,230.42510927473563,221.18686947047672,242.60706323001429,73.059061240973321,248.31652082873867,233.90322552884203]
[89,0.91704755502589652,258.65693594005438,251.03313814337918,230.84175086933894,230.24224123747359,254.86392399439973,51.341153155570836,255.33138430291442,247.65597475628755]
[90,0.46178097430502008,194.21081651868761,227.74957524414791,81.081445056914333,117.27554405719206,231.25582554755027,22.523011630968846,204.60077056411774,195.56539663415091]
[91,0.99094483382669174,242.0301632525003,247.75622352685477,246.4945079535936,218.92250380309667,261.69577748074403,53.909366275327109,250.10959003349836,238.79967898553406]
[92,0.74044085273661919,238.74504445687595,240.32768768103639,182.5722583820878,196.81124298691714,250.12467087661423,59.863442288241252,247.51831079630921,241.59181841209704]
[93,0.46341773718919133,201.42721382630364,226.15805051058138,90.415851687015035,111.30920915803377,247.24408394774596,24.362614958787205,201.83122684705421,200.52531644013183]
[94,0.99348554956643198,253.95369476532446,241.090301491735,235.54531270675992,225.50326196540442,255.23164076979128,54.477883521560983,245.56905774145716,237.06576871716476]
[95,0.23363072200698942,157.54934412617638,191.30627960284059,79.23207196941506,64.93251367242803,173.13144705373628,3.2285903932742586,163.17666907702957,165.68085837077913]
[96,0.18555721804354913,148.60982579607796,163.11291582045931,75.92203254212582,55.029365238318377,130.36195121818895,-9.2795406782156142,160.04394235606861,163.03365497940666]
[97,0.27674720625990845,174.10051648643861,185.70357189875912,87.295253759374489,74.91948889790072,202.90070462196755,11.389751961234587,157.44237146731257,171.90208303075602]
[98,0.80483303061609501,245.72206205422054,251.59221009926131,204.73057255923644,196.83351458647732,247.96546277852036,55.327089204553154,250.91793857255942,242.13134532896856]
[99,0.72519926603592499,243.47658659718397,243.91629059051641,174.72622308666539,183.00181393851943,261.68993040565761,58.729764689693326,245.2937912105613,233.12890722127821]
[100,{"$f":"$B$5+($C$5-$B$5)*RAND()","v":0.86624482607188369},245.09729265799012,248.8743433478212,234.65552207423065,210.48805962182732,255.96252558603095,59.075079055744602,254.65923375502533,239.23249831626364]

{"sheet":"Sheet1","index":22,"n_rows":45,"n_cols":3,"rows_kept":45,"cut":false,"hidden":false,"merged":[]}
[]
[null,1.27,84.795321637426895]
[null,1.35,89.473684210526315]
[null,1.43,100]
[null,1.51,95.906432748538009]
[null,1.59,96.491228070175438]
[null,1.67,83.040935672514621]
[null,1.35,88.937093275488067]
[null,1.46,91.323210412147503]
[null,1.56,100]
[null,1.65,96.963123644251624]
[null,1.75,95.661605206073759]
[null,1.36,85.121951219512198]
[null,1.47,94.146341463414629]
[null,1.56,96.829268292682926]
[null,1.65,99.756097560975604]
[null,1.75,100]
[null,1.35,98.081534772182252]
[null,1.46,102.39808153477219]
[null,1.56,102.39808153477219]
[null,1.65,101.19904076738608]
[null,1.75,98.081534772182252]
[null,1.18,87.489643744821876]
[null,1.26,88.400994200497095]
[null,1.33,92.957746478873233]
[null,1.4,94.863297431648718]
[null,1.47,99.917149958574981]
[null,1.54,100]
[null,1.19,89.920948616600796]
[null,1.28,89.130434782608688]
[null,1.37,94.466403162055329]
[null,1.46,100]
[null,1.55,97.233201581027672]
[null,1.19,85.066162570888466]
[null,1.28,91.304347826086953]
[null,1.37,94.517958412098295]
[null,1.46,94.706994328922505]
[null,1.55,98.298676748582224]
[null,1.64,100]
[null,1.19,90.843806104129271]
[null,1.28,94.075403949730699]
[null,1.37,98.025134649910228]
[null,1.46,100]
[null,1.55,99.461400359066431]
[null,1.64,98.74326750448833]